BEGIN:VCALENDAR
VERSION:2.0
PRODID:-//ExcelNotes - ECPv6.15.20//NONSGML v1.0//EN
CALSCALE:GREGORIAN
METHOD:PUBLISH
X-WR-CALNAME:ExcelNotes
X-ORIGINAL-URL:https://excelnotes.com
X-WR-CALDESC:Events for ExcelNotes
REFRESH-INTERVAL;VALUE=DURATION:PT1H
X-Robots-Tag:noindex
X-PUBLISHED-TTL:PT1H
BEGIN:VTIMEZONE
TZID:America/New_York
BEGIN:DAYLIGHT
TZOFFSETFROM:-0500
TZOFFSETTO:-0400
TZNAME:EDT
DTSTART:20250309T070000
END:DAYLIGHT
BEGIN:STANDARD
TZOFFSETFROM:-0400
TZOFFSETTO:-0500
TZNAME:EST
DTSTART:20251102T060000
END:STANDARD
BEGIN:DAYLIGHT
TZOFFSETFROM:-0500
TZOFFSETTO:-0400
TZNAME:EDT
DTSTART:20260308T070000
END:DAYLIGHT
BEGIN:STANDARD
TZOFFSETFROM:-0400
TZOFFSETTO:-0500
TZNAME:EST
DTSTART:20261101T060000
END:STANDARD
BEGIN:DAYLIGHT
TZOFFSETFROM:-0500
TZOFFSETTO:-0400
TZNAME:EDT
DTSTART:20270314T070000
END:DAYLIGHT
BEGIN:STANDARD
TZOFFSETFROM:-0400
TZOFFSETTO:-0500
TZNAME:EST
DTSTART:20271107T060000
END:STANDARD
END:VTIMEZONE
BEGIN:VEVENT
DTSTART;VALUE=DATE:20261111
DTEND;VALUE=DATE:20261112
DTSTAMP:20260422T185109
CREATED:20251112T042621Z
LAST-MODIFIED:20251112T042914Z
UID:10000753-1794355200-1794441599@excelnotes.com
SUMMARY:Remembrance Day (Bermuda)
DESCRIPTION:Remembrance Day in Bermuda honors the men and women who served and sacrificed their lives in the World Wars and other military conflicts. The day aligns with global commemorations marking the end of World War I in 1918. Ceremonies are held across the island. The day serves as a solemn reminder of courage\, service and peace\, reflecting Bermuda's deep respect for those who defended freedom at home and abroad. \nWhen is Remembrance Day?\nRemembrance Day in Bermuda is observed on November 11 every year.  \nThe following is the list of Remembrance Day from 2020 to 2049. \n   \n\n                \n                \n                            \n                            \n                            \n                    \n        \n\n                                                        HolidayDateWeekday\n\n\n\n        \n            Remembrance DayNov 11\, 2020Wednesday        \n            \n            Remembrance DayNov 11\, 2021Thursday        \n            \n            Remembrance DayNov 11\, 2022Friday        \n            \n            Remembrance DayNov 11\, 2023Saturday        \n            \n            Remembrance DayNov 11\, 2024Monday        \n            \n            Remembrance DayNov 11\, 2025Tuesday        \n            \n            Remembrance DayNov 11\, 2026Wednesday        \n            \n            Remembrance DayNov 11\, 2027Thursday        \n            \n            Remembrance DayNov 11\, 2028Saturday        \n            \n            Remembrance DayNov 11\, 2029Sunday        \n            \n            Remembrance DayNov 11\, 2030Monday        \n            \n            Remembrance DayNov 11\, 2031Tuesday        \n            \n            Remembrance DayNov 11\, 2032Thursday        \n            \n            Remembrance DayNov 11\, 2033Friday        \n            \n            Remembrance DayNov 11\, 2034Saturday        \n            \n            Remembrance DayNov 11\, 2035Sunday        \n            \n            Remembrance DayNov 11\, 2036Tuesday        \n            \n            Remembrance DayNov 11\, 2037Wednesday        \n            \n            Remembrance DayNov 11\, 2038Thursday        \n            \n            Remembrance DayNov 11\, 2039Friday        \n            \n            Remembrance DayNov 11\, 2040Sunday        \n            \n            Remembrance DayNov 11\, 2041Monday        \n            \n            Remembrance DayNov 11\, 2042Tuesday        \n            \n            Remembrance DayNov 11\, 2043Wednesday        \n            \n            Remembrance DayNov 11\, 2044Friday        \n            \n            Remembrance DayNov 11\, 2045Saturday        \n            \n            Remembrance DayNov 11\, 2046Sunday        \n            \n            Remembrance DayNov 11\, 2047Monday        \n            \n            Remembrance DayNov 11\, 2048Wednesday        \n            \n            Remembrance DayNov 11\, 2049Thursday        \n    \n    \n    \n    \n    \n\n\nThe History of Remembrance Day?\nRemembrance Day in Bermuda honors the island's servicemen and women who fought and died in the World Wars and subsequent conflicts. Like many Commonwealth nations\, Bermuda observes this day in conjunction with Armistice Day\, marking the end of World War I on November 11\, 1918. \nWhen the armistice was signed between the Allies and Germany\, ending hostilities on the Western Front\, nations across the British Empire began observing Armistice Day to remember those who made the ultimate sacrifice. In Bermuda\, then a British colony\, the holiday quickly took root as islanders joined the wider Commonwealth in paying tribute to fallen soldiers. \nDuring World War I (1914–1918)\, over 500 Bermudians served in various branches of the British armed forces\, despite the island's small population. Bermudian units such as the Bermuda Volunteer Rifle Corps (BVRC) and the Bermuda Militia Artillery (BMA) played active roles overseas\, fighting in places like France\, Belgium and the Middle East. Their bravery earned distinction and respect\, though many never returned home. \nThe tradition of remembrance continued through World War II (1939–1945)\, during which more Bermudians enlisted and served across Europe\, Africa\, and the Atlantic. After the Second World War\, the commemoration evolved from Armistice Day into Remembrance Day\, expanding to honor all who served in later conflicts as well. \nRemembrance Day continues to serve as a day of reflection and gratitude\, honoring not only those who died but also all Bermudians who served in military or peacekeeping roles. It is both a public holiday and a solemn civic tradition\, marked by dignity\, unity\, and reverence. \nThe red poppy\, adopted from the famous World War I poem "In Flanders Fields"\, remains the central symbol of remembrance. Islanders wear it proudly to show respect for the sacrifices made in defense of peace and freedom. \nToday\, Remembrance Day in Bermuda links the island's small but proud contribution to global history with a timeless message of remembrance\, resilience and hope for peace.
URL:https://excelnotes.com/holiday/remembrance-day-bermuda/
CATEGORIES:Memorial Holiday
ATTACH;FMTTYPE=image/jpeg:https://excelnotes.com/wp-content/uploads/2025/11/Remembrance-Day-Bermuda.jpg
END:VEVENT
END:VCALENDAR