BEGIN:VCALENDAR
VERSION:2.0
PRODID:-//ExcelNotes - ECPv6.15.20//NONSGML v1.0//EN
CALSCALE:GREGORIAN
METHOD:PUBLISH
X-WR-CALNAME:ExcelNotes
X-ORIGINAL-URL:https://excelnotes.com
X-WR-CALDESC:Events for ExcelNotes
REFRESH-INTERVAL;VALUE=DURATION:PT1H
X-Robots-Tag:noindex
X-PUBLISHED-TTL:PT1H
BEGIN:VTIMEZONE
TZID:America/New_York
BEGIN:DAYLIGHT
TZOFFSETFROM:-0500
TZOFFSETTO:-0400
TZNAME:EDT
DTSTART:20240310T070000
END:DAYLIGHT
BEGIN:STANDARD
TZOFFSETFROM:-0400
TZOFFSETTO:-0500
TZNAME:EST
DTSTART:20241103T060000
END:STANDARD
BEGIN:DAYLIGHT
TZOFFSETFROM:-0500
TZOFFSETTO:-0400
TZNAME:EDT
DTSTART:20250309T070000
END:DAYLIGHT
BEGIN:STANDARD
TZOFFSETFROM:-0400
TZOFFSETTO:-0500
TZNAME:EST
DTSTART:20251102T060000
END:STANDARD
BEGIN:DAYLIGHT
TZOFFSETFROM:-0500
TZOFFSETTO:-0400
TZNAME:EDT
DTSTART:20260308T070000
END:DAYLIGHT
BEGIN:STANDARD
TZOFFSETFROM:-0400
TZOFFSETTO:-0500
TZNAME:EST
DTSTART:20261101T060000
END:STANDARD
END:VTIMEZONE
BEGIN:VEVENT
DTSTART;VALUE=DATE:20250419
DTEND;VALUE=DATE:20250420
DTSTAMP:20260419T101207
CREATED:20241226T004805Z
LAST-MODIFIED:20250913T174850Z
UID:10000107-1745020800-1745107199@excelnotes.com
SUMMARY:Holy Saturday
DESCRIPTION:Holy Saturday\, also Black Saturday or Easter Saturday\, is a solemn day in the Christian calendar that marks the final day of Holy Week. It commemorates the time Jesus Christ's body lay in the tomb after His crucifixion\, and it is a day of reflection and preparation for the celebration of His resurrection. \nTable of Contents\n\nWhen is Holy Saturday?\nThe History of Holy Saturday?\nWhat Do People Do on This Day?\nWestern and Orthodox Holy Saturday\n\nWhen is Holy Saturday?\nHoly Saturday is the day between Good Friday and Easter Sunday. It is part of the Christian observance of Holy Week and falls on the Saturday before Easter each year. The exact date varies because Easter is a movable feast determined by the lunar calendar. \nThe following is the list of Holy Saturday in Western churches from 2020 to 2049.\n   \n\n                \n                \n                            \n                            \n                            \n                    \n        \n\n                                                        HolidayDateWeekday\n\n\n\n        \n            Holy SaturdayApr 11\, 2020Saturday        \n            \n            Holy SaturdayApr 03\, 2021Saturday        \n            \n            Holy SaturdayApr 16\, 2022Saturday        \n            \n            Holy SaturdayApr 08\, 2023Saturday        \n            \n            Holy SaturdayMar 30\, 2024Saturday        \n            \n            Holy SaturdayApr 19\, 2025Saturday        \n            \n            Holy SaturdayApr 04\, 2026Saturday        \n            \n            Holy SaturdayMar 27\, 2027Saturday        \n            \n            Holy SaturdayApr 15\, 2028Saturday        \n            \n            Holy SaturdayMar 31\, 2029Saturday        \n            \n            Holy SaturdayApr 20\, 2030Saturday        \n            \n            Holy SaturdayApr 12\, 2031Saturday        \n            \n            Holy SaturdayMar 27\, 2032Saturday        \n            \n            Holy SaturdayApr 16\, 2033Saturday        \n            \n            Holy SaturdayApr 08\, 2034Saturday        \n            \n            Holy SaturdayMar 24\, 2035Saturday        \n            \n            Holy SaturdayApr 12\, 2036Saturday        \n            \n            Holy SaturdayApr 04\, 2037Saturday        \n            \n            Holy SaturdayApr 24\, 2038Saturday        \n            \n            Holy SaturdayApr 09\, 2039Saturday        \n            \n            Holy SaturdayMar 31\, 2040Saturday        \n            \n            Holy SaturdayApr 20\, 2041Saturday        \n            \n            Holy SaturdayApr 05\, 2042Saturday        \n            \n            Holy SaturdayMar 28\, 2043Saturday        \n            \n            Holy SaturdayApr 16\, 2044Saturday        \n            \n            Holy SaturdayApr 08\, 2045Saturday        \n            \n            Holy SaturdayMar 24\, 2046Saturday        \n            \n            Holy SaturdayApr 13\, 2047Saturday        \n            \n            Holy SaturdayApr 04\, 2048Saturday        \n            \n            Holy SaturdayApr 17\, 2049Saturday        \n    \n    \n    \n    \n    \n\n\nThe History of Holy Saturday?\nHoly Saturday is a significant day in the Christian liturgical calendar. It is a day of silence\, mourning\, and anticipation\, reflecting on Christ's time in the tomb and the hope of His resurrection. \nAccording to the Gospels\, after Jesus's crucifixion on Good Friday\, His body was taken down from the cross and placed in a tomb provided by Joseph of Arimathea. A large stone was rolled across the entrance\, and Roman guards were stationed there. Holy Saturday represents the day Jesus's body lay in the tomb\, a time of grief and despair for His disciples. Holy Saturday bridges the sorrow of Good Friday with the joy of Easter Sunday\, embodying the tension between death and new life. \nEarly Christians treated Holy Saturday as a day of solemn mourning\, reflecting on the death of Christ and awaiting His resurrection. The day was marked by fasting and prayer. By the 2nd century\, the Easter Vigil emerged as a key part of Holy Saturday observance. This nighttime service celebrated the resurrection and served as the first celebration of Easter. \nThe First Council of Nicaea in 325 AD formalized the date of Easter and reinforced the Easter Vigil as the most significant celebration of the liturgical year. Holy Saturday became closely tied to this vigil\, with its themes of waiting and transition to joy. \nDuring the medieval era\, Holy Saturday was a day of quiet mourning\, with altars stripped and church services minimal during the day. The evening marked the start of the Easter Vigil\, which included the lighting of the Paschal Candle\, symbolizing Christ as the Light of the World. \nWith the Reformation in the 16th century\, many Protestant traditions retained the observance of Holy Saturday as a time of quiet reflection\, though some abandoned the elaborate rituals of the Easter Vigil. The Catholic Church continued to emphasize the Easter Vigil as the pinnacle of Holy Saturday\, aligning it with the celebration of the resurrection. \nIn modern time\, Holy Saturday's observances become simpler\, focusing more on preparation for Easter Sunday. \nWhat Do People Do on This Day?\nDuring the day\, many Christians spend time in prayer and contemplation\, reflecting on Jesus's sacrifice and the mystery of His time in the tomb. Churches often maintain a subdued atmosphere\, with the altar bare and the Eucharist absent until the Easter Vigil. \nThe Easter Vigil is held after sunset and it is the central liturgical celebration of Holy Saturday. The Easter Vigil includes the service of light\, liturgy of the word\, Baptismal liturgy\, and the Eucharistic celebration. The lighting of the Paschal Candle is a significant moment\, symbolizing the victory of light over darkness and life over death. \nMany families use Holy Saturday to prepare for Easter Sunday such as decorating Easter eggs and preparing festive meals\, while some families clean and decorate their homes in preparation for Easter\, reflecting the themes of renewal and new life. \nMany Christians engage in acts of kindness\, such as helping the less fortunate or donating to charity\, reflecting on Christ's sacrifice and love. \nWestern and Orthodox Holy Saturday\nHoly Saturday is observed by both Western Christianity and Orthodox Christianity as part of the Easter Triduum or Holy Week\, respectively. While both traditions commemorate Jesus Christ's time in the tomb\, the focus\, tone\, and liturgical practices differ due to theological emphasis and cultural variations. \nName: Holy Saturday is part of the Easter Triduum. Orthodox Holy Saturday\, also known as Great and Holy Saturday\, is part of Holy Week. \nFocus: Holy Saturday reflects on Jesus's time in the tomb and the sorrow of His followers. Orthodox Holy Saturday emphasizes Christ's descent into Hades and triumph over death. \nLiturgical tone: Holy Saturday is reflective and solemn during the day\, transitioning to joyful anticipation during the Easter Vigil at night. Orthodox Holy Saturday begins solemnly but transitions to a joyful anticipation of Pascha (Easter) during the Divine Liturgy. \nService: The main service for Holy Saturday is the Easter Vigil\, held after sunset\, celebrating the resurrection. The services on Orthodox Holy Saturday are the Vesperal Divine Liturgy that celebrated in the morning or afternoon\, and preparations for the Paschal Vigil at midnight. \nCultural traditions: Easter egg decorating\, food preparations and quiet reflection are traditions for Holy Saturday\, while baking traditional foods\, decorating red eggs\, and preparing for Paschal celebrations are common on Orthodox Holy Saturday.
URL:https://excelnotes.com/holiday/holy-saturday/
CATEGORIES:Christianity
ATTACH;FMTTYPE=image/jpeg:https://excelnotes.com/wp-content/uploads/2024/12/Holy-Saturday.jpg
END:VEVENT
BEGIN:VEVENT
DTSTART;VALUE=DATE:20250418
DTEND;VALUE=DATE:20250419
DTSTAMP:20260419T101207
CREATED:20250417T043943Z
LAST-MODIFIED:20250417T043943Z
UID:10000237-1744934400-1745020799@excelnotes.com
SUMMARY:Independence Day Zimbabwe
DESCRIPTION:Independence Day in Zimbabwe marks the day in 1980 when Zimbabwe officially gained independence from British colonial rule and became a sovereign nation. \nWhen is Independence Day?\nIndependence Day in Zimbabwe is celebrated annually on April 18th.  \nThe following is the list of Independence Day from 2020 to 2049. \n   \n\n                \n                \n                            \n                            \n                            \n                    \n        \n\n                                                        HolidayDateWeekday\n\n\n\n        \n            Independence DayApr 18\, 2020Saturday        \n            \n            Independence DayApr 18\, 2021Sunday        \n            \n            Independence DayApr 18\, 2022Monday        \n            \n            Independence DayApr 18\, 2023Tuesday        \n            \n            Independence DayApr 18\, 2024Thursday        \n            \n            Independence DayApr 18\, 2025Friday        \n            \n            Independence DayApr 18\, 2026Saturday        \n            \n            Independence DayApr 18\, 2027Sunday        \n            \n            Independence DayApr 18\, 2028Tuesday        \n            \n            Independence DayApr 18\, 2029Wednesday        \n            \n            Independence DayApr 18\, 2030Thursday        \n            \n            Independence DayApr 18\, 2031Friday        \n            \n            Independence DayApr 18\, 2032Sunday        \n            \n            Independence DayApr 18\, 2033Monday        \n            \n            Independence DayApr 18\, 2034Tuesday        \n            \n            Independence DayApr 18\, 2035Wednesday        \n            \n            Independence DayApr 18\, 2036Friday        \n            \n            Independence DayApr 18\, 2037Saturday        \n            \n            Independence DayApr 18\, 2038Sunday        \n            \n            Independence DayApr 18\, 2039Monday        \n            \n            Independence DayApr 18\, 2040Wednesday        \n            \n            Independence DayApr 18\, 2041Thursday        \n            \n            Independence DayApr 18\, 2042Friday        \n            \n            Independence DayApr 18\, 2043Saturday        \n            \n            Independence DayApr 18\, 2044Monday        \n            \n            Independence DayApr 18\, 2045Tuesday        \n            \n            Independence DayApr 18\, 2046Wednesday        \n            \n            Independence DayApr 18\, 2047Thursday        \n            \n            Independence DayApr 18\, 2048Saturday        \n            \n            Independence DayApr 18\, 2049Sunday        \n    \n    \n    \n    \n    \n\n\nThe History of Independence Day?\nIndependence Day in Zimbabwe marks the country's official transition from colonial rule to independence in 1980. \nIn the late 19th century\, British colonists under Cecil Rhodes established control over the territory\, naming it Southern Rhodesia. \nIt became a self-governing British colony in 1923\, but power remained in the hands of the white minority\, excluding the Black African majority from political participation. \nBy the 1950s and 1960s\, growing African nationalism led to the formation of political movements. These movements initiated an armed liberation war in the 1960s\, known as the Second Chimurenga\, against the Rhodesian government led by Ian Smith\, who had declared unilateral independence from Britain in 1965\, maintaining white-minority rule. \nAfter years of violent conflict and international pressure\, peace talks culminated in the Lancaster House Agreement in December 1979. \nThe agreement called for democratic elections under British supervision and the establishment of majority rule. \nOn April 18\, 1980\, Zimbabwe became an independent republic. Robert Mugabe\, leader of ZANU-PF\, became the country's first Prime Minister.
URL:https://excelnotes.com/holiday/independence-day-zimbabwe/
CATEGORIES:Political Holiday
ATTACH;FMTTYPE=image/jpeg:https://excelnotes.com/wp-content/uploads/2025/04/Independence-Day-Zimbabwe.jpg
END:VEVENT
END:VCALENDAR