BEGIN:VCALENDAR
VERSION:2.0
PRODID:-//ExcelNotes - ECPv6.15.20//NONSGML v1.0//EN
CALSCALE:GREGORIAN
METHOD:PUBLISH
X-WR-CALNAME:ExcelNotes
X-ORIGINAL-URL:https://excelnotes.com
X-WR-CALDESC:Events for ExcelNotes
REFRESH-INTERVAL;VALUE=DURATION:PT1H
X-Robots-Tag:noindex
X-PUBLISHED-TTL:PT1H
BEGIN:VTIMEZONE
TZID:America/New_York
BEGIN:DAYLIGHT
TZOFFSETFROM:-0500
TZOFFSETTO:-0400
TZNAME:EDT
DTSTART:20250309T070000
END:DAYLIGHT
BEGIN:STANDARD
TZOFFSETFROM:-0400
TZOFFSETTO:-0500
TZNAME:EST
DTSTART:20251102T060000
END:STANDARD
BEGIN:DAYLIGHT
TZOFFSETFROM:-0500
TZOFFSETTO:-0400
TZNAME:EDT
DTSTART:20260308T070000
END:DAYLIGHT
BEGIN:STANDARD
TZOFFSETFROM:-0400
TZOFFSETTO:-0500
TZNAME:EST
DTSTART:20261101T060000
END:STANDARD
BEGIN:DAYLIGHT
TZOFFSETFROM:-0500
TZOFFSETTO:-0400
TZNAME:EDT
DTSTART:20270314T070000
END:DAYLIGHT
BEGIN:STANDARD
TZOFFSETFROM:-0400
TZOFFSETTO:-0500
TZNAME:EST
DTSTART:20271107T060000
END:STANDARD
END:VTIMEZONE
BEGIN:VEVENT
DTSTART;VALUE=DATE:20260402
DTEND;VALUE=DATE:20260403
DTSTAMP:20260420T180911
CREATED:20250918T032824Z
LAST-MODIFIED:20250918T032824Z
UID:10000588-1775088000-1775174399@excelnotes.com
SUMMARY:First Day of Passover
DESCRIPTION:The First Day of Passover marks the start of the Jewish festival commemorating the Exodus from Egypt. It is observed with special prayers\, the prohibition of leaven\, eating matzah and the Seder meal that retells the story of liberation. It stands as one of Judaism's most important holidays\, celebrating freedom\, resilience and faith. \nWhen is the First Day of Passover?\nPassover (Pesach) begins on the 15th day of Nisan in the Hebrew calendar\, usually falling in March or April. The First Day of Passover marks the beginning of this week-long (in Israel\, 7 days) Jewish festival. \nThe following is the list of the First Day of Passover from 2020 to 2049. \n   \n\n                \n                \n                            \n                            \n                            \n                    \n        \n\n                                                        HolidayDateWeekday\n\n\n\n        \n            First Day of PassoverApr 09\, 2020Thursday        \n            \n            First Day of PassoverMar 28\, 2021Sunday        \n            \n            First Day of PassoverApr 16\, 2022Saturday        \n            \n            First Day of PassoverApr 06\, 2023Thursday        \n            \n            First Day of PassoverApr 23\, 2024Tuesday        \n            \n            First Day of PassoverApr 13\, 2025Sunday        \n            \n            First Day of PassoverApr 02\, 2026Thursday        \n            \n            First Day of PassoverApr 22\, 2027Thursday        \n            \n            First Day of PassoverApr 11\, 2028Tuesday        \n            \n            First Day of PassoverMar 31\, 2029Saturday        \n            \n            First Day of PassoverApr 18\, 2030Thursday        \n            \n            First Day of PassoverApr 08\, 2031Tuesday        \n            \n            First Day of PassoverMar 27\, 2032Saturday        \n            \n            First Day of PassoverApr 14\, 2033Thursday        \n            \n            First Day of PassoverApr 04\, 2034Tuesday        \n            \n            First Day of PassoverApr 24\, 2035Tuesday        \n            \n            First Day of PassoverApr 12\, 2036Saturday        \n            \n            First Day of PassoverMar 31\, 2037Tuesday        \n            \n            First Day of PassoverApr 20\, 2038Tuesday        \n            \n            First Day of PassoverApr 09\, 2039Saturday        \n            \n            First Day of PassoverMar 29\, 2040Thursday        \n            \n            First Day of PassoverApr 16\, 2041Tuesday        \n            \n            First Day of PassoverApr 05\, 2042Saturday        \n            \n            First Day of PassoverApr 25\, 2043Saturday        \n            \n            First Day of PassoverApr 12\, 2044Tuesday        \n            \n            First Day of PassoverApr 02\, 2045Sunday        \n            \n            First Day of PassoverApr 21\, 2046Saturday        \n            \n            First Day of PassoverApr 11\, 2047Thursday        \n            \n            First Day of PassoverMar 29\, 2048Sunday        \n            \n            First Day of PassoverApr 17\, 2049Saturday        \n    \n    \n    \n    \n    \n\n\nThe History of the First Day of Passover?\nPassover commemorates the Exodus of the Israelites from slavery in Egypt more than 3\,000 years ago. \nAccording to the Book of Exodus\, God sent ten plagues upon Egypt\, and the final plague was the death of the firstborn. The Israelites were instructed to mark their doorposts with the blood of a lamb so the plague would "pass over" their homes—hence the name. \nAfter this\, Pharaoh let the Israelites go free\, and they left Egypt in haste\, without time for their bread to rise. \nThe First Day of Passover is observed as a Yom Tov (holy day)\, with special prayers\, synagogue services\, and restrictions on work.  \nMatzah (unleavened bread) is eaten to recall the bread the Israelites carried out of Egypt. Chametz (leavened products) are removed from homes before the holiday begins. \nOn the eve before the First Day of Passover\, Jewish families hold the Passover Seder\, a ritual meal with symbolic foods and storytelling. Four cups of wine are drunk at set points\, recalling God's promises of redemption. \nIn Israel\, the first and seventh days are full festival days. Passover is a time of family gatherings\, reflection on freedom\, and cultural continuity.
URL:https://excelnotes.com/holiday/first-day-of-passover/
CATEGORIES:Jewish
ATTACH;FMTTYPE=image/jpeg:https://excelnotes.com/wp-content/uploads/2025/09/First-Day-of-Passover.jpg
END:VEVENT
END:VCALENDAR