BEGIN:VCALENDAR
VERSION:2.0
PRODID:-//ExcelNotes - ECPv6.15.20//NONSGML v1.0//EN
CALSCALE:GREGORIAN
METHOD:PUBLISH
X-ORIGINAL-URL:https://excelnotes.com
X-WR-CALDESC:Events for ExcelNotes
REFRESH-INTERVAL;VALUE=DURATION:PT1H
X-Robots-Tag:noindex
X-PUBLISHED-TTL:PT1H
BEGIN:VTIMEZONE
TZID:America/New_York
BEGIN:DAYLIGHT
TZOFFSETFROM:-0500
TZOFFSETTO:-0400
TZNAME:EDT
DTSTART:20240310T070000
END:DAYLIGHT
BEGIN:STANDARD
TZOFFSETFROM:-0400
TZOFFSETTO:-0500
TZNAME:EST
DTSTART:20241103T060000
END:STANDARD
BEGIN:DAYLIGHT
TZOFFSETFROM:-0500
TZOFFSETTO:-0400
TZNAME:EDT
DTSTART:20250309T070000
END:DAYLIGHT
BEGIN:STANDARD
TZOFFSETFROM:-0400
TZOFFSETTO:-0500
TZNAME:EST
DTSTART:20251102T060000
END:STANDARD
BEGIN:DAYLIGHT
TZOFFSETFROM:-0500
TZOFFSETTO:-0400
TZNAME:EDT
DTSTART:20260308T070000
END:DAYLIGHT
BEGIN:STANDARD
TZOFFSETFROM:-0400
TZOFFSETTO:-0500
TZNAME:EST
DTSTART:20261101T060000
END:STANDARD
END:VTIMEZONE
BEGIN:VEVENT
DTSTART;VALUE=DATE:20250606
DTEND;VALUE=DATE:20250607
DTSTAMP:20260423T085757
CREATED:20250120T063714Z
LAST-MODIFIED:20250120T063920Z
UID:10000212-1749168000-1749254399@excelnotes.com
SUMMARY:Arafat Day
DESCRIPTION:Arafat Day is an important day in the Islamic calendar\, and it is a significant day for Muslims worldwide\, particularly for those performing the Hajj pilgrimage in Mecca\, Saudi Arabia. \nTable of Contents\n\nWhen is Arafat Day?\nThe History of Arafat Day?\nWhat Do People Do on This Day?\nThe Hajj Pilgrimage\n\nWhen is Arafat Day?\nArafat Day is observed on the 9th day of Dhul-Hijjah\, the 12th and final month of the Islamic lunar calendar. \nThe following is the list of Arafat Day from 2020 to 2049. \n   \n\n                \n                \n                            \n                            \n                            \n                    \n        \n\n                                                        HolidayDateWeekday\n\n\n\n        \n            Arafat DayJuly 30\, 2020Thursday        \n            \n            Arafat DayJuly 19\, 2021Monday        \n            \n            Arafat DayJuly 08\, 2022Friday        \n            \n            Arafat DayJune 27\, 2023Tuesday        \n            \n            Arafat DayJune 15\, 2024Saturday        \n            \n            Arafat DayJune 06\, 2025Friday        \n            \n            Arafat DayMay 26\, 2026Tuesday        \n            \n            Arafat DayMay 16\, 2027Sunday        \n            \n            Arafat DayMay 04\, 2028Thursday        \n            \n            Arafat DayApril 23\, 2029Monday        \n            \n            Arafat DayMay 13\, 2030Monday        \n            \n            Arafat DayApril 02\, 2031Wednesday        \n            \n            Arafat DayMarch 21\, 2032Sunday        \n            \n            Arafat DayMarch 11\, 2033Friday        \n            \n            Arafat DayFebruary 28\, 2034Tuesday        \n            \n            Arafat DayFebruary 17\, 2035Saturday        \n            \n            Arafat DayFebruary 07\, 2036Thursday        \n            \n            Arafat DayJanuary 26\, 2037Monday        \n            \n            Arafat DayJanuary 16\, 2038Saturday        \n            \n            Arafat DayJanuary 05\, 2039Wednesday        \n            \n            Arafat DayDecember 14\, 2040Friday        \n            \n            Arafat DayDecember 03\, 2041Tuesday        \n            \n            Arafat DayNovember 22\, 2042Saturday        \n            \n            Arafat DayNovember 11\, 2043Wednesday        \n            \n            Arafat DayOctober 30\, 2044Sunday        \n            \n            Arafat DayOctober 20\, 2045Friday        \n            \n            Arafat DayOctober 09\, 2046Tuesday        \n            \n            Arafat DaySeptember 29\, 2047Sunday        \n            \n            Arafat DaySeptember 18\, 2048Friday        \n            \n            Arafat DaySeptember 07\, 2049Tuesday        \n    \n    \n    \n    \n    \n\n\nThe History of Arafat Day\nArafat Day is linked to the story of Prophet Ibrahim (Abraham)\, who demonstrated unwavering submission to Allah. His willingness to sacrifice his son Ismail (Ishmael) as a test of faith took place in the vicinity of Mecca\, making the surrounding region sacred. \nThe plains of Arafat are integral to Hajj rituals and represent Ibrahim's ultimate devotion and Allah's mercy. \nArafat Day marks the day when Hajj pilgrims gather at Mount Arafat\, also known as Jabal al-Rahmah (Mount of Mercy)\, to engage in prayer and seek forgiveness. This act is known as Wuquf al-Arafah (Standing at Arafat) and is considered the pinnacle of Hajj. The Prophet Muhammad (PBUH) said\, "Hajj is Arafah\," emphasizing the importance of this day in fulfilling the pilgrimage. \nDuring his final Hajj in 632 CE\, Prophet Muhammad delivered his famous Farewell Sermon at Mount Arafat. \nThis sermon is a cornerstone of Islamic teachings\, emphasizing the equality of all Muslims\, justice\, morality\, and human rights\, and the importance of adhering to the Quran and Sunnah. \nArafat Day is the most critical day of the Hajj pilgrimage\, one of the five pillars of Islam. Standing at Arafat is considered essential for the validity of Hajj. Pilgrims who miss this ritual must repeat their pilgrimage in a subsequent year. \nThe gathering at Arafat symbolizes unity that Muslims from diverse backgrounds stand together as equals before Allah\, and reflection that pilgrims engage in intense self-examination and seek forgiveness for their sins. \nWhile Arafat Day is a central part of Hajj\, it holds significance for all Muslims\, whether performing Hajj or not. \nThe day is described as one of the most forgiving days in Islamic tradition. A Hadith states that Allah frees the most souls from Hellfire on Arafat Day. \n   \nWhat Do People Do on This Day?\nOn Arafat Day\, Muslims around the world observe this holy day with acts of worship\, reflection and devotion. It is particularly significant for those performing the Hajj pilgrimage\, but it also holds immense spiritual importance for non-pilgrims. \nPilgrims gather at the plains of Arafat\, near Mount Arafat\, from noon until sunset. They spend this time in prayer\, supplication\, and reflection\, seeking forgiveness and divine mercy. \nA sermon\, known as the Khutbah of Arafat\, is delivered at Masjid al-Namirah\, emphasizing the importance of Arafat Day\, and teachings from the Quran and Hadith. \nPilgrims perform Zuhr (midday) and Asr (afternoon) prayers\, shortened and combined\, at Arafat. They engage in continuous dua (supplication) and dhikr (remembrance of Allah)\, asking for forgiveness and blessings. \nAfter sunset\, pilgrims leave Arafat for Muzdalifah\, where they collect pebbles for the stoning ritual at Mina and continue their prayers and reflections. \nFasting on Arafat Day is highly encouraged for Muslims not performing Hajj. Prophet Muhammad said fasting on this day expiates the sins of the previous year and the following year. \nMuslims dedicate the day to performing extra prayers\, reading and reflecting on the Quran. \nMany Muslims engage in charitable acts on Arafat Day\, such as donating to the poor\, distributing food\, or supporting humanitarian causes. \nMuslims take the opportunity to reflect on their deeds and seek Allah's forgiveness\, using the day as a spiritual reset. \nFamilies and communities may come together for collective prayers or discussions about the teachings of Islam and the meaning of Arafat Day. \nThe Hajj Pilgrimage\nThe Hajj pilgrimage is one of the Five Pillars of Islam and is an obligation for all physically and financially capable Muslims to perform at least once in their lifetime. It is a journey of spiritual significance\, centered in Mecca\, Saudi Arabia\, and represents the unity of the Muslim community and submission to Allah. \nThe Hajj traces its origins to Prophet Ibrahim (Abraham) and his family. Ibrahim was commanded by Allah to leave his wife\, Hajar (Hagar)\, and son\, Ismail (Ishmael)\, in the desert of Mecca. Hajar's search for water led to the discovery of the Zamzam Well. Ibrahim and Ismail later built the Kaaba\, the house of worship\, which became the central focus of Hajj. \nHajj practices were restored to their monotheistic roots by Prophet Muhammad (PBUH)\, who emphasized worship of Allah alone\, free from pre-Islamic pagan rituals. The Prophet performed his Farewell Pilgrimage in 632 CE\, during which he delivered his famous Farewell Sermon on the plains of Arafat. \nThe Hajj pilgrimage takes place annually from the 8th to the 12th (or 13th) of Dhul-Hijjah\, the final month of the Islamic lunar calendar. \nDay 1: 8th Dhul-Hijjah (Yawm al-Tarwiyah): Pilgrims travel to Mina\, a site near Mecca\, where they perform prayers and prepare for the main rituals. \nDay 2: 9th Dhul-Hijjah (Arafat Day): Pilgrims gather at Mount Arafat\, the most critical day of Hajj. They spend the day in prayer and reflection\, seeking forgiveness and Allah's mercy. After sunset\, pilgrims move to Muzdalifah\, where they pray\, rest\, and collect pebbles for the stoning ritual. \nDay 3: 10th Dhul-Hijjah (Eid al-Adha): Pilgrims throw seven pebbles at the Jamarah al-Aqaba\, symbolizing rejection of evil. Pilgrims sacrifice an animal (sheep\, goat\, cow\, or camel)\, commemorating Ibrahim's willingness to sacrifice his son as an act of obedience to Allah. \nDays 4–5: 11th–12th Dhul-Hijjah (Tashreeq Days): Pilgrims continue the stoning ritual at three pillars representing Satan's temptations. \nDay 6 (Optional): 13th Dhul-Hijjah: Pilgrims may extend their stay to complete an additional stoning ritual before departing Mina.
URL:https://excelnotes.com/holiday/arafat-day/
CATEGORIES:Islam
ATTACH;FMTTYPE=image/jpeg:https://excelnotes.com/wp-content/uploads/2025/01/Arafat-Day.jpg
END:VEVENT
BEGIN:VEVENT
DTSTART;VALUE=DATE:20250531
DTEND;VALUE=DATE:20250601
DTSTAMP:20260423T085757
CREATED:20250115T052935Z
LAST-MODIFIED:20250115T061600Z
UID:10000186-1748649600-1748735999@excelnotes.com
SUMMARY:Hari Raya Aidilfitri
DESCRIPTION:Hari Raya Aidilfitri\, also known as Eid al-Fitr\, is a significant Islamic celebration marking the end of Ramadan\, the holy month of fasting. It is a time of joy\, gratitude and reflection\, celebrated with prayers and acts of kindness. In Malaysia\, Hari Raya Aidilfitri is one of the most important festivals and is observed with great cultural and religious fervor. \nTable of Contents\n\nWhen is Hari Raya Aidilfitri?\nThe History of Hari Raya Aidilfitri\nWhat Do People Do on This Day?\nThe Islamic and Gregorian Calendars\n\nWhen is Hari Raya Aidilfitri?\nThe exact date of Hari Raya Aidilfitri (Eid al-Fitr) varies each year because it is determined by the Islamic lunar calendar. It falls on the 1st day of Shawwal\, the 10th month of the Islamic calendar\, which follows the sighting of the moon. \nThe following is the list of Hari Raya Aidilfitri from 2020 to 2049. \n   \n\n                \n                \n                            \n                            \n                            \n                    \n        \n\n                                                        HolidayDayWeekday\n\n\n\n        \n            Hari Raya AidilfitriMay 24\, 2020Sunday        \n            \n            Hari Raya AidilfitriMay 13\, 2021Thursday        \n            \n            Hari Raya AidilfitriMay 03\, 2022Tuesday        \n            \n            Hari Raya AidilfitriApril 22\, 2023Saturday        \n            \n            Hari Raya AidilfitriApril 10\, 2024Wednesday        \n            \n            Hari Raya AidilfitriMarch 31\, 2025Monday        \n            \n            Hari Raya AidilfitriMarch 20\, 2026Friday        \n            \n            Hari Raya AidilfitriMarch 10\, 2027Wednesday        \n            \n            Hari Raya AidilfitriFebruary 27\, 2028Sunday        \n            \n            Hari Raya AidilfitriFebruary 15\, 2029Thursday        \n            \n            Hari Raya AidilfitriFebruary 05\, 2030Tuesday        \n            \n            Hari Raya AidilfitriJanuary 25\, 2031Saturday        \n            \n            Hari Raya AidilfitriJanuary 14\, 2032Wednesday        \n            \n            Hari Raya AidilfitriJanuary 03\, 2033Monday        \n            \n            Hari Raya AidilfitriDecember 12\, 2034Tuesday        \n            \n            Hari Raya AidilfitriDecember 02\, 2035Sunday        \n            \n            Hari Raya AidilfitriNovember 20\, 2036Thursday        \n            \n            Hari Raya AidilfitriNovember 10\, 2037Tuesday        \n            \n            Hari Raya AidilfitriOctober 30\, 2038Saturday        \n            \n            Hari Raya AidilfitriOctober 19\, 2039Wednesday        \n            \n            Hari Raya AidilfitriOctober 08\, 2040Monday        \n            \n            Hari Raya AidilfitriSeptember 27\, 2041Friday        \n            \n            Hari Raya AidilfitriSeptember 16\, 2042Tuesday        \n            \n            Hari Raya AidilfitriSeptember 06\, 2043Sunday        \n            \n            Hari Raya AidilfitriAugust 25\, 2044Thursday        \n            \n            Hari Raya AidilfitriMarch 31\, 2045Friday        \n            \n            Hari Raya AidilfitriAugust 04\, 2046Saturday        \n            \n            Hari Raya AidilfitriJuly 24\, 2047Wednesday        \n            \n            Hari Raya AidilfitriJuly 13\, 2048Monday        \n            \n            Hari Raya AidilfitriJuly 02\, 2049Friday        \n    \n    \n    \n    \n    \n\n\nThe History of Hari Raya Aidilfitri\nThe history of Hari Raya Aidilfitri (Eid al-Fitr) is rooted in the teachings and practices of Prophet Muhammad (peace be upon him) and the observance of Ramadan\, the holy month of fasting in Islam.  \nFasting during Ramadan was prescribed for Muslims in the second year of the Islamic calendar\, shortly after Prophet Muhammad migrated to Medina in 622 CE. \nThe first Hari Raya Aidilfitri was celebrated in 624 CE\, following the victory of the Muslims in the Battle of Badr\, a significant event in Islamic history. Prophet Muhammad declared this day as a time for communal prayer\, charity and celebration to express gratitude to Allah. \nProphet Muhammad emphasized the importance of giving Zakat al-Fitr\, a form of charity paid before the Eid prayers. This act ensures that even the less fortunate can partake in the celebrations. \nIslam was introduced to the Malay Archipelago through Arab traders and missionaries in the 12th century. By the 15th century\, Islam had become the dominant religion in the region\, influencing cultural and religious practices\, including the observance of Hari Raya Aidilfitri. \nHari Raya Aidilfitri in Malaysia combines Islamic principles with local traditions\, creating a unique and vibrant celebration. \nHari Raya Aidilfitri was recognized as a public holiday in Malaysia after its independence in 1957. The festival has since become a national celebration\, reflecting Malaysia's Islamic heritage and multicultural harmony. \nOver the years\, in Malaysia\, Hari Raya Aidilfitri has evolved into a celebration of unity\, with Muslims and non-Muslims coming together to share in the joy of the festival. \n   \nWhat Do People Do on This Day?\nOn Hari Raya Aidilfitri (Eid al-Fitr)\, Muslims celebrate the end of Ramadan with religious devotion\, festive meals\, acts of kindness\, and family gatherings. It is a joyous occasion that combines spiritual significance with cultural traditions\, particularly in Malaysia.  \nMuslims gather at mosques or open prayer grounds early in the morning to perform the Eid prayer. The prayer is followed by a sermon (khutbah) emphasizing gratitude\, forgiveness\, and unity. \nMuslims pay Zakat al-Fitr\, a special form of charity given before the Eid prayer. The purpose is to help the poor and ensure that everyone can celebrate Hari Raya. Many people also make additional donations or offer support to less fortunate families. \nMuslims ask for forgiveness from family\, friends and neighbors\, and this act of reconciliation strengthens relationships and fosters harmony. \nMany Malaysians return to their hometowns to celebrate Hari Raya with their extended families. Families visit relatives to reconnect\, share festive meals\, and exchange greetings. \nHari Raya is famous for its delicious traditional dishes. Malaysians host open houses\, welcoming friends\, neighbors and even strangers to enjoy food and celebrate together. \nHomes are cleaned and decorated with lights\, Islamic calligraphy and ketupat ornaments. Malaysians wear their finest traditional clothing\, often in matching colors as a family. \nCharity and kindness continue to be emphasized\, with many people providing food or assistance to those in need. Families visit those who cannot leave their homes\, ensuring they feel included in the celebrations. \nThe Islamic and Gregorian Calendars\nThe Islamic lunar calendar is primarily used to determine dates for Islamic rituals and events\, for example: \n– Ramadan: The month of fasting. \n– Eid al-Fitr:  Celebration marking the end of Ramadan. \n– Eid al-Adha:  The Festival of Sacrifice during Hajj. \n– Hajj:  The annual pilgrimage to Mecca. \nOther sacred occasions\, including Ashura (10th of Muharram) and Mawlid al-Nabi (Prophet's Birthday). \nThe Islamic lunar calendar is different from the Gregorian Calendar: \nBasis: The Islamic calendar is based on Lunar (moon phases)\, while the Gregorian calendar is based on the Solar (earth's orbit around the sun). \nLength of Year:  The Islamic calendar is approximately 354 days per year\, while the Gregorian calendar is about 365 days. \nStart of the Calendar: The Islamic calendar started in 622 CE (Hijrah)\, and the Gregorian calendar started in 1 CE. \nMonths: The Islamic calendar has 12 lunar months\, and the Gregorian calendar has 12 solar months. \nAdjustment: There is no intercalation in the the Islamic calendar\, and it addes a day in leap years in the Gregorian calendar.
URL:https://excelnotes.com/holiday/hari-raya-aidilfitri/
CATEGORIES:Islam
ATTACH;FMTTYPE=image/jpeg:https://excelnotes.com/wp-content/uploads/2025/01/Hari-Raya-Aidilfitri.jpg
END:VEVENT
END:VCALENDAR