BEGIN:VCALENDAR
VERSION:2.0
PRODID:-//ExcelNotes - ECPv6.15.20//NONSGML v1.0//EN
CALSCALE:GREGORIAN
METHOD:PUBLISH
X-ORIGINAL-URL:https://excelnotes.com
X-WR-CALDESC:Events for ExcelNotes
REFRESH-INTERVAL;VALUE=DURATION:PT1H
X-Robots-Tag:noindex
X-PUBLISHED-TTL:PT1H
BEGIN:VTIMEZONE
TZID:America/New_York
BEGIN:DAYLIGHT
TZOFFSETFROM:-0500
TZOFFSETTO:-0400
TZNAME:EDT
DTSTART:20250309T070000
END:DAYLIGHT
BEGIN:STANDARD
TZOFFSETFROM:-0400
TZOFFSETTO:-0500
TZNAME:EST
DTSTART:20251102T060000
END:STANDARD
BEGIN:DAYLIGHT
TZOFFSETFROM:-0500
TZOFFSETTO:-0400
TZNAME:EDT
DTSTART:20260308T070000
END:DAYLIGHT
BEGIN:STANDARD
TZOFFSETFROM:-0400
TZOFFSETTO:-0500
TZNAME:EST
DTSTART:20261101T060000
END:STANDARD
BEGIN:DAYLIGHT
TZOFFSETFROM:-0500
TZOFFSETTO:-0400
TZNAME:EDT
DTSTART:20270314T070000
END:DAYLIGHT
BEGIN:STANDARD
TZOFFSETFROM:-0400
TZOFFSETTO:-0500
TZNAME:EST
DTSTART:20271107T060000
END:STANDARD
END:VTIMEZONE
BEGIN:VEVENT
DTSTART;VALUE=DATE:20260315
DTEND;VALUE=DATE:20260316
DTSTAMP:20260421T220121
CREATED:20250709T023932Z
LAST-MODIFIED:20250710T034956Z
UID:10000370-1773532800-1773619199@excelnotes.com
SUMMARY:Laylat al-Qadr
DESCRIPTION:Laylat al-Qadr\, also known as the Night of Power\, Night of Decree\, or Night of Destiny\, is one of the holiest nights in Islam. It commemorates the night when the first verses of the Qur'an were revealed to the Prophet Muhammad by the Angel Gabriel. \nWhen is Laylat al-Qadr?\nLaylat al-Qadr occurs during the last 10 nights of Ramadan\, most traditionally observed on the 27th night\, though it may fall on any of the odd-numbered nights (21st\, 23rd\, 25th\, 27th\, or 29th). \nThe following is the list of Laylat al-Qadr from 2020 to 2049. \n   \n\n                \n                \n                            \n                            \n                            \n                    \n        \n\n                                                        HolidayDateWeekday\n\n\n\n        \n            Laylat al-QadrMay 19\, 2020Tuesday        \n            \n            Laylat al-QadrMay 08\, 2021Saturday        \n            \n            Laylat al-QadrApr 27\, 2022Wednesday        \n            \n            Laylat al-QadrApr 17\, 2023Monday        \n            \n            Laylat al-QadrApr 05\, 2024Friday        \n            \n            Laylat al-QadrMar 26\, 2025Wednesday        \n            \n            Laylat al-QadrMar 15\, 2026Sunday        \n            \n            Laylat al-QadrMar 05\, 2027Friday        \n            \n            Laylat al-QadrFeb 22\, 2028Tuesday        \n            \n            Laylat al-QadrFeb 10\, 2029Saturday        \n            \n            Laylat al-QadrJan 31\, 2030Thursday        \n            \n            Laylat al-QadrJan 20\, 2031Monday        \n            \n            Laylat al-QadrJan 09\, 2032Friday        \n            \n            Laylat al-QadrDec 29\, 2032Wednesday        \n            \n            Laylat al-QadrDec 18\, 2033Sunday        \n            \n            Laylat al-QadrDec 07\, 2034Thursday        \n            \n            Laylat al-QadrNov 27\, 2035Tuesday        \n            \n            Laylat al-QadrNov 15\, 2036Saturday        \n            \n            Laylat al-QadrNov 05\, 2037Thursday        \n            \n            Laylat al-QadrOct 25\, 2038Monday        \n            \n            Laylat al-QadrOct 14\, 2039Friday        \n            \n            Laylat al-QadrOct 03\, 2040Wednesday        \n            \n            Laylat al-QadrSep 22\, 2041Sunday        \n            \n            Laylat al-QadrSep 11\, 2042Thursday        \n            \n            Laylat al-QadrSep 01\, 2043Tuesday        \n            \n            Laylat al-QadrAug 20\, 2044Saturday        \n            \n            Laylat al-QadrAug 10\, 2045Thursday        \n            \n            Laylat al-QadrJul 30\, 2046Monday        \n            \n            Laylat al-QadrJul 19\, 2047Friday        \n            \n            Laylat al-QadrJul 08\, 2048Wednesday        \n            \n            Laylat al-QadrJun 27\, 2049Sunday        \n    \n    \n    \n    \n    \n\n\nThe History of Laylat al-Qadr?\nLaylat al-Qadr occurred during the month of Ramadan in the year 610 CE\, when the Prophet Muhammad was meditating in the Cave of Hira outside Mecca. On that night\, the Angel Jibreel (Gabriel) appeared and revealed the first verses of the Qur'an. This moment marks the beginning of the prophetic mission and the first instance of divine revelation to Muhammad. \nThe exact night is not known\, but it occurs in the last 10 nights of Ramadan\, particularly on odd-numbered nights: the 21st\, 23rd\, 25th\, 27th\, or 29th. \nThe 27th night of Ramadan is most commonly observed by many Muslims as Laylat al-Qadr\, though scholars encourage seeking it throughout the final 10 nights. \nFrom the time of the Prophet until now\, Muslims spend the night in Prayer and Taraweeh\, reading and reflecting on the Qur'an\, asking for forgiveness and good deeds.
URL:https://excelnotes.com/holiday/laylat-al-qadr/
CATEGORIES:Islam
ATTACH;FMTTYPE=image/jpeg:https://excelnotes.com/wp-content/uploads/2025/07/Laylat-al-Qadr.jpg
END:VEVENT
END:VCALENDAR