BEGIN:VCALENDAR
VERSION:2.0
PRODID:-//ExcelNotes - ECPv6.15.20//NONSGML v1.0//EN
CALSCALE:GREGORIAN
METHOD:PUBLISH
X-WR-CALNAME:ExcelNotes
X-ORIGINAL-URL:https://excelnotes.com
X-WR-CALDESC:Events for ExcelNotes
REFRESH-INTERVAL;VALUE=DURATION:PT1H
X-Robots-Tag:noindex
X-PUBLISHED-TTL:PT1H
BEGIN:VTIMEZONE
TZID:America/New_York
BEGIN:DAYLIGHT
TZOFFSETFROM:-0500
TZOFFSETTO:-0400
TZNAME:EDT
DTSTART:20240310T070000
END:DAYLIGHT
BEGIN:STANDARD
TZOFFSETFROM:-0400
TZOFFSETTO:-0500
TZNAME:EST
DTSTART:20241103T060000
END:STANDARD
BEGIN:DAYLIGHT
TZOFFSETFROM:-0500
TZOFFSETTO:-0400
TZNAME:EDT
DTSTART:20250309T070000
END:DAYLIGHT
BEGIN:STANDARD
TZOFFSETFROM:-0400
TZOFFSETTO:-0500
TZNAME:EST
DTSTART:20251102T060000
END:STANDARD
BEGIN:DAYLIGHT
TZOFFSETFROM:-0500
TZOFFSETTO:-0400
TZNAME:EDT
DTSTART:20260308T070000
END:DAYLIGHT
BEGIN:STANDARD
TZOFFSETFROM:-0400
TZOFFSETTO:-0500
TZNAME:EST
DTSTART:20261101T060000
END:STANDARD
BEGIN:DAYLIGHT
TZOFFSETFROM:-0500
TZOFFSETTO:-0400
TZNAME:EDT
DTSTART:20270314T070000
END:DAYLIGHT
BEGIN:STANDARD
TZOFFSETFROM:-0400
TZOFFSETTO:-0500
TZNAME:EST
DTSTART:20271107T060000
END:STANDARD
END:VTIMEZONE
BEGIN:VEVENT
DTSTART;VALUE=DATE:20260215
DTEND;VALUE=DATE:20260216
DTSTAMP:20260419T193704
CREATED:20250823T023740Z
LAST-MODIFIED:20250823T023740Z
UID:10000458-1771113600-1771199999@excelnotes.com
SUMMARY:Maha Shivaratri Day
DESCRIPTION:Maha Shivaratri Day\, rooted in Vedic traditions and enriched through the Puranas\, commemorates major legends of Lord Shiva\, including his marriage to Parvati\, the drinking of poison during the cosmic churning\, and his Tandava dance.  \nWhen is Maha Shivaratri Day?\nMaha Shivaratri Day is celebrated every year on the 14th night of the dark fortnight (Krishna Paksha) in the Hindu month of Phalguna / Maasi (February–March).  \nThe following is the list of Maha Shivaratri Day from 2020 to 2049. \n   \n\n                \n                \n                            \n                            \n                            \n                    \n        \n\n                                                        HolidayDateWeekday\n\n\n\n        \n            Maha Shivaratri DayFeb 21\, 2020Friday        \n            \n            Maha Shivaratri DayMar 11\, 2021Thursday        \n            \n            Maha Shivaratri DayMar 01\, 2022Tuesday        \n            \n            Maha Shivaratri DayFeb 18\, 2023Saturday        \n            \n            Maha Shivaratri DayMar 08\, 2024Friday        \n            \n            Maha Shivaratri DayFeb 25\, 2025Tuesday        \n            \n            Maha Shivaratri DayFeb 15\, 2026Sunday        \n            \n            Maha Shivaratri DayMar 06\, 2027Saturday        \n            \n            Maha Shivaratri DayFeb 23\, 2028Wednesday        \n            \n            Maha Shivaratri DayFeb 11\, 2029Sunday        \n            \n            Maha Shivaratri DayMar 02\, 2030Saturday        \n            \n            Maha Shivaratri DayFeb 20\, 2031Thursday        \n            \n            Maha Shivaratri DayMar 10\, 2032Wednesday        \n            \n            Maha Shivaratri DayFeb 28\, 2033Monday        \n            \n            Maha Shivaratri DayMar 12\, 2034Sunday        \n            \n            Maha Shivaratri DayMar 08\, 2035Thursday        \n            \n            Maha Shivaratri DayFeb 25\, 2036Monday        \n            \n            Maha Shivaratri DayFeb 13\, 2037Friday        \n            \n            Maha Shivaratri DayMar 04\, 2038Thursday        \n            \n            Maha Shivaratri DayFeb 22\, 2039Tuesday        \n            \n            Maha Shivaratri DayMar 11\, 2040Sunday        \n            \n            Maha Shivaratri DayMar 02\, 2041Saturday        \n            \n            Maha Shivaratri DayFeb 18\, 2042Tuesday        \n            \n            Maha Shivaratri DayMar 09\, 2043Monday        \n            \n            Maha Shivaratri DayFeb 28\, 2044Sunday        \n            \n            Maha Shivaratri DayFeb 15\, 2045Wednesday        \n            \n            Maha Shivaratri DayMar 05\, 2046Monday        \n            \n            Maha Shivaratri DayFeb 22\, 2047Friday        \n            \n            Maha Shivaratri DayFeb 12\, 2048Wednesday        \n            \n            Maha Shivaratri DayMar 02\, 2049Tuesday        \n    \n    \n    \n    \n    \n\n\nThe History of Maha Shivaratri Day?\nMaha Shivaratri is one of the most sacred festivals in Shaivism\, a major tradition of Hinduism. Its origins trace back to Vedic times (1500–500 BCE)\, where early hymns in the Rigveda and Yajurveda refer to Rudra (later Shiva) as a powerful deity associated with storms\, healing and cosmic forces. \nOver centuries\, Rudra evolved into Lord Shiva\, one of the three supreme deities of the Hindu Trimurti (Brahma the creator\, Vishnu the preserver\, Shiva the destroyer/transformer). \nMaha Shivaratri Day commemorates major legends of Lord Shiva: \n– Marriage of Shiva and Parvati: One of the most popular beliefs is that Maha Shivaratri marks the divine wedding of Lord Shiva and Goddess Parvati\, symbolizing the union of male and female cosmic energies.\n– Samudra Manthana (Churning of the Ocean): During the cosmic ocean churning\, a deadly poison (Halahala) emerged\, threatening to destroy the universe. Shiva drank the poison to save all beings\, holding it in his throat\, which turned blue. Devotees commemorate his act of sacrifice on this night.\n– The Cosmic Dance (Tandava): Another tradition holds that Shivaratri is the night when Lord Shiva performed the Tandava\, his dance of creation and destruction. It represents the eternal cosmic cycle of life\, death\, and rebirth. \nOver time\, the festival spread across India and to regions like Sri Lanka\, Nepal\, and Southeast Asia\, wherever Shaivism flourished. \nBy the medieval period\, Maha Shivaratri had become one of the key Hindu festivals\, observed by kings\, temple communities and common people alike.
URL:https://excelnotes.com/holiday/maha-shivaratri-day/
CATEGORIES:Hinduism,Religion Holiday
ATTACH;FMTTYPE=image/jpeg:https://excelnotes.com/wp-content/uploads/2025/08/Maha-Shivaratri-Day.jpg
END:VEVENT
BEGIN:VEVENT
DTSTART;VALUE=DATE:20260201
DTEND;VALUE=DATE:20260202
DTSTAMP:20260419T193704
CREATED:20250116T043313Z
LAST-MODIFIED:20250225T175002Z
UID:10000188-1769904000-1769990399@excelnotes.com
SUMMARY:Thaipusam
DESCRIPTION:Thaipusam is a Hindu festival celebrated predominantly by the Tamil community worldwide.Thaipusam is dedicated to Lord Murugan\, the deity of youth\, power and virtue\, who is widely revered in Tamil culture. \nTable of Contents\n\nWhen is Thaipusam?\nThe History of Thaipusam?\nWhat Do People Do on This Day?\nThe Tamil Calendar\n\nWhen is Thaipusam?\nThaipusam is observed annually during the full moon in the Tamil month of Thai\, which typically falls in January or February.  \nThe following is the list of Thaipusam from 2020 to 2049. \n   \n\n                \n                \n                            \n                            \n                            \n                    \n        \n\n                                                        HolidayDateWeekday\n\n\n\n        \n            ThaipusamFebruary 08\, 2020Saturday        \n            \n            ThaipusamJanuary 28\, 2021Thursday        \n            \n            ThaipusamJanuary 18\, 2022Tuesday        \n            \n            ThaipusamFebruary 04\, 2023Saturday        \n            \n            ThaipusamJanuary 25\, 2024Thursday        \n            \n            ThaipusamFebruary 11\, 2025Tuesday        \n            \n            ThaipusamFebruary 01\, 2026Sunday        \n            \n            ThaipusamJanuary 22\, 2027Friday        \n            \n            ThaipusamFebruary 09\, 2028Wednesday        \n            \n            ThaipusamJanuary 30\, 2029Tuesday        \n            \n            ThaipusamJanuary 20\, 2030Sunday        \n            \n            ThaipusamFebruary 06\, 2031Thursday        \n            \n            ThaipusamJanuary 27\, 2032Tuesday        \n            \n            ThaipusamJanuary 16\, 2033Sunday        \n            \n            ThaipusamFebruary 03\, 2034Friday        \n            \n            ThaipusamJanuary 23\, 2035Tuesday        \n            \n            ThaipusamFebruary 11\, 2036Monday        \n            \n            ThaipusamJanuary 31\, 2037Saturday        \n            \n            ThaipusamJanuary 21\, 2038Thursday        \n            \n            ThaipusamFebruary 08\, 2039Tuesday        \n            \n            ThaipusamJanuary 29\, 2040Sunday        \n            \n            ThaipusamJanuary 17\, 2041Thursday        \n            \n            ThaipusamFebruary 04\, 2042Tuesday        \n            \n            ThaipusamJanuary 25\, 2043Sunday        \n            \n            ThaipusamFebruary 12\, 2044Friday        \n            \n            ThaipusamFebruary 01\, 2045Wednesday        \n            \n            ThaipusamJanuary 22\, 2046Monday        \n            \n            ThaipusamFebruary 09\, 2047Saturday        \n            \n            ThaipusamJanuary 30\, 2048Thursday        \n            \n            ThaipusamJanuary 19\, 2049Tuesday        \n    \n    \n    \n    \n    \n\n\nThe History of Thaipusam\nThe history of Thaipusam is rooted in Hindu mythology and Tamil culture\, and its origins are deeply tied to the veneration of Lord Murugan\, the Hindu god of war and victory. \nThaipusam celebrates the occasion when Goddess Parvati bestowed the divine spear upon her son\, Lord Murugan. This powerful weapon enabled him to vanquish the demon Soorapadman\, who was terrorizing the heavens and Earth. \nLord Murugan is a prominent deity in Hinduism\, especially among Tamil-speaking Hindus. Murugan is seen as a protector and the embodiment of virtue\, courage and youth\, making him a central figure in the cultural and spiritual life of the Tamil community. \nThaipusam has its roots in South India\, particularly Tamil Nadu\, where Lord Murugan has been worshiped for centuries. \nWith the migration of Tamil communities to regions like Malaysia\, Sri Lanka\, Singapore\, Mauritius\, South Africa\, and the Caribbean during the colonial period\, the celebration of Thaipusam spread globally. \nThe festival gained prominence in places like Batu Caves in Malaysia\, which became a focal point for grand Thaipusam processions and rituals. \nToday\, Thaipusam is celebrated with vibrant cultural displays and acts of devotion. It serves as both a religious observance and a celebration of Tamil identity and heritage. \n   \nWhat Do People Do on This Day?\nDevotees often observe fasting\, abstain from certain foods\, and maintain a state of purity leading up to Thaipusam. \nMany carry kavadis (a physical burden symbolizing penance) as an act of devotion. The kavadi can range from simple wooden frames decorated with flowers to elaborate structures balanced on shoulders. \nSome devotees perform extreme acts of penance by piercing their skin\, tongue or cheeks with spears or hooks. These acts are done in a state of trance and symbolize the devotees' surrender to Lord Murugan\, enduring pain to purify their souls and express gratitude. \nDevotees carry pots of milk as an offering to Lord Murugan. The milk is poured over his idol or statue during rituals. This act is believed to bring blessings and spiritual purity. \nDevotees often walk long distances barefoot to reach temples dedicated to Lord Murugan. \nDevotees bathe in rivers or other water bodies as a form of purification before proceeding to temples or processions. \nThaipusam is also a time for Tamil communities to gather\, celebrate their cultural identity\, and support one another in their spiritual practices. \nThe Tamil Calendar\nThe Tamil calendar is a traditional lunisolar calendar used by the Tamil-speaking people of Tamil Nadu\, Sri Lanka\, and the global Tamil diaspora. The Tamil calendar is lunisolar\, meaning it incorporates both the phases of the moon and the solar year. \nA Tamil year typically has 12 months\, with each month roughly aligning with the sun's transit through a zodiac sign. \n1. Chithirai: April – May in the Gregorian calendar. The zodiac sign is Aries (Mesha). The first month of the Tamil New Year.\n2. Vaikasi: May – June in the Gregorian calendar. The zodiac sign is Taurus (Rishabha). Lord Murugan's birthday is in this month.\n3. Aani: June – July in the Gregorian calendar. The zodiac sign is Gemini (Mithuna).\n4. Aadi: July – August in the Gregorian calendar. The zodiac sign is Cancer (Karka). It is the month focusing on water and fertility.\n5. Vaikasi: August – September in the Gregorian calendar. The zodiac sign is Leo (Simha). Lord Murugan's birthday is this month.\n6. Purattasi: September – October in the Gregorian calendar. The zodiac sign is Virgo (Kanya). This is the month dedicated to Vishnu.\n7. Aippasi: October – November in the Gregorian calendar. The zodiac sign is Libra (Tula). This is the month that it rains for agriculture.\n8. Karthigai: November – December in the Gregorian calendar. The zodiac sign is Scorpio (Vrishchika).\n9. Margazhi: December – January in the Gregorian calendar. The zodiac sign is Sagittarius (Dhanus).\n10. Thai: January – February in the Gregorian calendar. The zodiac sign is Capricorn (Makara). The month is for the harvest festival.\n11. Maasi: February – March in the Gregorian calendar. The zodiac sign is Aquarius (Kumbha).\n12. Panguni: March – April in the Gregorian calendar. The zodiac sign is Pisces (Meena).
URL:https://excelnotes.com/holiday/thaipusam/
CATEGORIES:Hinduism
ATTACH;FMTTYPE=image/jpeg:https://excelnotes.com/wp-content/uploads/2025/01/Thaipusam.jpg
END:VEVENT
BEGIN:VEVENT
DTSTART;VALUE=DATE:20260115
DTEND;VALUE=DATE:20260116
DTSTAMP:20260419T193704
CREATED:20250821T042103Z
LAST-MODIFIED:20250821T042103Z
UID:10000443-1768435200-1768521599@excelnotes.com
SUMMARY:Tamil Thai Pongal Day
DESCRIPTION:Tamil Thai Pongal Day is a Tamil Hindu harvest festival dedicated to the Sun God. Celebrated with the cooking of sweet rice (Pongal)\, Kolam designs\, and rituals of thanksgiving\, it marks prosperity and cultural unity. In Sri Lanka\, it is a national holiday honoring Tamil traditions. \nWhen is Tamil Thai Pongal Day?\nTamil Thai Pongal Day is celebrated on January 14\, sometimes January 15\, depending on the solar calendar. \nThe following is the list of Tamil Thai Pongal Day from 2020 to 2049. \n   \n\n                \n                \n                            \n                            \n                            \n                    \n        \n\n                                                        HolidayDateWeekday\n\n\n\n        \n            Tamil Thai Pongal DayJan 15\, 2020Wednesday        \n            \n            Tamil Thai Pongal DayJan 14\, 2021Thursday        \n            \n            Tamil Thai Pongal DayJan 14\, 2022Friday        \n            \n            Tamil Thai Pongal DayJan 15\, 2023Sunday        \n            \n            Tamil Thai Pongal DayJan 15\, 2024Monday        \n            \n            Tamil Thai Pongal DayJan 14\, 2025Tuesday        \n            \n            Tamil Thai Pongal DayJan 15\, 2026Thursday        \n            \n            Tamil Thai Pongal DayJan 14\, 2027Thursday        \n            \n            Tamil Thai Pongal DayJan 14\, 2028Friday        \n            \n            Tamil Thai Pongal DayJan 14\, 2029Sunday        \n            \n            Tamil Thai Pongal DayJan 15\, 2030Tuesday        \n            \n            Tamil Thai Pongal DayJan 14\, 2031Tuesday        \n            \n            Tamil Thai Pongal DayJan 14\, 2032Wednesday        \n            \n            Tamil Thai Pongal DayJan 14\, 2033Friday        \n            \n            Tamil Thai Pongal DayJan 15\, 2034Sunday        \n            \n            Tamil Thai Pongal DayJan 14\, 2035Sunday        \n            \n            Tamil Thai Pongal DayJan 14\, 2036Monday        \n            \n            Tamil Thai Pongal DayJan 14\, 2037Wednesday        \n            \n            Tamil Thai Pongal DayJan 15\, 2038Friday        \n            \n            Tamil Thai Pongal DayJan 14\, 2039Friday        \n            \n            Tamil Thai Pongal DayJan 14\, 2040Saturday        \n            \n            Tamil Thai Pongal DayJan 14\, 2041Monday        \n            \n            Tamil Thai Pongal DayJan 15\, 2042Wednesday        \n            \n            Tamil Thai Pongal DayJan 14\, 2043Wednesday        \n            \n            Tamil Thai Pongal DayJan 14\, 2044Thursday        \n            \n            Tamil Thai Pongal DayJan 14\, 2045Saturday        \n            \n            Tamil Thai Pongal DayJan 15\, 2046Monday        \n            \n            Tamil Thai Pongal DayJan 14\, 2047Monday        \n            \n            Tamil Thai Pongal DayJan 14\, 2048Tuesday        \n            \n            Tamil Thai Pongal DayJan 14\, 2049Thursday        \n    \n    \n    \n    \n    \n\n\nThe History of Tamil Thai Pongal Day?\nPongal is a harvest festival that has been celebrated for over 2\,000 years in Tamil culture. \nIts origins lie in ancient Tamil Nadu (India)\, where it marked the end of the harvest season and thanksgiving to Surya (the Sun God)\, Mother Earth\, and cattle. \nTamil culture spread to Sri Lanka through centuries of migration and settlement\, particularly in the Northern and Eastern provinces. Tamil farmers in Sri Lanka adopted Pongal as a key agricultural festival\, tied to the paddy harvest cycle. \nThe festival gained significance not only as a religious observance but also as a marker of Tamil identity and tradition on the island. \nIt coincides with the Tamil month of Thai\, marking a turning point in the solar cycle with longer days and renewed farming activities. \nPongal became formally recognized as a public holiday in Sri Lanka\, reflecting the country's multi-ethnic and multi-religious identity.
URL:https://excelnotes.com/holiday/tamil-thai-pongal-day/
CATEGORIES:Hinduism,Religion Holiday
ATTACH;FMTTYPE=image/jpeg:https://excelnotes.com/wp-content/uploads/2025/08/Tamil-Thai-Pongal-Day.jpg
END:VEVENT
BEGIN:VEVENT
DTSTART;VALUE=DATE:20251020
DTEND;VALUE=DATE:20251021
DTSTAMP:20260419T193704
CREATED:20250112T011518Z
LAST-MODIFIED:20250120T042325Z
UID:10000179-1760918400-1761004799@excelnotes.com
SUMMARY:Diwali
DESCRIPTION:Diwali\, also known as Deepavali\, is one of the most important and widely celebrated festivals in Hinduism\, and it holds significance for Jains\, Sikhs and some Buddhists. Known as the Festival of Lights\, it symbolizes the victory of light over darkness\, good over evil\, and knowledge over ignorance.  \nTable of Contents\n\nWhen is Diwali?\nThe History of Diwali?\nWhat Do People Do on This Day?\nThe Hindu Lunar Calendar\n\nWhen is Diwali?\nThe date of Diwali varies each year as it is based on the Hindu lunar calendar\, specifically falling on the Amavasya (new moon) of the Hindu month of Kartik. This typically places it in October or November. \nThe following is the list of Diwali from 2020 to 2049. \n   \n\n                \n                \n                            \n                            \n                            \n                    \n        \n\n                                                        HolidayDateWeekday\n\n\n\n        \n            Diwali (Deepavali)Nov 14\, 2020Saturday        \n            \n            Diwali (Deepavali)Nov 04\, 2021Thursday        \n            \n            Diwali (Deepavali)Oct 24\, 2022Monday        \n            \n            Diwali (Deepavali)Nov 12\, 2023Sunday        \n            \n            Diwali (Deepavali)Oct 31\, 2024Thursday        \n            \n            Diwali (Deepavali)Oct 20\, 2025Monday        \n            \n            Diwali (Deepavali)Nov 08\, 2026Sunday        \n            \n            Diwali (Deepavali)Oct 29\, 2027Friday        \n            \n            Diwali (Deepavali)Oct 17\, 2028Tuesday        \n            \n            Diwali (Deepavali)Nov 05\, 2029Monday        \n            \n            Diwali (Deepavali)Oct 26\, 2030Saturday        \n            \n            Diwali (Deepavali)Nov 14\, 2031Friday        \n            \n            Diwali (Deepavali)Nov 02\, 2032Tuesday        \n            \n            Diwali (Deepavali)Oct 22\, 2033Saturday        \n            \n            Diwali (Deepavali)Nov 10\, 2034Friday        \n            \n            Diwali (Deepavali)Oct 30\, 2035Tuesday        \n            \n            Diwali (Deepavali)Oct 18\, 2036Saturday        \n            \n            Diwali (Deepavali)Nov 07\, 2037Saturday        \n            \n            Diwali (Deepavali)Oct 27\, 2038Wednesday        \n            \n            Diwali (Deepavali)Nov 15\, 2039Tuesday        \n            \n            Diwali (Deepavali)Nov 04\, 2040Sunday        \n            \n            Diwali (Deepavali)Oct 24\, 2041Thursday        \n            \n            Diwali (Deepavali)Nov 12\, 2042Wednesday        \n            \n            Diwali (Deepavali)Nov 01\, 2043Sunday        \n            \n            Diwali (Deepavali)Oct 20\, 2044Thursday        \n            \n            Diwali (Deepavali)Nov 08\, 2045Wednesday        \n            \n            Diwali (Deepavali)Oct 29\, 2046Monday        \n            \n            Diwali (Deepavali)Oct 18\, 2047Friday        \n            \n            Diwali (Deepavali)Nov 05\, 2048Thursday        \n            \n            Diwali (Deepavali)Oct 26\, 2049Tuesday        \n    \n    \n    \n    \n    \n\n\nThe History of Diwali\nDiwali is an ancient festival celebrated across India and other parts of the world with deep cultural and spiritual significance. Known as the Festival of Lights\, its origins are rooted in mythology\, history and religious traditions. \nOne of the most popular legends associates Diwali with Lord Rama from the Hindu epic Ramayana. After 14 years of exile and defeating the demon king Ravana\, Rama returned to his kingdom of Ayodhya with his wife and brother. To celebrate their return and the triumph of good over evil\, the people of Ayodhya lit rows of oil lamps\, symbolizing the victory of light over darkness. \nIn some traditions\, Diwali celebrates Lord Krishna's victory over the demon Narakasura\, who had terrorized the people of Earth and kidnapped thousands of women. Krishna defeated Narakasura\, symbolizing the destruction of evil and the liberation of the oppressed. \nThe earliest references to Diwali can be found in Sanskrit texts\, which describe the significance of lighting lamps during harvest festivals. Diwali was initially a harvest festival celebrated to honor prosperity and the bounty of the land. \nOver centuries\, Diwali gained prominence during the reign of Hindu kings and emperors. The festival became a unifying celebration\, transcending regional and cultural differences. \nDuring the Mughal period\, Diwali remained an important festival for Hindus\, with rulers often respecting its significance. Under British rule\, Diwali continued to flourish as a symbol of cultural identity and resilience. \nDiwali is one of the most sacred festivals for Hindus\, Jains\, Sikhs and Buddhists\, celebrated with prayers and traditions. Over the years\, Diwali has evolved into a cultural festival celebrated by people of all backgrounds in India and beyond\, symbolizing joy and renewal. \n   \nWhat Do People Do on This Day?\nHomes are thoroughly cleaned and decorated to welcome positive energy and prosperity. Rangoli designs made with colored powders\, flowersor rice are created at entrances to invite Goddess Lakshmi. \nDevotees worship Goddess Lakshmi (goddess of wealth) and Lord Ganesha (remover of obstacles) during the evening. Homes are illuminated with diyas during the Lakshmi Puja\, seeking blessings for prosperity and well-being. \nFamilies buy new clothes\, jewelry and household items\, as wearing fresh attire on Diwali is considered auspicious. Many families visit temples to offer prayers and participate in special rituals. \nFireworks and sparklers are lit as part of the celebrations\, symbolizing the removal of darkness and the victory of light. \nFamilies prepare and enjoy elaborate meals\, featuring both savory and sweet dishes. Food and sweets are shared with neighbors\, friends\, and relatives as a gesture of goodwill. \nGifts such as sweets\, dry fruits\, decorative items\, and jewelry are exchanged among family and friends to spreading happiness and goodwill. \nMany people give food\, clothes\, or money to the underprivileged\, ensuring that everyone can partake in the festivities. Temples and community centers often organize charity drives. \nThe Hindu Lunar Calendar\nThe Hindu lunar calendar is a traditional calendar system used in Hindu culture to determine the timing of religious festivals\, rituals and auspicious days. It is a luni-solar calendar\, combining elements of the Moon's and the Sun's movements. \nThe calendar is based on the phases of the Moon\, with each month beginning at the new moon (Amavasya) or full moon (Purnima)\, depending on the regional tradition. \nA lunar month consists of 29.5 days\, resulting in 354 or 355 days in a lunar year\, approximately 10–12 days shorter than the solar year. To align with the solar year\, an extra month is added approximately every 2.5 years. \nSeasons: The year is divided into six seasons. \n1. Vasanta Ritu (Spring)\n2. Grishma Ritu (Summer)\n3. Varsha Ritu (Monsoon)\n4. Sharad Ritu (Autumn)\n5. Hemanta Ritu (Pre-winter)\n6. Shishira Ritu (Winter) \nMonths: The Hindu Lunar Calendar has 12 months.  \n1. Chaitra (March–April)\n2. Vaishakha (April–May)\n3. Jyeshtha (May–June)\n4. Ashadha (June–July)\n5. Shravana (July–August)\n6. Bhadrapada (August–September)\n7. Ashwin (September–October)\n8. Kartika (October–November)\n9. Margashirsha (November–December)\n10. Pausha (December–January)\n11. Magha (January–February)\n12. Phalguna (February–March) \nWeeks: The Hindu calendar recognizes seven days of the week\, each associated with a celestial body.  \n1. Sunday (Ravivara) – Sun\n2. Monday (Somavara) – Moon\n3. Tuesday (Mangalavara) – Mars\n4. Wednesday (Budhavara) – Mercury\n5. Thursday (Guruvara) – Jupiter\n6. Friday (Shukravara) – Venus\n7. Saturday (Shanivara) – Saturn
URL:https://excelnotes.com/holiday/diwali/
CATEGORIES:Hinduism,Religion Holiday
ATTACH;FMTTYPE=image/jpeg:https://excelnotes.com/wp-content/uploads/2025/01/Diwali.jpg
END:VEVENT
END:VCALENDAR