BEGIN:VCALENDAR
VERSION:2.0
PRODID:-//ExcelNotes - ECPv6.15.20//NONSGML v1.0//EN
CALSCALE:GREGORIAN
METHOD:PUBLISH
X-WR-CALNAME:ExcelNotes
X-ORIGINAL-URL:https://excelnotes.com
X-WR-CALDESC:Events for ExcelNotes
REFRESH-INTERVAL;VALUE=DURATION:PT1H
X-Robots-Tag:noindex
X-PUBLISHED-TTL:PT1H
BEGIN:VTIMEZONE
TZID:America/New_York
BEGIN:DAYLIGHT
TZOFFSETFROM:-0500
TZOFFSETTO:-0400
TZNAME:EDT
DTSTART:20240310T070000
END:DAYLIGHT
BEGIN:STANDARD
TZOFFSETFROM:-0400
TZOFFSETTO:-0500
TZNAME:EST
DTSTART:20241103T060000
END:STANDARD
BEGIN:DAYLIGHT
TZOFFSETFROM:-0500
TZOFFSETTO:-0400
TZNAME:EDT
DTSTART:20250309T070000
END:DAYLIGHT
BEGIN:STANDARD
TZOFFSETFROM:-0400
TZOFFSETTO:-0500
TZNAME:EST
DTSTART:20251102T060000
END:STANDARD
BEGIN:DAYLIGHT
TZOFFSETFROM:-0500
TZOFFSETTO:-0400
TZNAME:EDT
DTSTART:20260308T070000
END:DAYLIGHT
BEGIN:STANDARD
TZOFFSETFROM:-0400
TZOFFSETTO:-0500
TZNAME:EST
DTSTART:20261101T060000
END:STANDARD
BEGIN:DAYLIGHT
TZOFFSETFROM:-0500
TZOFFSETTO:-0400
TZNAME:EDT
DTSTART:20270314T070000
END:DAYLIGHT
BEGIN:STANDARD
TZOFFSETFROM:-0400
TZOFFSETTO:-0500
TZNAME:EST
DTSTART:20271107T060000
END:STANDARD
END:VTIMEZONE
BEGIN:VEVENT
DTSTART;VALUE=DATE:20251112
DTEND;VALUE=DATE:20261013
DTSTAMP:20260420T214558
CREATED:20251112T055143Z
LAST-MODIFIED:20251112T055143Z
UID:10000757-1762905600-1791849599@excelnotes.com
SUMMARY:Lady of Aparecida Day (Brazil)
DESCRIPTION:Our Lady of Aparecida Day honors Nossa Senhora Aparecida\, the patron saint of Brazil. The day commemorates the 1717 discovery of a small clay statue of the Virgin Mary by fishermen in the Paraíba River\, which became a symbol of hope and faith. Over centuries\, devotion to Our Lady of Aparecida grew into one of Brazil's most cherished traditions. Millions of pilgrims visit the Basilica of the National Shrine of Aparecida\, one of the largest churches in the world\, to pay tribute. \nWhen is Lady of Aparecida Day?\nLady of Aparecida Day in Brazil is celebrated on October 12 every year.  \nThe following is the list of Lady of Aparecida Day from 2020 to 2049. \n   \n\n                \n                \n                            \n                            \n                            \n                    \n        \n\n                                                        HolidayDateWeekday\n\n\n\n        \n            Lady of Aparecida DayOct 12\, 2020Monday        \n            \n            Lady of Aparecida DayOct 12\, 2021Tuesday        \n            \n            Lady of Aparecida DayOct 12\, 2022Wednesday        \n            \n            Lady of Aparecida DayOct 12\, 2023Thursday        \n            \n            Lady of Aparecida DayOct 12\, 2024Saturday        \n            \n            Lady of Aparecida DayOct 12\, 2025Sunday        \n            \n            Lady of Aparecida DayOct 12\, 2026Monday        \n            \n            Lady of Aparecida DayOct 12\, 2027Tuesday        \n            \n            Lady of Aparecida DayOct 12\, 2028Thursday        \n            \n            Lady of Aparecida DayOct 12\, 2029Friday        \n            \n            Lady of Aparecida DayOct 12\, 2030Saturday        \n            \n            Lady of Aparecida DayOct 12\, 2031Sunday        \n            \n            Lady of Aparecida DayOct 12\, 2032Tuesday        \n            \n            Lady of Aparecida DayOct 12\, 2033Wednesday        \n            \n            Lady of Aparecida DayOct 12\, 2034Thursday        \n            \n            Lady of Aparecida DayOct 12\, 2035Friday        \n            \n            Lady of Aparecida DayOct 12\, 2036Sunday        \n            \n            Lady of Aparecida DayOct 12\, 2037Monday        \n            \n            Lady of Aparecida DayOct 12\, 2038Tuesday        \n            \n            Lady of Aparecida DayOct 12\, 2039Wednesday        \n            \n            Lady of Aparecida DayOct 12\, 2040Friday        \n            \n            Lady of Aparecida DayOct 12\, 2041Saturday        \n            \n            Lady of Aparecida DayOct 12\, 2042Sunday        \n            \n            Lady of Aparecida DayOct 12\, 2043Monday        \n            \n            Lady of Aparecida DayOct 12\, 2044Wednesday        \n            \n            Lady of Aparecida DayOct 12\, 2045Thursday        \n            \n            Lady of Aparecida DayOct 12\, 2046Friday        \n            \n            Lady of Aparecida DayOct 12\, 2047Saturday        \n            \n            Lady of Aparecida DayOct 12\, 2048Monday        \n            \n            Lady of Aparecida DayOct 12\, 2049Tuesday        \n    \n    \n    \n    \n    \n\n\nThe History of Lady of Aparecida Day?\nThe devotion to Our Lady of Aparecida began in October 1717\, in the small village of Guaratinguetá\, in the Paraíba Valley of São Paulo state. Local fishermen were struggling to catch fish in the Paraíba River as they prepared for the visit of a regional governor\, Dom Pedro de Almeida e Portugal\, Count of Assumar. \nThree fishermen\, Domingos Garcia\, João Alves\, and Filipe Pedroso\, prayed to the Virgin Mary for help. Casting their nets\, they first pulled up a small clay statue of a headless figure from the river. When they cast their nets again\, they found the missing head. After retrieving and cleaning the statue\, they continued fishing\, and to their astonishment\, their nets filled with fish. \nThe fishermen took this as a miracle\, and word of the event spread quickly. The little dark-skinned clay statue\, later recognized as Our Lady of the Immaculate Conception\, came to be affectionately called Nossa Senhora Aparecida\, meaning "Our Lady Who Appeared". \nThe statue was first kept in the home of Filipe Pedroso\, where neighbors gathered to pray. Reports of miracles and healings attributed to Our Lady of Aparecida multiplied\, and devotion to her spread across the region. In 1745\, a small chapel was built to house the statue\, and by 1834\, a larger church\, the Old Basilica\, was constructed to accommodate growing numbers of pilgrims. \nIn 1904\, Pope Pius X authorized the canonical coronation of Our Lady of Aparecida\, officially recognizing her as a sacred symbol of devotion. Later\, in 1930\, Pope Pius XI declared her the Patroness of Brazil\, cementing her status as a national spiritual figure. \nThe Basilica of the National Shrine of Our Lady of Aparecida\, built to replace the older church\, began construction in 1955 and was completed in 1980. That same year\, Pope John Paul II visited Brazil and consecrated the new basilica\, recognizing it as one of the largest Marian shrines in the world. In 1980\, the Brazilian government officially established October 12 as a national holiday dedicated to Our Lady of Aparecida\, blending religious reverence with cultural celebration. \nToday\, millions of pilgrims visit the Basilica of Aparecida each year\, especially on October 12\, walking\, cycling or even traveling long distances on foot to express devotion and gratitude.
URL:https://excelnotes.com/holiday/lady-of-aparecida-day-brazil/
CATEGORIES:Christianity
ATTACH;FMTTYPE=image/jpeg:https://excelnotes.com/wp-content/uploads/2025/11/Lady-of-Aparecida-Day-Brazil.jpg
END:VEVENT
BEGIN:VEVENT
DTSTART;VALUE=DATE:20260524
DTEND;VALUE=DATE:20260525
DTSTAMP:20260420T214558
CREATED:20250906T235422Z
LAST-MODIFIED:20250906T235422Z
UID:10000492-1779580800-1779667199@excelnotes.com
SUMMARY:Buddha's Birthday (South Korea)
DESCRIPTION:Buddha's Birthday originated in India\, spread across Asia with Buddhism\, and became a central festival in Korea from the 4th century CE. Despite suppression under Confucian rule\, it survived and is now one of Korea's most cherished holidays\, marked by lantern festivals\, rituals\, and cultural celebrations. \nWhen is Buddha's Birthday?\nBuddha's Birthday in South Korea is celebrated on the 8th day of the 4th month of the lunar calendar\, usually falling in April or May of the Gregorian calendar.  \nThe following is the list of Buddha's Birthday from 2020 to 2049. \n   \n\n                \n                \n                            \n                            \n                            \n                    \n        \n\n                                                        HolidayDateWeekday\n\n\n\n        \n            Buddha's BirthdayApr 30\, 2020Thursday        \n            \n            Buddha's BirthdayMay 19\, 2021Wednesday        \n            \n            Buddha's BirthdayMay 08\, 2022Sunday        \n            \n            Buddha's BirthdayMay 26\, 2023Friday        \n            \n            Buddha's BirthdayMay 15\, 2024Wednesday        \n            \n            Buddha's BirthdayMay 05\, 2025Monday        \n            \n            Buddha's BirthdayMay 24\, 2026Sunday        \n            \n            Buddha's BirthdayMay 13\, 2027Thursday        \n            \n            Buddha's BirthdayMay 02\, 2028Tuesday        \n            \n            Buddha's BirthdayMay 20\, 2029Sunday        \n            \n            Buddha's BirthdayMay 09\, 2030Thursday        \n            \n            Buddha's BirthdayMay 28\, 2031Wednesday        \n            \n            Buddha's BirthdayMay 16\, 2032Sunday        \n            \n            Buddha's BirthdayMay 06\, 2033Friday        \n            \n            Buddha's BirthdayMay 25\, 2034Thursday        \n            \n            Buddha's BirthdayMay 15\, 2035Tuesday        \n            \n            Buddha's BirthdayMay 03\, 2036Saturday        \n            \n            Buddha's BirthdayMay 22\, 2037Friday        \n            \n            Buddha's BirthdayMay 11\, 2038Tuesday        \n            \n            Buddha's BirthdayApr 30\, 2039Saturday        \n            \n            Buddha's BirthdayMay 18\, 2040Friday        \n            \n            Buddha's BirthdayMay 07\, 2041Tuesday        \n            \n            Buddha's BirthdayMay 26\, 2042Monday        \n            \n            Buddha's BirthdayMay 16\, 2043Saturday        \n            \n            Buddha's BirthdayMay 05\, 2044Thursday        \n            \n            Buddha's BirthdayMay 24\, 2045Wednesday        \n            \n            Buddha's BirthdayMay 13\, 2046Sunday        \n            \n            Buddha's BirthdayMay 02\, 2047Thursday        \n            \n            Buddha's BirthdayMay 20\, 2048Wednesday        \n            \n            Buddha's BirthdayMay 09\, 2049Sunday        \n            \n                    \n    \n    \n    \n    \n    \n\n\nThe History of Buddha's Birthday?\nSiddhartha Gautama\, later known as the Buddha\, was born around the 5th–4th century BCE in Lumbini\, in present-day Nepal. According to Buddhist tradition\, he was born on the 8th day of the 4th lunar month\, which became the basis for commemorating Buddha's Birthday across Buddhist cultures. \nAs Buddhism spread from India to China\, Korea\, Japan\, and Southeast Asia (from the 1st century CE onward)\, the celebration of Buddha's birth became part of local religious calendars. \nEach culture adapted the traditions\, but most kept the 4th lunar month\, 8th day as the sacred date. \nBuddhism entered Korea through China during the Three Kingdoms Period (Goguryeo\, Baekje\, and Silla) in the 4th century CE. \nSilla Dynasty (7th–9th century): Buddha's Birthday became a state-recognized festival\, with lantern-lighting ceremonies symbolizing enlightenment. \nGoryeo Dynasty (918–1392): Buddhism flourished\, and Buddha's Birthday was celebrated with large-scale temple ceremonies and public lantern festivals. \nJoseon Dynasty (1392–1897): Under Confucian rule\, Buddhism was suppressed\, but common people and monks continued to celebrate Buddha's Birthday\, keeping traditions alive. \nModern Era: With the revival of Buddhism in the 20th century\, Buddha's Birthday regained official recognition. In South Korea today\, it is a public holiday\, celebrated nationwide.
URL:https://excelnotes.com/holiday/buddhas-birthday-south-korea/
CATEGORIES:Buddhism
ATTACH;FMTTYPE=image/jpeg:https://excelnotes.com/wp-content/uploads/2025/09/Buddhas-Birthday-South-Korea.jpg
END:VEVENT
BEGIN:VEVENT
DTSTART;VALUE=DATE:20260524
DTEND;VALUE=DATE:20260525
DTSTAMP:20260420T214558
CREATED:20251012T203941Z
LAST-MODIFIED:20251012T204145Z
UID:10000706-1779580800-1779667199@excelnotes.com
SUMMARY:Buddha's Birthday (Hong Kong)
DESCRIPTION:Buddha's Birthday in Hong Kong honors the birth of Siddhartha Gautama\, the founder of Buddhism. It is a public holiday marked by ceremonies\, temple visits\, and the ritual of bathing the Buddha\, symbolizing purity\, compassion and spiritual renewal. \nWhen is Buddha's Birthday?\nBuddha's Birthday in Hong Kong is celebrated on the eighth day of the fourth lunar month every year.  \nThe following is the list of Buddha's Birthday from 2020 to 2049. \n   \n\n                \n                \n                            \n                            \n                            \n                    \n        \n\n                                                        HolidayDateWeekday\n\n\n\n        \n            Buddha's BirthdayApr 30\, 2020Thursday        \n            \n            Buddha's BirthdayMay 19\, 2021Wednesday        \n            \n            Buddha's BirthdayMay 08\, 2022Sunday        \n            \n            Buddha's BirthdayMay 26\, 2023Friday        \n            \n            Buddha's BirthdayMay 15\, 2024Wednesday        \n            \n            Buddha's BirthdayMay 05\, 2025Monday        \n            \n            Buddha's BirthdayMay 24\, 2026Sunday        \n            \n            Buddha's BirthdayMay 13\, 2027Thursday        \n            \n            Buddha's BirthdayMay 02\, 2028Tuesday        \n            \n            Buddha's BirthdayMay 20\, 2029Sunday        \n            \n            Buddha's BirthdayMay 09\, 2030Thursday        \n            \n            Buddha's BirthdayMay 28\, 2031Wednesday        \n            \n            Buddha's BirthdayMay 16\, 2032Sunday        \n            \n            Buddha's BirthdayMay 06\, 2033Friday        \n            \n            Buddha's BirthdayMay 25\, 2034Thursday        \n            \n            Buddha's BirthdayMay 15\, 2035Tuesday        \n            \n            Buddha's BirthdayMay 03\, 2036Saturday        \n            \n            Buddha's BirthdayMay 22\, 2037Friday        \n            \n            Buddha's BirthdayMay 11\, 2038Tuesday        \n            \n            Buddha's BirthdayApr 30\, 2039Saturday        \n            \n            Buddha's BirthdayMay 18\, 2040Friday        \n            \n            Buddha's BirthdayMay 07\, 2041Tuesday        \n            \n            Buddha's BirthdayMay 26\, 2042Monday        \n            \n            Buddha's BirthdayMay 16\, 2043Saturday        \n            \n            Buddha's BirthdayMay 05\, 2044Thursday        \n            \n            Buddha's BirthdayMay 24\, 2045Wednesday        \n            \n            Buddha's BirthdayMay 13\, 2046Sunday        \n            \n            Buddha's BirthdayMay 02\, 2047Thursday        \n            \n            Buddha's BirthdayMay 20\, 2048Wednesday        \n            \n            Buddha's BirthdayMay 09\, 2049Sunday        \n    \n    \n    \n    \n    \n\n\nThe History of Buddha's Birthday?\nBuddha's Birthday celebrates the birth of Siddhartha Gautama\, who later became known as the Buddha\, meaning "The Enlightened One". Siddhartha was born around 563 BCE in Lumbini (present-day Nepal)\, a prince who renounced his royal life in search of spiritual truth. \nHis teachings on compassion\, mindfulness\, and the path to enlightenment became the foundation of Buddhism\, one of the world's major religions. Traditionally\, Buddhists believe that Buddha's birth\, enlightenment\, and passing into nirvana all occurred on the same day — the eighth day of the fourth lunar month\, which is when Buddha's Birthday is celebrated in Hong Kong and other parts of East Asia. \nThe commemoration of Buddha's birth began in India and spread across China\, Korea\, Japan\, and Southeast Asia over centuries. Each culture developed its own customs.  \nIn China\, the celebration dates back to the Eastern Han dynasty (25–220 CE)\, when Buddhist temples were established and followers began to honor the Buddha's birth with offerings and rituals. This tradition traveled to Hong Kong through centuries of Chinese migration and cultural exchange\, blending seamlessly with local practices. \nBuddhism was introduced to Hong Kong during the 19th century\, alongside waves of Chinese settlers from Guangdong province. By the late 1800s and early 1900s\, Hong Kong had established several important Buddhist temples\, which would later become one of the most prominent sites for Buddha's Birthday celebrations. Over time\, Buddhism became one of the major religions in Hong Kong\, practiced alongside Taoism\, Confucianism\, and Christianity. \nBefore the mid-1990s\, Buddha's Birthday was widely celebrated by the Buddhist community but was not yet a public holiday in colonial Hong Kong. In 1997\, the same year Hong Kong was handed over from Britain to China\, the Hong Kong SAR Government officially recognized Buddha's Birthday as a public holiday\, replacing the Queen's Birthday holiday. This change reflected Hong Kong's cultural and religious identity\, acknowledging Buddhism's deep historical roots in Chinese society and its influence in the region. \nToday\, Buddha's Birthday is celebrated by both devout Buddhists and the general public as a day of reflection\, compassion\, and community. The most iconic ritual is the Bathing of the Buddha Ceremony\, symbolizing inner purification and the washing away of ignorance and suffering. Many people also participate in volunteer activities or release captive animals (such as fish or birds) as a gesture of compassion\, although animal release is increasingly replaced by eco-friendly practices.
URL:https://excelnotes.com/holiday/buddhas-birthday-hong-kong/
CATEGORIES:Buddhism
ATTACH;FMTTYPE=image/jpeg:https://excelnotes.com/wp-content/uploads/2025/10/Buddhas-Birthday-Hong-Kong.jpg
END:VEVENT
BEGIN:VEVENT
DTSTART;VALUE=DATE:20260524
DTEND;VALUE=DATE:20260525
DTSTAMP:20260420T214558
CREATED:20251017T042831Z
LAST-MODIFIED:20251017T043044Z
UID:10000729-1779580800-1779667199@excelnotes.com
SUMMARY:Buddha's Birthday (Macau)
DESCRIPTION:Buddha's Birthday honors the birth of Siddhartha Gautama\, the founder of Buddhism. The day is marked with temple ceremonies\, incense offerings\, and the symbolic "Bathing of the Buddha" ritual\, where devotees pour water over Buddha statues to signify purification and renewal. \nWhen is Buddha's Birthday?\nBuddha's Birthday is celebrated in Macau on the eighth day of the fourth lunar month.  \nThe following is the list of Buddha's Birthday from 2020 to 2049. \n   \n\n                \n                \n                            \n                            \n                            \n                    \n        \n\n                                                        HolidayDateWeekday\n\n\n\n        \n            Buddha's BirthdayApr 30\, 2020Thursday        \n            \n            Buddha's BirthdayMay 19\, 2021Wednesday        \n            \n            Buddha's BirthdayMay 08\, 2022Sunday        \n            \n            Buddha's BirthdayMay 26\, 2023Friday        \n            \n            Buddha's BirthdayMay 15\, 2024Wednesday        \n            \n            Buddha's BirthdayMay 05\, 2025Monday        \n            \n            Buddha's BirthdayMay 24\, 2026Sunday        \n            \n            Buddha's BirthdayMay 13\, 2027Thursday        \n            \n            Buddha's BirthdayMay 02\, 2028Tuesday        \n            \n            Buddha's BirthdayMay 20\, 2029Sunday        \n            \n            Buddha's BirthdayMay 09\, 2030Thursday        \n            \n            Buddha's BirthdayMay 28\, 2031Wednesday        \n            \n            Buddha's BirthdayMay 16\, 2032Sunday        \n            \n            Buddha's BirthdayMay 06\, 2033Friday        \n            \n            Buddha's BirthdayMay 25\, 2034Thursday        \n            \n            Buddha's BirthdayMay 15\, 2035Tuesday        \n            \n            Buddha's BirthdayMay 03\, 2036Saturday        \n            \n            Buddha's BirthdayMay 22\, 2037Friday        \n            \n            Buddha's BirthdayMay 11\, 2038Tuesday        \n            \n            Buddha's BirthdayApr 30\, 2039Saturday        \n            \n            Buddha's BirthdayMay 18\, 2040Friday        \n            \n            Buddha's BirthdayMay 07\, 2041Tuesday        \n            \n            Buddha's BirthdayMay 26\, 2042Monday        \n            \n            Buddha's BirthdayMay 16\, 2043Saturday        \n            \n            Buddha's BirthdayMay 05\, 2044Thursday        \n            \n            Buddha's BirthdayMay 24\, 2045Wednesday        \n            \n            Buddha's BirthdayMay 13\, 2046Sunday        \n            \n            Buddha's BirthdayMay 02\, 2047Thursday        \n            \n            Buddha's BirthdayMay 20\, 2048Wednesday        \n            \n            Buddha's BirthdayMay 09\, 2049Sunday        \n    \n    \n    \n    \n    \n\n\nThe History of Buddha's Birthday?\nBuddha's Birthday is one of the most important Buddhist festivals in Macau\, as well as throughout much of East Asia. It commemorates the birth of Prince Siddhartha Gautama\, who later became Buddha Shakyamuni\, the Enlightened One\, founder of Buddhism. \nThe holiday's origins date back over 2\,500 years to ancient India. According to Buddhist tradition\, Siddhartha Gautama was born around 563 BCE in Lumbini (in present-day Nepal). His birth was accompanied by miraculous signs—lotus flowers blooming beneath his feet and heavenly beings celebrating his arrival. The festival spread across Asia as Buddhism expanded\, taking root in China during the Han Dynasty (206 BCE–220 CE)\, where it became a day of devotion and moral reflection. \nIn Macau\, where Chinese and Buddhist cultural traditions are deeply interwoven\, the festival has long been observed with both solemnity and festivity. Temples such as Pou Tai Un\, Lin Fung\, and Kun Iam Temple host elaborate ceremonies\, including the "Bathing of the Buddha" ritual. Devotees pour fragrant water over statues of the infant Buddha\, symbolizing inner purification and the washing away of negative karma. \nBuddha's Birthday in Macau is also marked by offerings of flowers\, incense and vegetarian meals\, alongside community service and prayers for peace and well-being. The festival reflects Macau's spiritual diversity and its enduring respect for compassion\, mindfulness and harmony\, values central to Buddhist philosophy.
URL:https://excelnotes.com/holiday/buddhas-birthday-macau/
CATEGORIES:Buddhism
ATTACH;FMTTYPE=image/jpeg:https://excelnotes.com/wp-content/uploads/2025/10/Buddhas-Birthday-Macau.jpg
END:VEVENT
END:VCALENDAR