BEGIN:VCALENDAR
VERSION:2.0
PRODID:-//ExcelNotes - ECPv6.15.20//NONSGML v1.0//EN
CALSCALE:GREGORIAN
METHOD:PUBLISH
X-WR-CALNAME:ExcelNotes
X-ORIGINAL-URL:https://excelnotes.com
X-WR-CALDESC:Events for ExcelNotes
REFRESH-INTERVAL;VALUE=DURATION:PT1H
X-Robots-Tag:noindex
X-PUBLISHED-TTL:PT1H
BEGIN:VTIMEZONE
TZID:America/New_York
BEGIN:DAYLIGHT
TZOFFSETFROM:-0500
TZOFFSETTO:-0400
TZNAME:EDT
DTSTART:20240310T070000
END:DAYLIGHT
BEGIN:STANDARD
TZOFFSETFROM:-0400
TZOFFSETTO:-0500
TZNAME:EST
DTSTART:20241103T060000
END:STANDARD
BEGIN:DAYLIGHT
TZOFFSETFROM:-0500
TZOFFSETTO:-0400
TZNAME:EDT
DTSTART:20250309T070000
END:DAYLIGHT
BEGIN:STANDARD
TZOFFSETFROM:-0400
TZOFFSETTO:-0500
TZNAME:EST
DTSTART:20251102T060000
END:STANDARD
BEGIN:DAYLIGHT
TZOFFSETFROM:-0500
TZOFFSETTO:-0400
TZNAME:EDT
DTSTART:20260308T070000
END:DAYLIGHT
BEGIN:STANDARD
TZOFFSETFROM:-0400
TZOFFSETTO:-0500
TZNAME:EST
DTSTART:20261101T060000
END:STANDARD
BEGIN:DAYLIGHT
TZOFFSETFROM:-0500
TZOFFSETTO:-0400
TZNAME:EDT
DTSTART:20270314T070000
END:DAYLIGHT
BEGIN:STANDARD
TZOFFSETFROM:-0400
TZOFFSETTO:-0500
TZNAME:EST
DTSTART:20271107T060000
END:STANDARD
END:VTIMEZONE
BEGIN:VEVENT
DTSTART;VALUE=DATE:20251112
DTEND;VALUE=DATE:20261013
DTSTAMP:20260420T204111
CREATED:20251112T055143Z
LAST-MODIFIED:20251112T055143Z
UID:10000757-1762905600-1791849599@excelnotes.com
SUMMARY:Lady of Aparecida Day (Brazil)
DESCRIPTION:Our Lady of Aparecida Day honors Nossa Senhora Aparecida\, the patron saint of Brazil. The day commemorates the 1717 discovery of a small clay statue of the Virgin Mary by fishermen in the Paraíba River\, which became a symbol of hope and faith. Over centuries\, devotion to Our Lady of Aparecida grew into one of Brazil's most cherished traditions. Millions of pilgrims visit the Basilica of the National Shrine of Aparecida\, one of the largest churches in the world\, to pay tribute. \nWhen is Lady of Aparecida Day?\nLady of Aparecida Day in Brazil is celebrated on October 12 every year.  \nThe following is the list of Lady of Aparecida Day from 2020 to 2049. \n   \n\n                \n                \n                            \n                            \n                            \n                    \n        \n\n                                                        HolidayDateWeekday\n\n\n\n        \n            Lady of Aparecida DayOct 12\, 2020Monday        \n            \n            Lady of Aparecida DayOct 12\, 2021Tuesday        \n            \n            Lady of Aparecida DayOct 12\, 2022Wednesday        \n            \n            Lady of Aparecida DayOct 12\, 2023Thursday        \n            \n            Lady of Aparecida DayOct 12\, 2024Saturday        \n            \n            Lady of Aparecida DayOct 12\, 2025Sunday        \n            \n            Lady of Aparecida DayOct 12\, 2026Monday        \n            \n            Lady of Aparecida DayOct 12\, 2027Tuesday        \n            \n            Lady of Aparecida DayOct 12\, 2028Thursday        \n            \n            Lady of Aparecida DayOct 12\, 2029Friday        \n            \n            Lady of Aparecida DayOct 12\, 2030Saturday        \n            \n            Lady of Aparecida DayOct 12\, 2031Sunday        \n            \n            Lady of Aparecida DayOct 12\, 2032Tuesday        \n            \n            Lady of Aparecida DayOct 12\, 2033Wednesday        \n            \n            Lady of Aparecida DayOct 12\, 2034Thursday        \n            \n            Lady of Aparecida DayOct 12\, 2035Friday        \n            \n            Lady of Aparecida DayOct 12\, 2036Sunday        \n            \n            Lady of Aparecida DayOct 12\, 2037Monday        \n            \n            Lady of Aparecida DayOct 12\, 2038Tuesday        \n            \n            Lady of Aparecida DayOct 12\, 2039Wednesday        \n            \n            Lady of Aparecida DayOct 12\, 2040Friday        \n            \n            Lady of Aparecida DayOct 12\, 2041Saturday        \n            \n            Lady of Aparecida DayOct 12\, 2042Sunday        \n            \n            Lady of Aparecida DayOct 12\, 2043Monday        \n            \n            Lady of Aparecida DayOct 12\, 2044Wednesday        \n            \n            Lady of Aparecida DayOct 12\, 2045Thursday        \n            \n            Lady of Aparecida DayOct 12\, 2046Friday        \n            \n            Lady of Aparecida DayOct 12\, 2047Saturday        \n            \n            Lady of Aparecida DayOct 12\, 2048Monday        \n            \n            Lady of Aparecida DayOct 12\, 2049Tuesday        \n    \n    \n    \n    \n    \n\n\nThe History of Lady of Aparecida Day?\nThe devotion to Our Lady of Aparecida began in October 1717\, in the small village of Guaratinguetá\, in the Paraíba Valley of São Paulo state. Local fishermen were struggling to catch fish in the Paraíba River as they prepared for the visit of a regional governor\, Dom Pedro de Almeida e Portugal\, Count of Assumar. \nThree fishermen\, Domingos Garcia\, João Alves\, and Filipe Pedroso\, prayed to the Virgin Mary for help. Casting their nets\, they first pulled up a small clay statue of a headless figure from the river. When they cast their nets again\, they found the missing head. After retrieving and cleaning the statue\, they continued fishing\, and to their astonishment\, their nets filled with fish. \nThe fishermen took this as a miracle\, and word of the event spread quickly. The little dark-skinned clay statue\, later recognized as Our Lady of the Immaculate Conception\, came to be affectionately called Nossa Senhora Aparecida\, meaning "Our Lady Who Appeared". \nThe statue was first kept in the home of Filipe Pedroso\, where neighbors gathered to pray. Reports of miracles and healings attributed to Our Lady of Aparecida multiplied\, and devotion to her spread across the region. In 1745\, a small chapel was built to house the statue\, and by 1834\, a larger church\, the Old Basilica\, was constructed to accommodate growing numbers of pilgrims. \nIn 1904\, Pope Pius X authorized the canonical coronation of Our Lady of Aparecida\, officially recognizing her as a sacred symbol of devotion. Later\, in 1930\, Pope Pius XI declared her the Patroness of Brazil\, cementing her status as a national spiritual figure. \nThe Basilica of the National Shrine of Our Lady of Aparecida\, built to replace the older church\, began construction in 1955 and was completed in 1980. That same year\, Pope John Paul II visited Brazil and consecrated the new basilica\, recognizing it as one of the largest Marian shrines in the world. In 1980\, the Brazilian government officially established October 12 as a national holiday dedicated to Our Lady of Aparecida\, blending religious reverence with cultural celebration. \nToday\, millions of pilgrims visit the Basilica of Aparecida each year\, especially on October 12\, walking\, cycling or even traveling long distances on foot to express devotion and gratitude.
URL:https://excelnotes.com/holiday/lady-of-aparecida-day-brazil/
CATEGORIES:Christianity
ATTACH;FMTTYPE=image/jpeg:https://excelnotes.com/wp-content/uploads/2025/11/Lady-of-Aparecida-Day-Brazil.jpg
END:VEVENT
BEGIN:VEVENT
DTSTART;VALUE=DATE:20260320
DTEND;VALUE=DATE:20260321
DTSTAMP:20260420T204111
CREATED:20250111T163718Z
LAST-MODIFIED:20250402T191716Z
UID:10000175-1773964800-1774051199@excelnotes.com
SUMMARY:Eid al-Fitr
DESCRIPTION:Eid al-Fitr is a significant Islamic celebration marking the end of Ramadan\, the holy month of fasting. The term "Eid al-Fitr" translates to "Festival of Breaking the Fast"\, and it is observed by Muslims worldwide with prayer\, charity and joyous festivities. \nTable of Contents\n\nWhen is Eid al-Fitr?\nThe History of Eid al-Fitr?\nWhat Do People Do on This Day?\nThe Islamic Lunar Calendar\n\nWhen is Eid al-Fitr?\nThe date of Eid al-Fitr varies each year as it is based on the Islamic lunar calendar. It marks the first day of Shawwal\, the month following Ramadan. The specific date depends on the sighting of the crescent moon\, so it may vary by a day in different countries. \nThe following is the list of Eid al-Fitr from 2020 to 2049. \n   \n\n                \n                \n                            \n                            \n                            \n                    \n        \n\n                                                        HolidayDateWeekday\n\n\n\n        \n            Eid al-FitrMay 24\, 2020Sunday        \n            \n            Eid al-FitrMay 13\, 2021Thursday        \n            \n            Eid al-FitrMay 02\, 2022Monday        \n            \n            Eid al-FitrApr 21\, 2023Friday        \n            \n            Eid al-FitrApr 10\, 2024Wednesday        \n            \n            Eid al-FitrMar 31\, 2025Monday        \n            \n            Eid al-FitrMar 20\, 2026Friday        \n            \n            Eid al-FitrMar 10\, 2027Wednesday        \n            \n            Eid al-FitrFeb 27\, 2028Sunday        \n            \n            Eid al-FitrFeb 15\, 2029Thursday        \n            \n            Eid al-FitrFeb 05\, 2030Tuesday        \n            \n            Eid al-FitrJan 25\, 2031Saturday        \n            \n            Eid al-FitrJan 14\, 2032Wednesday        \n            \n            Eid al-FitrJan 03\, 2033Monday        \n            \n            Eid al-FitrDec 23\, 2033Friday        \n            \n            Eid al-FitrDec 12\, 2034Tuesday        \n            \n            Eid al-FitrDec 02\, 2035Sunday        \n            \n            Eid al-FitrNov 20\, 2036Thursday        \n            \n            Eid al-FitrNov 10\, 2037Tuesday        \n            \n            Eid al-FitrOct 30\, 2038Saturday        \n            \n            Eid al-FitrOct 19\, 2039Wednesday        \n            \n            Eid al-FitrOct 08\, 2040Monday        \n            \n            Eid al-FitrSep 27\, 2041Friday        \n            \n            Eid al-FitrSep 16\, 2042Tuesday        \n            \n            Eid al-FitrSep 06\, 2043Sunday        \n            \n            Eid al-FitrAug 25\, 2044Thursday        \n            \n            Eid al-FitrAug 15\, 2045Tuesday        \n            \n            Eid al-FitrAug 04\, 2046Saturday        \n            \n            Eid al-FitrJul 24\, 2047Wednesday        \n            \n            Eid al-FitrJul 13\, 2048Monday        \n            \n            Eid al-FitrJul 02\, 2049Friday        \n    \n    \n    \n    \n    \n\n\nThe History of Eid al-Fitr\nThe history of Eid al-Fitr is deeply rooted in Islamic tradition and originates with the teachings of the Prophet Muhammad. It marks the culmination of Ramadan\, the holy month of fasting\, prayer and reflection. \nThe observance of Ramadan and the celebration of Eid al-Fitr are based on revelations in the Qur'an. In the second year of Hijrah (622 CE)\, fasting during Ramadan was prescribed to Muslims as a way of fostering self-discipline\, empathy for the less fortunate and spiritual purification. \nThe first Eid al-Fitr was celebrated by Prophet Muhammad and his followers in 624 CE\, following the Battle of Badr. It symbolized gratitude to Allah for the strength and unity shown during Ramadan and the victory in the battle. \nEid al-Fitr is an occasion to thank Allah for granting Muslims the strength to fast and for the guidance and blessings received during Ramadan. \nOver centuries\, the celebration of Eid al-Fitr has expanded from its origins in Medina to become a global festival observed by Muslims in diverse cultural contexts. \nToday\, Eid al-Fitr is one of the two major Islamic holidays\, celebrated by millions of Muslims worldwide. While customs and traditions vary across cultures\, the core themes of faith\, gratitude\, and community remain universal. \n   \nWhat Do People Do on This Day?\nEid al-Fitr is a joyous occasion celebrated with a mix of religious and cultural practices. The day begins with acts of worship and continues with festive activities. \nMuslims gather in mosques or open spaces for a special congregational prayer held in the morning. The prayer consists of two units and is often followed by a sermon. After the prayer\, Muslims offer supplications to thank Allah for the strength to complete Ramadan and seek His blessings for the future. \nMuslims give charity before the Eid prayer. This ensures that everyone\, including the less fortunate\, can partake in the celebrations. \nPeople wear their best or new clothes\, often traditional attire\, symbolizing purity\, renewal and respect for the occasion. \nFamilies come together to celebrate\, often traveling long distances to meet relatives. Muslims greet each other with Blessed Eid or other local expressions of goodwill. \nA variety of delicious dishes and sweets are prepared\, with traditional meals varying by region. Sharing meals with friends\, neighbors\, and the less fortunate is a hallmark of the celebration. \nMany people visit the graves of deceased relatives\, offering prayers and reflecting on their memories. \nThe Islamic Lunar Calendar\nThe Islamic lunar calendar is a calendar system used by Muslims worldwide to determine Islamic holidays\, rituals and events. It is based entirely on the cycles of the Moon\, making it different from the Gregorian solar calendar. \nThe calendar is based on the phases of the Moon. Each month begins with the sighting of the crescent moon\, making it a lunar calendar. It starts from the year 622 CE\, the year of the Prophet Muhammad's migration (Hijra) from Mecca to Medina. \nIt consists of 12 lunar months\, totaling 354 or 355 days\, which is about 10 – 12 days shorter than the solar year. \n1. Muharram: Sacred month\, the first month.\n2. Safar: Known for its historical significance.\n3. Rabi' al-Awwal: Birth month of Prophet Muhammad.\n4. Rabi' al-Thani: Continuation of Rabi' al-Awwal.\n5. Jumada al-Awwal: First of Jumada.\n6. Jumada al-Thani: Second of Jumada.\n7. Rajab: Sacred month.\n8. Sha'ban: Month of preparation for Ramadan.\n9. Ramadan: The holy month of fasting.\n10. Shawwal: Month of Eid al-Fitr.\n11. Dhu al-Qi'dah: Sacred month.\n12. Dhu al-Hijjah: Month of Hajj and Eid al-Adha.
URL:https://excelnotes.com/holiday/eid-al-fitr/
CATEGORIES:Islam,Religion Holiday
ATTACH;FMTTYPE=image/jpeg:https://excelnotes.com/wp-content/uploads/2025/01/Eid-al-Fitr.jpg
END:VEVENT
BEGIN:VEVENT
DTSTART;VALUE=DATE:20260320
DTEND;VALUE=DATE:20260321
DTSTAMP:20260420T204111
CREATED:20250913T023408Z
LAST-MODIFIED:20250913T023707Z
UID:10000537-1773964800-1774051199@excelnotes.com
SUMMARY:Hari Raya Puasa
DESCRIPTION:Hari Raya Puasa (Eid al-Fitr) is the joyful festival marking the end of Ramadan\, celebrated with prayers\, forgiveness\, family gatherings\, feasts\, and community unity. \nWhen is Hari Raya Puasa?\nHari Raya Puasa in Singapore marks the end of Ramadan\, and it falls on the first day of Shawwal\, the 10th month of the Islamic lunar calendar.  \nThe following is the list of Hari Raya Puasa from 2020 to 2049. \n   \n\n                \n                \n                            \n                            \n                            \n                    \n        \n\n                                                        HolidayDateWeekday\n\n\n\n        \n            Hari Raya PuasaMay 24\, 2020Sunday        \n            \n            Hari Raya PuasaMay 13\, 2021Thursday        \n            \n            Hari Raya PuasaMay 03\, 2022Tuesday        \n            \n            Hari Raya PuasaApr 22\, 2023Saturday        \n            \n            Hari Raya PuasaApr 10\, 2024Wednesday        \n            \n            Hari Raya PuasaMar 31\, 2025Monday        \n            \n            Hari Raya PuasaMar 20\, 2026Friday        \n            \n            Hari Raya PuasaMar 10\, 2027Wednesday        \n            \n            Hari Raya PuasaFeb 27\, 2028Sunday        \n            \n            Hari Raya PuasaFeb 15\, 2029Thursday        \n            \n            Hari Raya PuasaFeb 05\, 2030Tuesday        \n            \n            Hari Raya PuasaJan 25\, 2031Saturday        \n            \n            Hari Raya PuasaJan 14\, 2032Wednesday        \n            \n            Hari Raya PuasaJan 03\, 2033Monday        \n            \n            Hari Raya PuasaDec 23\, 2033Friday        \n            \n            Hari Raya PuasaDec 12\, 2034Tuesday        \n            \n            Hari Raya PuasaDec 02\, 2035Sunday        \n            \n            Hari Raya PuasaNov 20\, 2036Thursday        \n            \n            Hari Raya PuasaNov 10\, 2037Tuesday        \n            \n            Hari Raya PuasaOct 30\, 2038Saturday        \n            \n            Hari Raya PuasaOct 19\, 2039Wednesday        \n            \n            Hari Raya PuasaOct 08\, 2040Monday        \n            \n            Hari Raya PuasaSep 27\, 2041Friday        \n            \n            Hari Raya PuasaSep 16\, 2042Tuesday        \n            \n            Hari Raya PuasaSep 06\, 2043Sunday        \n            \n            Hari Raya PuasaAug 25\, 2044Thursday        \n            \n            Hari Raya PuasaMar 31\, 2045Friday        \n            \n            Hari Raya PuasaAug 04\, 2046Saturday        \n            \n            Hari Raya PuasaJul 24\, 2047Wednesday        \n            \n            Hari Raya PuasaJul 13\, 2048Monday        \n            \n            Hari Raya PuasaJul 02\, 2049Friday        \n    \n    \n    \n    \n    \n\n\nThe History of Hari Raya Puasa?\nHari Raya Puasa (Eid al-Fitr) has been celebrated in Singapore since the arrival of Muslim communities\, especially the Malay population\, who are indigenous to the region. \nThe holiday was also observed by Muslim traders from India\, the Arab world\, and Indonesia\, who settled in Singapore from the 19th century onwards\, bringing their traditions with them. \nDuring the British colonial period\, Hari Raya Puasa was already an important religious festival for the Malay-Muslim community. It was not initially a gazetted public holiday\, but Muslim communities celebrated it with prayers at mosques\, festive meals\, and traditional gatherings. \nThe celebration was centered in Malay kampongs (villages) and areas like Geylang Serai\, which became a cultural hub for the Malay community. \nAfter World War II\, recognition of religious and cultural diversity became more prominent.  \nIn 1966\, a year after Singapore's independence\, the government gazetted Hari Raya Puasa as an official public holiday to honor its significance for the Muslim population. This was part of Singapore's policy of respecting and celebrating its multicultural heritage. \nToday\, Hari Raya Puasa is one of Singapore's most celebrated festivals\, recognized not just as a religious occasion but as a symbol of the country's multicultural harmony.
URL:https://excelnotes.com/holiday/hari-raya-puasa/
CATEGORIES:Islam
ATTACH;FMTTYPE=image/jpeg:https://excelnotes.com/wp-content/uploads/2025/09/Hari-Raya-Puasa.jpg
END:VEVENT
END:VCALENDAR