BEGIN:VCALENDAR
VERSION:2.0
PRODID:-//ExcelNotes - ECPv6.15.20//NONSGML v1.0//EN
CALSCALE:GREGORIAN
METHOD:PUBLISH
X-ORIGINAL-URL:https://excelnotes.com
X-WR-CALDESC:Events for ExcelNotes
REFRESH-INTERVAL;VALUE=DURATION:PT1H
X-Robots-Tag:noindex
X-PUBLISHED-TTL:PT1H
BEGIN:VTIMEZONE
TZID:America/New_York
BEGIN:DAYLIGHT
TZOFFSETFROM:-0500
TZOFFSETTO:-0400
TZNAME:EDT
DTSTART:20240310T070000
END:DAYLIGHT
BEGIN:STANDARD
TZOFFSETFROM:-0400
TZOFFSETTO:-0500
TZNAME:EST
DTSTART:20241103T060000
END:STANDARD
BEGIN:DAYLIGHT
TZOFFSETFROM:-0500
TZOFFSETTO:-0400
TZNAME:EDT
DTSTART:20250309T070000
END:DAYLIGHT
BEGIN:STANDARD
TZOFFSETFROM:-0400
TZOFFSETTO:-0500
TZNAME:EST
DTSTART:20251102T060000
END:STANDARD
BEGIN:DAYLIGHT
TZOFFSETFROM:-0500
TZOFFSETTO:-0400
TZNAME:EDT
DTSTART:20260308T070000
END:DAYLIGHT
BEGIN:STANDARD
TZOFFSETFROM:-0400
TZOFFSETTO:-0500
TZNAME:EST
DTSTART:20261101T060000
END:STANDARD
BEGIN:DAYLIGHT
TZOFFSETFROM:-0500
TZOFFSETTO:-0400
TZNAME:EDT
DTSTART:20270314T070000
END:DAYLIGHT
BEGIN:STANDARD
TZOFFSETFROM:-0400
TZOFFSETTO:-0500
TZNAME:EST
DTSTART:20271107T060000
END:STANDARD
END:VTIMEZONE
BEGIN:VEVENT
DTSTART;VALUE=DATE:20251112
DTEND;VALUE=DATE:20261013
DTSTAMP:20260425T115012
CREATED:20251112T055143Z
LAST-MODIFIED:20251112T055143Z
UID:10000757-1762905600-1791849599@excelnotes.com
SUMMARY:Lady of Aparecida Day (Brazil)
DESCRIPTION:Our Lady of Aparecida Day honors Nossa Senhora Aparecida\, the patron saint of Brazil. The day commemorates the 1717 discovery of a small clay statue of the Virgin Mary by fishermen in the Paraíba River\, which became a symbol of hope and faith. Over centuries\, devotion to Our Lady of Aparecida grew into one of Brazil's most cherished traditions. Millions of pilgrims visit the Basilica of the National Shrine of Aparecida\, one of the largest churches in the world\, to pay tribute. \nWhen is Lady of Aparecida Day?\nLady of Aparecida Day in Brazil is celebrated on October 12 every year.  \nThe following is the list of Lady of Aparecida Day from 2020 to 2049. \n   \n\n                \n                \n                            \n                            \n                            \n                    \n        \n\n                                                        HolidayDateWeekday\n\n\n\n        \n            Lady of Aparecida DayOct 12\, 2020Monday        \n            \n            Lady of Aparecida DayOct 12\, 2021Tuesday        \n            \n            Lady of Aparecida DayOct 12\, 2022Wednesday        \n            \n            Lady of Aparecida DayOct 12\, 2023Thursday        \n            \n            Lady of Aparecida DayOct 12\, 2024Saturday        \n            \n            Lady of Aparecida DayOct 12\, 2025Sunday        \n            \n            Lady of Aparecida DayOct 12\, 2026Monday        \n            \n            Lady of Aparecida DayOct 12\, 2027Tuesday        \n            \n            Lady of Aparecida DayOct 12\, 2028Thursday        \n            \n            Lady of Aparecida DayOct 12\, 2029Friday        \n            \n            Lady of Aparecida DayOct 12\, 2030Saturday        \n            \n            Lady of Aparecida DayOct 12\, 2031Sunday        \n            \n            Lady of Aparecida DayOct 12\, 2032Tuesday        \n            \n            Lady of Aparecida DayOct 12\, 2033Wednesday        \n            \n            Lady of Aparecida DayOct 12\, 2034Thursday        \n            \n            Lady of Aparecida DayOct 12\, 2035Friday        \n            \n            Lady of Aparecida DayOct 12\, 2036Sunday        \n            \n            Lady of Aparecida DayOct 12\, 2037Monday        \n            \n            Lady of Aparecida DayOct 12\, 2038Tuesday        \n            \n            Lady of Aparecida DayOct 12\, 2039Wednesday        \n            \n            Lady of Aparecida DayOct 12\, 2040Friday        \n            \n            Lady of Aparecida DayOct 12\, 2041Saturday        \n            \n            Lady of Aparecida DayOct 12\, 2042Sunday        \n            \n            Lady of Aparecida DayOct 12\, 2043Monday        \n            \n            Lady of Aparecida DayOct 12\, 2044Wednesday        \n            \n            Lady of Aparecida DayOct 12\, 2045Thursday        \n            \n            Lady of Aparecida DayOct 12\, 2046Friday        \n            \n            Lady of Aparecida DayOct 12\, 2047Saturday        \n            \n            Lady of Aparecida DayOct 12\, 2048Monday        \n            \n            Lady of Aparecida DayOct 12\, 2049Tuesday        \n    \n    \n    \n    \n    \n\n\nThe History of Lady of Aparecida Day?\nThe devotion to Our Lady of Aparecida began in October 1717\, in the small village of Guaratinguetá\, in the Paraíba Valley of São Paulo state. Local fishermen were struggling to catch fish in the Paraíba River as they prepared for the visit of a regional governor\, Dom Pedro de Almeida e Portugal\, Count of Assumar. \nThree fishermen\, Domingos Garcia\, João Alves\, and Filipe Pedroso\, prayed to the Virgin Mary for help. Casting their nets\, they first pulled up a small clay statue of a headless figure from the river. When they cast their nets again\, they found the missing head. After retrieving and cleaning the statue\, they continued fishing\, and to their astonishment\, their nets filled with fish. \nThe fishermen took this as a miracle\, and word of the event spread quickly. The little dark-skinned clay statue\, later recognized as Our Lady of the Immaculate Conception\, came to be affectionately called Nossa Senhora Aparecida\, meaning "Our Lady Who Appeared". \nThe statue was first kept in the home of Filipe Pedroso\, where neighbors gathered to pray. Reports of miracles and healings attributed to Our Lady of Aparecida multiplied\, and devotion to her spread across the region. In 1745\, a small chapel was built to house the statue\, and by 1834\, a larger church\, the Old Basilica\, was constructed to accommodate growing numbers of pilgrims. \nIn 1904\, Pope Pius X authorized the canonical coronation of Our Lady of Aparecida\, officially recognizing her as a sacred symbol of devotion. Later\, in 1930\, Pope Pius XI declared her the Patroness of Brazil\, cementing her status as a national spiritual figure. \nThe Basilica of the National Shrine of Our Lady of Aparecida\, built to replace the older church\, began construction in 1955 and was completed in 1980. That same year\, Pope John Paul II visited Brazil and consecrated the new basilica\, recognizing it as one of the largest Marian shrines in the world. In 1980\, the Brazilian government officially established October 12 as a national holiday dedicated to Our Lady of Aparecida\, blending religious reverence with cultural celebration. \nToday\, millions of pilgrims visit the Basilica of Aparecida each year\, especially on October 12\, walking\, cycling or even traveling long distances on foot to express devotion and gratitude.
URL:https://excelnotes.com/holiday/lady-of-aparecida-day-brazil/
CATEGORIES:Christianity
ATTACH;FMTTYPE=image/jpeg:https://excelnotes.com/wp-content/uploads/2025/11/Lady-of-Aparecida-Day-Brazil.jpg
END:VEVENT
BEGIN:VEVENT
DTSTART;VALUE=DATE:20260217
DTEND;VALUE=DATE:20260218
DTSTAMP:20260425T115012
CREATED:20241229T004704Z
LAST-MODIFIED:20250402T190621Z
UID:10000123-1771286400-1771372799@excelnotes.com
SUMMARY:Shrove Tuesday
DESCRIPTION:Shrove Tuesday is the day before Ash Wednesday\, marking the end of the pre-Lenten season known as Shrovetide. It is traditionally a day of feasting\, confession and preparation for the 40-day Lenten season.  \nTable of Contents\n\nWhen is Shrove Tuesday?\nThe History of Shrove Tuesday?\nWhat Do People Do on This Day?\nCarnival Tuesday\, Shrove Tuesday\, Mardi Gras Day\n\nWhen is Shrove Tuesday?\nShrove Tuesday occurs 47 days before Easter Sunday\, making it the day before Ash Wednesday and the beginning of Lent. Since Easter is a moveable feast\, the date of Shrove Tuesday changes each year. \nThe following is the list of Shrove Tuesday from 2020 to 2049.\n   \n\n                \n                \n                            \n                            \n                            \n                    \n        \n\n                                                        HolidayDateWeekday\n\n\n\n        \n            Shrove TuesdayFeb 25\, 2020Tuesday        \n            \n            Shrove TuesdayFeb 16\, 2021Tuesday        \n            \n            Shrove TuesdayMar 01\, 2022Tuesday        \n            \n            Shrove TuesdayFeb 21\, 2023Tuesday        \n            \n            Shrove TuesdayFeb 13\, 2024Tuesday        \n            \n            Shrove TuesdayMar 04\, 2025Tuesday        \n            \n            Shrove TuesdayFeb 17\, 2026Tuesday        \n            \n            Shrove TuesdayFeb 09\, 2027Tuesday        \n            \n            Shrove TuesdayFeb 29\, 2028Tuesday        \n            \n            Shrove TuesdayFeb 13\, 2029Tuesday        \n            \n            Shrove TuesdayMar 05\, 2030Tuesday        \n            \n            Shrove TuesdayFeb 25\, 2031Tuesday        \n            \n            Shrove TuesdayFeb 10\, 2032Tuesday        \n            \n            Shrove TuesdayMar 01\, 2033Tuesday        \n            \n            Shrove TuesdayFeb 21\, 2034Tuesday        \n            \n            Shrove TuesdayFeb 06\, 2035Tuesday        \n            \n            Shrove TuesdayFeb 26\, 2036Tuesday        \n            \n            Shrove TuesdayFeb 17\, 2037Tuesday        \n            \n            Shrove TuesdayMar 09\, 2038Tuesday        \n            \n            Shrove TuesdayFeb 22\, 2039Tuesday        \n            \n            Shrove TuesdayFeb 14\, 2040Tuesday        \n            \n            Shrove TuesdayMar 05\, 2041Tuesday        \n            \n            Shrove TuesdayFeb 18\, 2042Tuesday        \n            \n            Shrove TuesdayFeb 10\, 2043Tuesday        \n            \n            Shrove TuesdayMar 01\, 2044Tuesday        \n            \n            Shrove TuesdayFeb 21\, 2045Tuesday        \n            \n            Shrove TuesdayFeb 06\, 2046Tuesday        \n            \n            Shrove TuesdayFeb 26\, 2047Tuesday        \n            \n            Shrove TuesdayFeb 18\, 2048Tuesday        \n            \n            Shrove TuesdayMar 02\, 2049Tuesday        \n    \n    \n    \n    \n    \n\n\nThe History of Shrove Tuesday\nThe history of Shrove Tuesday is rooted in the Christian tradition of preparing for Lent. It has evolved over centuries to include both religious practices and festive customs\, reflecting a balance of spiritual preparation and joyful indulgence. \nThe word Shrove comes from the Old English shrive\, meaning to confess sins and receive absolution. Shrove Tuesday was historically a day for Christians to confess and prepare spiritually for Lent\, ensuring they began the penitential season with a clean conscience. \nIn the early Church\, believers prepared for Lent by using up rich ingredients like butter\, eggs\, and sugar\, which were traditionally forbidden during Lent. Shrove Tuesday became a day of feasting and celebration as Christians consumed foods that would be restricted during Lent. This practice of indulgence before fasting is reflected in the French term Mardi Gras ("Fat Tuesday") and the German Faschingsdienstag. \nBy the 4th century\, Lent was established as a 40-day period of preparation for Easter. Shrove Tuesday was the final day of Shrovetide\, a three-day period of spiritual and physical preparation for Lent\, including confession\, reflection and feasting. \nIn medieval England\, Shrove Tuesday became a significant day for both spiritual practices and festive customs. In many countries\, Shrove Tuesday is part of Carnival\, a larger season of celebration that begins on Epiphany (January 6th) and ends the day before Lent. \nDuring the Protestant Reformation in the 16th century\, some Shrovetide customs were discouraged or abandoned in Protestant countries. Today\, Shrove Tuesday remains a day of reflection and preparation for Lent\, with some Christians attending confession. \n   \nWhat Do People Do on This Day?\nOn Shrove Tuesday\, people engage in a mix of religious practices\, festive activities\, and culinary traditions. The day is observed as a time to prepare for the Lenten season while enjoying indulgent foods and community celebrations. \nHistorically\, Christians would confess their sins to prepare for the penitential season of Lent. This tradition gave the day its name\, as shrive means to confess and receive absolution. \nShrove Tuesday is a day to reflect on one's life\, seek forgiveness\, and make commitments for Lent. Churches may hold services focusing on repentance and renewal. \nIn the UK and other English-speaking countries\, Shrove Tuesday is also known as Pancake Day. Families prepare and enjoy pancakes\, using up rich ingredients like eggs\, milk\, and butter that were traditionally forbidden during Lent. Pancakes are the most iconic food for Shrove Tuesday in many countries\, symbolizing indulgence and the use of rich ingredients before Lent. \nIn many Catholic-majority countries\, Shrove Tuesday is the climax of the Carnival season. Celebrations include: parades\, street festivals and masks and costumes. \nCarnival Tuesday\, Shrove Tuesday\, Mardi Gras Day\nCarnival Tuesday\, Shrove Tuesday\, and Mardi Gras Day are different names for the Tuesday before Ash Wednesday\, the day that marks the beginning of Lent in the Christian calendar. These terms reflect regional\, cultural\, and religious variations of the same day\, each with its own traditions and focus. \n\n\n\n\nName\nDetails\n\n\nCarnival Tuesday\nPart of the Carnival season\, derived from carne levare ("farewell to meat").\nFocus on the final and most festive day of the Carnival season\, which begins on Epiphany.\nCelebrated in Brazil\, Caribbean and Germany.\nElaborate parades\, costumes\, and dancing.\nFeaturing joyful indulgence and community festivity.\n\n\nShrove Tuesday\nFrom Old English shrive\, meaning to confess and seek absolution.\nFocus on spiritual preparation for Lent\, traditionally involving confession and repentance.\nCelebrated in United Kingdom and Commonwealth countries.\nElaborate Pancake making\, confession\, and family meals.\nFeaturing spiritual preparation and reflection.\n\n\nMardi Gras Day\nFrench for "Fat Tuesday\," emphasizing indulgence in rich foods.\nFocus on feasting and revelry before the austerity of Lent.\nCelebrated in French-speaking regions (France\, Louisiana\, etc.).\nElaborate parades\, masquerade balls\, King Cake and street parties.\nFeaturing extravagance\, indulgence\, and cultural expression.
URL:https://excelnotes.com/holiday/shrove-tuesday/
CATEGORIES:Christianity
ATTACH;FMTTYPE=image/jpeg:https://excelnotes.com/wp-content/uploads/2024/12/Shrove-Tuesday.jpg
END:VEVENT
BEGIN:VEVENT
DTSTART;VALUE=DATE:20260217
DTEND;VALUE=DATE:20260218
DTSTAMP:20260425T115012
CREATED:20241218T032559Z
LAST-MODIFIED:20250402T190536Z
UID:10000073-1771286400-1771372799@excelnotes.com
SUMMARY:Mardi Gras Day
DESCRIPTION:Mardi Gras Day\, also known as Fat Tuesday\, is a vibrant and festive celebration that takes place the day before Ash Wednesday\, marking the start of Lent in the Christian calendar. It's a day of indulgence\, feasting\, and revelry before the solemnity of the Lenten season. \nTable of Contents\n\nWhen is Mardi Gras Day?\nThe History of Mardi Gras Day?\nWhat Do People Do on This Day?\nMardi Gras in Baldwin and Mobile\n\nWhen is Mardi Gras Day?\nMardi Gras Day usually falls between February 3 and March 9\, depending on the date of Easter. The following is the list of Mardi Gras Day. \n   \n\n                \n                \n                            \n                            \n                            \n                    \n        \n\n                                                        HolidayDateWeekday\n\n\n\n        \n            Mardi Gras DayFebruary 25\, 2020Tuesday        \n            \n            Mardi Gras DayFebruary 16\, 2021Tuesday        \n            \n            Mardi Gras DayMarch 01\, 2022Tuesday        \n            \n            Mardi Gras DayFebruary 21\, 2023Tuesday        \n            \n            Mardi Gras DayFebruary 13\, 2024Tuesday        \n            \n            Mardi Gras DayMarch 04\, 2025Tuesday        \n            \n            Mardi Gras DayFebruary 17\, 2026Tuesday        \n            \n            Mardi Gras DayFebruary 09\, 2027Tuesday        \n            \n            Mardi Gras DayFebruary 29\, 2028Tuesday        \n            \n            Mardi Gras DayFebruary 13\, 2029Tuesday        \n            \n            Mardi Gras DayMarch 05\, 2030Tuesday        \n            \n            Mardi Gras DayFebruary 25\, 2031Tuesday        \n            \n            Mardi Gras DayFebruary 10\, 2032Tuesday        \n            \n            Mardi Gras DayMarch 01\, 2033Tuesday        \n            \n            Mardi Gras DayFebruary 21\, 2034Tuesday        \n            \n            Mardi Gras DayFebruary 06\, 2035Tuesday        \n            \n            Mardi Gras DayFebruary 26\, 2036Tuesday        \n            \n            Mardi Gras DayFebruary 17\, 2037Tuesday        \n            \n            Mardi Gras DayMarch 09\, 2038Tuesday        \n            \n            Mardi Gras DayFebruary 22\, 2039Tuesday        \n            \n            Mardi Gras DayFebruary 14\, 2040Tuesday        \n            \n            Mardi Gras DayMarch 05\, 2041Tuesday        \n            \n            Mardi Gras DayFebruary 18\, 2042Tuesday        \n            \n            Mardi Gras DayFebruary 10\, 2043Tuesday        \n            \n            Mardi Gras DayMarch 01\, 2044Tuesday        \n            \n            Mardi Gras DayFebruary 21\, 2045Tuesday        \n            \n            Mardi Gras DayFebruary 06\, 2046Tuesday        \n            \n            Mardi Gras DayFebruary 26\, 2047Tuesday        \n            \n            Mardi Gras DayFebruary 18\, 2048Tuesday        \n            \n            Mardi Gras DayMarch 02\, 2049Tuesday        \n            \n            Robert E. Lee's BirthdayJanuary 17\, 2050Monday        \n    \n    \n    \n    \n    \n\n\nThe History of Mardi Gras Day?\nThe history of Mardi Gras Day is rich and deeply rooted in ancient traditions\, evolving through time to become the vibrant celebration we know today. \nMardi Gras can be traced back to ancient Roman festivals like Saturnalia and Lupercalia\, which celebrated fertility\, spring\, and excess before the austerity of the seasons. \nWith the spread of Christianity\, these pagan festivals were incorporated into the church calendar. Mardi Gras\, meaning "Fat Tuesday" in French\, became the final day of indulgence before Ash Wednesday\, the start of Lent\, a 40-day period of fasting and repentance leading to Easter. \nBy the Middle Ages\, Mardi Gras celebrations were widespread in Europe\, particularly in Catholic countries like France\, Spain\, and Italy. \nIn 1699\, French explorers Pierre Le Moyne d'Iberville and Jean-Baptiste Le Moyne de Bienville brought the tradition to what is now the southern United States\, and named the location Pointe du Mardi Gras. \nIn 1718\, New Orleans was founded\, and Mardi Gras traditions began to take root in the region\, influenced by French customs. By the 18th and 19th centuries\, Mardi Gras celebrations in New Orleans grew in scale and popularity\, and it is a major holiday in New Orleans. \nMardi Gras celebrations occur in other parts of the world. In Alabama\, Mardi Gras is observed only in Baldwin and Mobile Counties\, and Mobile claims to have the oldest Mardi Gras in the USA. \n   \nWhat Do People Do on This Day?\nOn Mardi Gras Day\, people engage in festive and vibrant activities to celebrate the culmination of the Carnival season. It is a day of joy\, community\, and indulgence\, capturing the spirit of both historical and contemporary festivities! \nFloats\, marching bands and performers dominate the streets in cities where Mardi Gras is a holiday. \nMardi Gras is filled with jazz\, brass bands\, and street performers creating a lively atmosphere. \nPeople dress in elaborate costumes\, often in the Mardi Gras colors: purple\, green\, and gold. Masks are a Mardi Gras tradition\, originally intended to allow wearers to mingle freely\, regardless of class or social status. \nRich and indulgent foods are central to the day because it's the last opportunity to feast before Lent begins. \nMardi Gras in Baldwin and Mobile\nMardi Gras in Mobile and Baldwin Counties is steeped in rich history\, dating back to 1703 when Mobile\, Alabama\, hosted the first Mardi Gras celebration in North America\, predating the New Orleans festivities. \nMobile\, then the capital of French Louisiana\, held the first Mardi Gras celebration in 1703\, organized by French settlers. It was a modest affair marking the Catholic tradition of revelry before the Lenten season. \nIn the 1830s\, the modern tradition of parades and balls began with the formation of the first mystic society. These secretive groups introduced the concept of organized parades with floats\, masks\, and themed balls. These secretive organizations are at the heart of Mardi Gras in both counties. They plan parades\, balls\, and other festivities. \nAfter the Civil War\, Mobile's Mardi Gras saw a resurgence\, led by Joe Cain. He famously paraded through the streets dressed as a fictional Chickasaw chief\, symbolizing defiance and the return of joy to the war-torn South. Cain remains a beloved figure\, honored annually during "Joe Cain Day." \nAs population and tourism expanded in the 20th Century\, the Mardi Gras tradition spread from Mobile to Baldwin County's cities. These areas developed their unique celebrations while maintaining ties to the Mobile tradition. \nWhile deeply rooted in history\, Mardi Gras in Baldwin and Mobile Counties continues to evolve\, and it remains a cherished cultural event that honors its heritage.
URL:https://excelnotes.com/holiday/mardi-gras-day/
CATEGORIES:Christianity
ATTACH;FMTTYPE=image/jpeg:https://excelnotes.com/wp-content/uploads/2024/12/Mardi-Gras-Day.jpg
END:VEVENT
END:VCALENDAR