BEGIN:VCALENDAR
VERSION:2.0
PRODID:-//ExcelNotes - ECPv6.15.20//NONSGML v1.0//EN
CALSCALE:GREGORIAN
METHOD:PUBLISH
X-ORIGINAL-URL:https://excelnotes.com
X-WR-CALDESC:Events for ExcelNotes
REFRESH-INTERVAL;VALUE=DURATION:PT1H
X-Robots-Tag:noindex
X-PUBLISHED-TTL:PT1H
BEGIN:VTIMEZONE
TZID:America/New_York
BEGIN:DAYLIGHT
TZOFFSETFROM:-0500
TZOFFSETTO:-0400
TZNAME:EDT
DTSTART:20240310T070000
END:DAYLIGHT
BEGIN:STANDARD
TZOFFSETFROM:-0400
TZOFFSETTO:-0500
TZNAME:EST
DTSTART:20241103T060000
END:STANDARD
BEGIN:DAYLIGHT
TZOFFSETFROM:-0500
TZOFFSETTO:-0400
TZNAME:EDT
DTSTART:20250309T070000
END:DAYLIGHT
BEGIN:STANDARD
TZOFFSETFROM:-0400
TZOFFSETTO:-0500
TZNAME:EST
DTSTART:20251102T060000
END:STANDARD
BEGIN:DAYLIGHT
TZOFFSETFROM:-0500
TZOFFSETTO:-0400
TZNAME:EDT
DTSTART:20260308T070000
END:DAYLIGHT
BEGIN:STANDARD
TZOFFSETFROM:-0400
TZOFFSETTO:-0500
TZNAME:EST
DTSTART:20261101T060000
END:STANDARD
BEGIN:DAYLIGHT
TZOFFSETFROM:-0500
TZOFFSETTO:-0400
TZNAME:EDT
DTSTART:20270314T070000
END:DAYLIGHT
BEGIN:STANDARD
TZOFFSETFROM:-0400
TZOFFSETTO:-0500
TZNAME:EST
DTSTART:20271107T060000
END:STANDARD
END:VTIMEZONE
BEGIN:VEVENT
DTSTART;VALUE=DATE:20251112
DTEND;VALUE=DATE:20261013
DTSTAMP:20260423T125153
CREATED:20251112T055143Z
LAST-MODIFIED:20251112T055143Z
UID:10000757-1762905600-1791849599@excelnotes.com
SUMMARY:Lady of Aparecida Day (Brazil)
DESCRIPTION:Our Lady of Aparecida Day honors Nossa Senhora Aparecida\, the patron saint of Brazil. The day commemorates the 1717 discovery of a small clay statue of the Virgin Mary by fishermen in the Paraíba River\, which became a symbol of hope and faith. Over centuries\, devotion to Our Lady of Aparecida grew into one of Brazil's most cherished traditions. Millions of pilgrims visit the Basilica of the National Shrine of Aparecida\, one of the largest churches in the world\, to pay tribute. \nWhen is Lady of Aparecida Day?\nLady of Aparecida Day in Brazil is celebrated on October 12 every year.  \nThe following is the list of Lady of Aparecida Day from 2020 to 2049. \n   \n\n                \n                \n                            \n                            \n                            \n                    \n        \n\n                                                        HolidayDateWeekday\n\n\n\n        \n            Lady of Aparecida DayOct 12\, 2020Monday        \n            \n            Lady of Aparecida DayOct 12\, 2021Tuesday        \n            \n            Lady of Aparecida DayOct 12\, 2022Wednesday        \n            \n            Lady of Aparecida DayOct 12\, 2023Thursday        \n            \n            Lady of Aparecida DayOct 12\, 2024Saturday        \n            \n            Lady of Aparecida DayOct 12\, 2025Sunday        \n            \n            Lady of Aparecida DayOct 12\, 2026Monday        \n            \n            Lady of Aparecida DayOct 12\, 2027Tuesday        \n            \n            Lady of Aparecida DayOct 12\, 2028Thursday        \n            \n            Lady of Aparecida DayOct 12\, 2029Friday        \n            \n            Lady of Aparecida DayOct 12\, 2030Saturday        \n            \n            Lady of Aparecida DayOct 12\, 2031Sunday        \n            \n            Lady of Aparecida DayOct 12\, 2032Tuesday        \n            \n            Lady of Aparecida DayOct 12\, 2033Wednesday        \n            \n            Lady of Aparecida DayOct 12\, 2034Thursday        \n            \n            Lady of Aparecida DayOct 12\, 2035Friday        \n            \n            Lady of Aparecida DayOct 12\, 2036Sunday        \n            \n            Lady of Aparecida DayOct 12\, 2037Monday        \n            \n            Lady of Aparecida DayOct 12\, 2038Tuesday        \n            \n            Lady of Aparecida DayOct 12\, 2039Wednesday        \n            \n            Lady of Aparecida DayOct 12\, 2040Friday        \n            \n            Lady of Aparecida DayOct 12\, 2041Saturday        \n            \n            Lady of Aparecida DayOct 12\, 2042Sunday        \n            \n            Lady of Aparecida DayOct 12\, 2043Monday        \n            \n            Lady of Aparecida DayOct 12\, 2044Wednesday        \n            \n            Lady of Aparecida DayOct 12\, 2045Thursday        \n            \n            Lady of Aparecida DayOct 12\, 2046Friday        \n            \n            Lady of Aparecida DayOct 12\, 2047Saturday        \n            \n            Lady of Aparecida DayOct 12\, 2048Monday        \n            \n            Lady of Aparecida DayOct 12\, 2049Tuesday        \n    \n    \n    \n    \n    \n\n\nThe History of Lady of Aparecida Day?\nThe devotion to Our Lady of Aparecida began in October 1717\, in the small village of Guaratinguetá\, in the Paraíba Valley of São Paulo state. Local fishermen were struggling to catch fish in the Paraíba River as they prepared for the visit of a regional governor\, Dom Pedro de Almeida e Portugal\, Count of Assumar. \nThree fishermen\, Domingos Garcia\, João Alves\, and Filipe Pedroso\, prayed to the Virgin Mary for help. Casting their nets\, they first pulled up a small clay statue of a headless figure from the river. When they cast their nets again\, they found the missing head. After retrieving and cleaning the statue\, they continued fishing\, and to their astonishment\, their nets filled with fish. \nThe fishermen took this as a miracle\, and word of the event spread quickly. The little dark-skinned clay statue\, later recognized as Our Lady of the Immaculate Conception\, came to be affectionately called Nossa Senhora Aparecida\, meaning "Our Lady Who Appeared". \nThe statue was first kept in the home of Filipe Pedroso\, where neighbors gathered to pray. Reports of miracles and healings attributed to Our Lady of Aparecida multiplied\, and devotion to her spread across the region. In 1745\, a small chapel was built to house the statue\, and by 1834\, a larger church\, the Old Basilica\, was constructed to accommodate growing numbers of pilgrims. \nIn 1904\, Pope Pius X authorized the canonical coronation of Our Lady of Aparecida\, officially recognizing her as a sacred symbol of devotion. Later\, in 1930\, Pope Pius XI declared her the Patroness of Brazil\, cementing her status as a national spiritual figure. \nThe Basilica of the National Shrine of Our Lady of Aparecida\, built to replace the older church\, began construction in 1955 and was completed in 1980. That same year\, Pope John Paul II visited Brazil and consecrated the new basilica\, recognizing it as one of the largest Marian shrines in the world. In 1980\, the Brazilian government officially established October 12 as a national holiday dedicated to Our Lady of Aparecida\, blending religious reverence with cultural celebration. \nToday\, millions of pilgrims visit the Basilica of Aparecida each year\, especially on October 12\, walking\, cycling or even traveling long distances on foot to express devotion and gratitude.
URL:https://excelnotes.com/holiday/lady-of-aparecida-day-brazil/
CATEGORIES:Christianity
ATTACH;FMTTYPE=image/jpeg:https://excelnotes.com/wp-content/uploads/2025/11/Lady-of-Aparecida-Day-Brazil.jpg
END:VEVENT
BEGIN:VEVENT
DTSTART;VALUE=DATE:20260116
DTEND;VALUE=DATE:20260117
DTSTAMP:20260423T125153
CREATED:20250117T025744Z
LAST-MODIFIED:20250908T153330Z
UID:10000191-1768521600-1768607999@excelnotes.com
SUMMARY:Isra and Mi'raj
DESCRIPTION:Isra and Mi'raj\, or Prophet's Ascension\, is one of the most significant events in Islamic tradition\, commemorating the miraculous night journey and ascension of the Prophet Muhammad (peace be upon him). It is observed by Muslims worldwide as a time of reflection and spiritual significance. \nTable of Contents\n\nWhen is Isra and Mi'raj?\nThe History of Isra and Mi'raj\nWhat Do People Do on This Day?\nWhat are the Seven Heavens\n\nWhen is Isra and Mi'raj?\nIsra and Mi'raj is traditionally observed on the 27th night of the Islamic month of Rajab (the 7th month). The exact date varies yearly in the Gregorian calendar due to the lunar nature of the Islamic calendar.  \nThe following is the list of Isra and Mi'raj from 2020 to 2049. \n   \n\n                \n                \n                            \n                            \n                            \n                    \n        \n\n                                                        HolidayDateWeekday\n\n\n\n        \n            Isra and Mi'rajMar 22\, 2020Sunday        \n            \n            Isra and Mi'rajMar 11\, 2021Thursday        \n            \n            Isra and Mi'rajMar 01\, 2022Tuesday        \n            \n            Isra and Mi'rajFeb 18\, 2023Saturday        \n            \n            Isra and Mi'rajFeb 07\, 2024Wednesday        \n            \n            Isra and Mi'rajJan 27\, 2025Monday        \n            \n            Isra and Mi'rajJan 16\, 2026Friday        \n            \n            Isra and Mi'rajJan 06\, 2027Wednesday        \n            \n            Isra and Mi'rajDec 26\, 2027Sunday        \n            \n            Isra and Mi'rajDec 14\, 2028Thursday        \n            \n            Isra and Mi'rajDec 04\, 2029Tuesday        \n            \n            Isra and Mi'rajNov 23\, 2030Saturday        \n            \n            Isra and Mi'rajNov 12\, 2031Wednesday        \n            \n            Isra and Mi'rajNov 01\, 2032Monday        \n            \n            Isra and Mi'rajOct 21\, 2033Friday        \n            \n            Isra and Mi'rajOct 10\, 2034Tuesday        \n            \n            Isra and Mi'rajSep 30\, 2035Sunday        \n            \n            Isra and Mi'rajSep 18\, 2036Thursday        \n            \n            Isra and Mi'rajSep 08\, 2037Tuesday        \n            \n            Isra and Mi'rajAug 28\, 2038Saturday        \n            \n            Isra and Mi'rajAug 17\, 2039Wednesday        \n            \n            Isra and Mi'rajAug 06\, 2040Monday        \n            \n            Isra and Mi'rajJul 26\, 2041Friday        \n            \n            Isra and Mi'rajJul 15\, 2042Tuesday        \n            \n            Isra and Mi'rajJul 05\, 2043Sunday        \n            \n            Isra and Mi'rajJun 23\, 2044Thursday        \n            \n            Isra and Mi'rajJun 13\, 2045Tuesday        \n            \n            Isra and Mi'rajJun 02\, 2046Saturday        \n            \n            Isra and Mi'rajMay 22\, 2047Wednesday        \n            \n            Isra and Mi'rajMay 11\, 2048Monday        \n            \n            Isra and Mi'rajApr 30\, 2049Friday        \n    \n    \n    \n    \n    \n\n\nThe History of Isra and Mi'raj\nIsra and Mi'raj is one of the most significant and miraculous events in Islamic history. The event symbolizes spiritual elevation and serves as a cornerstone in the Islamic faith\, particularly in the establishment of daily prayers. \nIsra(The Night Journey): The Prophet Muhammad was transported from Masjid al-Haram (the Sacred Mosque in Mecca) to Masjid al-Aqsa (the Farthest Mosque in Jerusalem). He traveled on Buraq\, a heavenly steed described as being faster than lightning. Upon arriving at Masjid al-Aqsa\, he led other prophets in prayer\, symbolizing his role as the Seal of the Prophets and leader of all previous messengers. \nMi'raj (The Ascension to the Heavens): From Jerusalem\, the Prophet ascended through the seven heavens\, guided by the Angel Jibreel (Gabriel). He met various prophets at different levels of heaven. Finally\, the Prophet reached Sidrat al-Muntaha (the Lote Tree of the Utmost Boundary)\, where he was in the presence of Allah. \nDuring his audience with Allah\, the Prophet was initially instructed to establish fifty daily prayers for his followers. After consulting with Prophet Musa\, Muhammad repeatedly requested a reduction\, and Allah ultimately decreed five daily prayers with the reward of fifty. \nThe journey demonstrated the Prophet's unique closeness to Allah and affirmed his role as the final messenger. \n   \nWhat Do People Do on This Day?\nOn Isra and Mi'raj\, Muslims around the world commemorate the miraculous night journey and ascension of the Prophet Muhammad (peace be upon him) through various spiritual\, religious\, and community-oriented activities.  \nMuslims offer voluntary night prayers to seek Allah's blessings and deepen their spiritual connection. Muslims collectively recite tahlil (remembrance of Allah) and doa selamat (prayers for safety and well-being) to honor the occasion. \nMosques hold special sermons or lectures explaining the story of Isra and Mi'raj\, its lessons\, and its impact on the Islamic faith. \nFasting is seen as an act that strengthens spiritual discipline and humility\, and some Muslims choose to fast on this day as a form of devotion and gratitude to Allah. \nMuslims emphasize performing all five daily prayers punctually\, reflecting on their significance as a direct result of the Isra and Mi'raj event. \nActs of kindness and charity are encouraged\, reflecting the Prophet Muhammad's compassion and teachings. Donations are made to mosques\, orphanages\, and underprivileged communities. \nIslamic centers and schools often organize storytelling sessions and creative workshops to teach children about Isra and Mi'raj. \nIn countries like Malaysia\, Indonesia\, and Brunei\, Isra and Mi'raj is sometimes observed as a public holiday. Religious parades or processions may be held in some communities\, and special decorations in mosques and homes create a festive yet reflective atmosphere. \nWhat are the Seven Heavens\nThe Isra and Mi'raj (Night Journey and Ascension) of the Prophet Muhammad (peace be upon him) provides further insights into the seven heavens. During this miraculous journey\, the Prophet ascended through the heavens and encountered prophets and divine signs at each level. \n– First Heaven: He met Prophet Adam.\n– Second Heaven: He met Prophet Isa (Jesus) and Prophet Yahya (John the Baptist).\n– Third Heaven: He met Prophet Yusuf (Joseph).\n– Fourth Heaven: He met Prophet Idris (Enoch).\n– Fifth Heaven: He met Prophet Harun (Aaron).\n– Sixth Heaven: He met Prophet Musa (Moses).\n– Seventh Heaven: He met Prophet Ibrahim (Abraham) and witnessed the Sidrat al-Muntaha (Lote Tree of the Utmost Boundary).
URL:https://excelnotes.com/holiday/isra-and-miraj/
CATEGORIES:Islam
ATTACH;FMTTYPE=image/jpeg:https://excelnotes.com/wp-content/uploads/2021/01/Isra-and-Miraj.jpg
END:VEVENT
END:VCALENDAR