BEGIN:VCALENDAR
VERSION:2.0
PRODID:-//ExcelNotes - ECPv6.15.20//NONSGML v1.0//EN
CALSCALE:GREGORIAN
METHOD:PUBLISH
X-ORIGINAL-URL:https://excelnotes.com
X-WR-CALDESC:Events for ExcelNotes
REFRESH-INTERVAL;VALUE=DURATION:PT1H
X-Robots-Tag:noindex
X-PUBLISHED-TTL:PT1H
BEGIN:VTIMEZONE
TZID:America/New_York
BEGIN:DAYLIGHT
TZOFFSETFROM:-0500
TZOFFSETTO:-0400
TZNAME:EDT
DTSTART:20240310T070000
END:DAYLIGHT
BEGIN:STANDARD
TZOFFSETFROM:-0400
TZOFFSETTO:-0500
TZNAME:EST
DTSTART:20241103T060000
END:STANDARD
BEGIN:DAYLIGHT
TZOFFSETFROM:-0500
TZOFFSETTO:-0400
TZNAME:EDT
DTSTART:20250309T070000
END:DAYLIGHT
BEGIN:STANDARD
TZOFFSETFROM:-0400
TZOFFSETTO:-0500
TZNAME:EST
DTSTART:20251102T060000
END:STANDARD
BEGIN:DAYLIGHT
TZOFFSETFROM:-0500
TZOFFSETTO:-0400
TZNAME:EDT
DTSTART:20260308T070000
END:DAYLIGHT
BEGIN:STANDARD
TZOFFSETFROM:-0400
TZOFFSETTO:-0500
TZNAME:EST
DTSTART:20261101T060000
END:STANDARD
BEGIN:DAYLIGHT
TZOFFSETFROM:-0500
TZOFFSETTO:-0400
TZNAME:EDT
DTSTART:20270314T070000
END:DAYLIGHT
BEGIN:STANDARD
TZOFFSETFROM:-0400
TZOFFSETTO:-0500
TZNAME:EST
DTSTART:20271107T060000
END:STANDARD
END:VTIMEZONE
BEGIN:VEVENT
DTSTART;VALUE=DATE:20251112
DTEND;VALUE=DATE:20261013
DTSTAMP:20260421T212913
CREATED:20251112T055143Z
LAST-MODIFIED:20251112T055143Z
UID:10000757-1762905600-1791849599@excelnotes.com
SUMMARY:Lady of Aparecida Day (Brazil)
DESCRIPTION:Our Lady of Aparecida Day honors Nossa Senhora Aparecida\, the patron saint of Brazil. The day commemorates the 1717 discovery of a small clay statue of the Virgin Mary by fishermen in the Paraíba River\, which became a symbol of hope and faith. Over centuries\, devotion to Our Lady of Aparecida grew into one of Brazil's most cherished traditions. Millions of pilgrims visit the Basilica of the National Shrine of Aparecida\, one of the largest churches in the world\, to pay tribute. \nWhen is Lady of Aparecida Day?\nLady of Aparecida Day in Brazil is celebrated on October 12 every year.  \nThe following is the list of Lady of Aparecida Day from 2020 to 2049. \n   \n\n                \n                \n                            \n                            \n                            \n                    \n        \n\n                                                        HolidayDateWeekday\n\n\n\n        \n            Lady of Aparecida DayOct 12\, 2020Monday        \n            \n            Lady of Aparecida DayOct 12\, 2021Tuesday        \n            \n            Lady of Aparecida DayOct 12\, 2022Wednesday        \n            \n            Lady of Aparecida DayOct 12\, 2023Thursday        \n            \n            Lady of Aparecida DayOct 12\, 2024Saturday        \n            \n            Lady of Aparecida DayOct 12\, 2025Sunday        \n            \n            Lady of Aparecida DayOct 12\, 2026Monday        \n            \n            Lady of Aparecida DayOct 12\, 2027Tuesday        \n            \n            Lady of Aparecida DayOct 12\, 2028Thursday        \n            \n            Lady of Aparecida DayOct 12\, 2029Friday        \n            \n            Lady of Aparecida DayOct 12\, 2030Saturday        \n            \n            Lady of Aparecida DayOct 12\, 2031Sunday        \n            \n            Lady of Aparecida DayOct 12\, 2032Tuesday        \n            \n            Lady of Aparecida DayOct 12\, 2033Wednesday        \n            \n            Lady of Aparecida DayOct 12\, 2034Thursday        \n            \n            Lady of Aparecida DayOct 12\, 2035Friday        \n            \n            Lady of Aparecida DayOct 12\, 2036Sunday        \n            \n            Lady of Aparecida DayOct 12\, 2037Monday        \n            \n            Lady of Aparecida DayOct 12\, 2038Tuesday        \n            \n            Lady of Aparecida DayOct 12\, 2039Wednesday        \n            \n            Lady of Aparecida DayOct 12\, 2040Friday        \n            \n            Lady of Aparecida DayOct 12\, 2041Saturday        \n            \n            Lady of Aparecida DayOct 12\, 2042Sunday        \n            \n            Lady of Aparecida DayOct 12\, 2043Monday        \n            \n            Lady of Aparecida DayOct 12\, 2044Wednesday        \n            \n            Lady of Aparecida DayOct 12\, 2045Thursday        \n            \n            Lady of Aparecida DayOct 12\, 2046Friday        \n            \n            Lady of Aparecida DayOct 12\, 2047Saturday        \n            \n            Lady of Aparecida DayOct 12\, 2048Monday        \n            \n            Lady of Aparecida DayOct 12\, 2049Tuesday        \n    \n    \n    \n    \n    \n\n\nThe History of Lady of Aparecida Day?\nThe devotion to Our Lady of Aparecida began in October 1717\, in the small village of Guaratinguetá\, in the Paraíba Valley of São Paulo state. Local fishermen were struggling to catch fish in the Paraíba River as they prepared for the visit of a regional governor\, Dom Pedro de Almeida e Portugal\, Count of Assumar. \nThree fishermen\, Domingos Garcia\, João Alves\, and Filipe Pedroso\, prayed to the Virgin Mary for help. Casting their nets\, they first pulled up a small clay statue of a headless figure from the river. When they cast their nets again\, they found the missing head. After retrieving and cleaning the statue\, they continued fishing\, and to their astonishment\, their nets filled with fish. \nThe fishermen took this as a miracle\, and word of the event spread quickly. The little dark-skinned clay statue\, later recognized as Our Lady of the Immaculate Conception\, came to be affectionately called Nossa Senhora Aparecida\, meaning "Our Lady Who Appeared". \nThe statue was first kept in the home of Filipe Pedroso\, where neighbors gathered to pray. Reports of miracles and healings attributed to Our Lady of Aparecida multiplied\, and devotion to her spread across the region. In 1745\, a small chapel was built to house the statue\, and by 1834\, a larger church\, the Old Basilica\, was constructed to accommodate growing numbers of pilgrims. \nIn 1904\, Pope Pius X authorized the canonical coronation of Our Lady of Aparecida\, officially recognizing her as a sacred symbol of devotion. Later\, in 1930\, Pope Pius XI declared her the Patroness of Brazil\, cementing her status as a national spiritual figure. \nThe Basilica of the National Shrine of Our Lady of Aparecida\, built to replace the older church\, began construction in 1955 and was completed in 1980. That same year\, Pope John Paul II visited Brazil and consecrated the new basilica\, recognizing it as one of the largest Marian shrines in the world. In 1980\, the Brazilian government officially established October 12 as a national holiday dedicated to Our Lady of Aparecida\, blending religious reverence with cultural celebration. \nToday\, millions of pilgrims visit the Basilica of Aparecida each year\, especially on October 12\, walking\, cycling or even traveling long distances on foot to express devotion and gratitude.
URL:https://excelnotes.com/holiday/lady-of-aparecida-day-brazil/
CATEGORIES:Christianity
ATTACH;FMTTYPE=image/jpeg:https://excelnotes.com/wp-content/uploads/2025/11/Lady-of-Aparecida-Day-Brazil.jpg
END:VEVENT
BEGIN:VEVENT
DTSTART;VALUE=DATE:20260107
DTEND;VALUE=DATE:20260108
DTSTAMP:20260421T212913
CREATED:20241216T053318Z
LAST-MODIFIED:20250109T010501Z
UID:10000066-1767744000-1767830399@excelnotes.com
SUMMARY:Orthodox Christmas Day
DESCRIPTION:Orthodox Christmas Day is celebrated by Orthodox Christians around the world. The difference in date from the December 25 celebration of Christmas in the Western Christian tradition arises from the use of different calendars. \n\nTable of Contents\n\nWhen is Orthodox Christmas Day?\nThe History of Orthodox Christmas Day?\nWhat Do People Do on This Day?\nCatholic and Orthodox Church\n\n\nWhen is Orthodox Christmas Day?\nOrthodox Christmas Day is celebrated on January 7 each year. This date is used by many Eastern Orthodox Churches that follow the Julian calendar for their liturgical schedule. Due to the difference in the Gregorian calendar used in many parts of the world\, which is 13 days ahead\, Orthodox Christmas falls on January 7 instead of December 25. \n   \n\n                \n                \n                            \n                            \n                            \n                    \n        \n\n                                                        HolidayDateWeekday\n\n\n\n        \n            Orthodox Christmas DayJanuary 07\, 2020Tuesday        \n            \n            Orthodox Christmas DayJanuary 07\, 2021Thursday        \n            \n            Orthodox Christmas DayJanuary 07\, 2022Friday        \n            \n            Orthodox Christmas DayJanuary 07\, 2023Saturday        \n            \n            Orthodox Christmas DayJanuary 07\, 2024Sunday        \n            \n            Orthodox Christmas DayJanuary 07\, 2025Tuesday        \n            \n            Orthodox Christmas DayJanuary 07\, 2026Wednesday        \n            \n            Orthodox Christmas DayJanuary 07\, 2027Thursday        \n            \n            Orthodox Christmas DayJanuary 07\, 2028Friday        \n            \n            Orthodox Christmas DayJanuary 07\, 2029Sunday        \n            \n            Orthodox Christmas DayJanuary 07\, 2030Monday        \n            \n            Orthodox Christmas DayJanuary 07\, 2031Tuesday        \n            \n            Orthodox Christmas DayJanuary 07\, 2032Wednesday        \n            \n            Orthodox Christmas DayJanuary 07\, 2033Friday        \n            \n            Orthodox Christmas DayJanuary 07\, 2034Saturday        \n            \n            Orthodox Christmas DayJanuary 07\, 2035Sunday        \n            \n            Orthodox Christmas DayJanuary 07\, 2036Monday        \n            \n            Orthodox Christmas DayJanuary 07\, 2037Wednesday        \n            \n            Orthodox Christmas DayJanuary 07\, 2038Thursday        \n            \n            Orthodox Christmas DayJanuary 07\, 2039Friday        \n            \n            Orthodox Christmas DayJanuary 07\, 2040Saturday        \n            \n            Orthodox Christmas DayJanuary 07\, 2041Monday        \n            \n            Orthodox Christmas DayJanuary 07\, 2042Tuesday        \n            \n            Orthodox Christmas DayJanuary 07\, 2043Wednesday        \n            \n            Orthodox Christmas DayJanuary 07\, 2044Thursday        \n            \n            Orthodox Christmas DayJanuary 07\, 2045Saturday        \n            \n            Orthodox Christmas DayJanuary 07\, 2046Sunday        \n            \n            Orthodox Christmas DayJanuary 07\, 2047Monday        \n            \n            Orthodox Christmas DayJanuary 07\, 2048Tuesday        \n            \n            Orthodox Christmas DayJanuary 07\, 2049Thursday        \n    \n    \n    \n    \n    \n\n\nThe History of Orthodox Christmas Day?\nThe history of Orthodox Christmas Day\, celebrated by many Eastern Orthodox Churches\, is intertwined with the history of Christianity itself and the adoption of different calendars for religious observances. \nThe celebration of Jesus Christ's birth\, which later became known as Christmas\, was not initially observed by the early Christian church. The primary focus was on the Resurrection. The first recorded date of Christmas being celebrated on December 25 was in 336 A.D.\, during the time of Roman Emperor Constantine\, the first Christian Roman Emperor. Eventually\, December 25th was widely accepted as the date of Jesus' birth. \nThe Julian calendar\, introduced by Julius Caesar in 45 B.C.\, was the calendar used by the Roman Empire and\, subsequently\, by the Christian church. Over centuries\, the Julian calendar became increasingly out of sync with the solar year due to a calculation error in the leap year system. \nTo correct this discrepancy\, Pope Gregory XIII instituted the Gregorian calendar in 1582. This calendar was more accurate in aligning with the solar year. While the Gregorian calendar was gradually adopted by most of the Western world\, many Eastern Orthodox Churches continued to use the Julian calendar for their religious observances. \nDue to the difference of 13 days between the Julian and Gregorian calendars\, December 25 in the Julian calendar falls on January 7 in the Gregorian calendar. The Eastern Orthodox Churches have maintained the Julian calendar for liturgical purposes\, preserving their traditional religious observances and dates. \nOrthodox Christmas Day's observance on January 7 is a reflection of both historical traditions and the diversity within the Christian faith in terms of calendar usage and cultural practices. It underscores the rich tapestry of Christian history and the significance of maintaining religious traditions across generations. \n   \nWhat Do People Do on This Day?\nOn Orthodox Christmas Day\, various traditions and activities are observed\, reflecting the rich cultural and religious heritage of the Orthodox Church. Here are some ways people celebrate this day. \nAttending church services is central to Orthodox Christmas celebrations. The Divine Liturgy of the Nativity is typically celebrated\, which includes communion\, hymns\, and prayers commemorating the birth of Jesus Christ. \nMany Orthodox Christians observe a period of fasting leading up to Christmas Day. The fast typically ends after the Christmas Eve service\, known as the Feast of the Nativity. \nOn Christmas Eve\, a special meal called the Holy Supper in Russian tradition might be served. This meal often includes twelve dishes\, symbolizing the twelve apostles. \nFamilies gather to celebrate together\, often sharing a festive meal and exchanging gifts. It's also common to visit friends and relatives on Christmas Day or during the days following. \nWhile less commercialized than in Western traditions\, some Orthodox Christians decorate their homes with Nativity scenes\, Christmas trees\, and lights. In some cultures\, caroling is a popular tradition\, where groups of people visit homes singing Christmas hymns and carols. \nOrthodox Christmas Day is a blend of solemn religious observance and joyous celebration. It underscores the importance of family\, faith\, and cultural traditions\, providing a time for both reflection and festive gatherings. \nCatholic and Orthodox Church\nThe Western Catholic Church and the Eastern Orthodox Church are two of the largest Christian denominations\, each with its unique history\, theology\, and practices. Their differences stem from various theological\, political\, and cultural factors that have evolved over centuries. \nBoth the Western and Eastern Churches share common roots in the early Christian Church. The two branches formally split in the Great Schism of 1054\, primarily due to disputes over papal authority and theological differences. This schism solidified the division between the Roman Catholic Church in the West and the Orthodox Churches in the East. \n– Papal Authority: One of the primary differences is the role of the Pope. The Catholic Church views the Pope as the supreme spiritual authority\, a successor to Saint Peter. The Orthodox Church\, however\, sees the Pope as one of the bishops\, without universal jurisdiction. \n– The Filioque Clause: The addition of the phrase "and the Son" to the Nicene Creed by the Western Church was a significant point of contention. The Orthodox Church maintains the original version of the Creed\, which states that the Holy Spirit proceeds from the Father alone. \n– Worship Style: The Orthodox Church is known for its rich and elaborate liturgical tradition\, which includes the divine liturgy\, icons\, and extensive use of incense. The Catholic Church\, while also liturgical\, has a more streamlined liturgy as a result of the reforms of the Second Vatican Council. \n– Language: The Orthodox Church often uses traditional liturgical languages (like Greek\, Slavic languages\, etc.)\, while the Catholic Church primarily uses the vernacular language since Vatican II. \n– Hierarchy: The Catholic Church has a more centralized structure with the Pope at its head. The Orthodox Church is a communion of self-governing Churches\, each led by a bishop. \n– Global Presence: The Catholic Church has a larger global presence\, while the Orthodox Church has significant followers primarily in Eastern Europe and some parts of the Middle East and Africa. \nIt's important to note that despite these differences\, both the Catholic and Orthodox Churches share much common ground\, including belief in the Trinity\, the divinity of Christ\, the significance of the Virgin Mary\, and the tradition of apostolic succession.
URL:https://excelnotes.com/holiday/orthodox-christmas-day/
CATEGORIES:Christianity
ATTACH;FMTTYPE=image/jpeg:https://excelnotes.com/wp-content/uploads/2023/12/Orthodox-Christmas-Day.jpg
END:VEVENT
BEGIN:VEVENT
DTSTART;VALUE=DATE:20260107
DTEND;VALUE=DATE:20260108
DTSTAMP:20260421T212913
CREATED:20251010T154626Z
LAST-MODIFIED:20251010T154626Z
UID:10000694-1767744000-1767830399@excelnotes.com
SUMMARY:Synaxis of St. John the Baptist
DESCRIPTION:Synaxis of St. John the Baptist honors St. John the Forerunner\, who baptized Jesus Christ. It celebrates his role as a prophet\, preacher of repentance and herald of spiritual renewal in Christian tradition. \nWhen is Synaxis of St. John the Baptist?\nSynaxis of St. John the Baptist is observed on January 7 every year.  \nThe following is the list of Synaxis of St. John the Baptist from 2020 to 2049. \n   \n\n                \n                \n                            \n                            \n                            \n                    \n        \n\n                                                        HolidayDateWeekday\n\n\n\n        \n            Synaxis of St. John the BaptistJan 07\, 2020Tuesday        \n            \n            Synaxis of St. John the BaptistJan 07\, 2021Thursday        \n            \n            Synaxis of St. John the BaptistJan 07\, 2022Friday        \n            \n            Synaxis of St. John the BaptistJan 07\, 2023Saturday        \n            \n            Synaxis of St. John the BaptistJan 07\, 2024Sunday        \n            \n            Synaxis of St. John the BaptistJan 07\, 2025Tuesday        \n            \n            Synaxis of St. John the BaptistJan 07\, 2026Wednesday        \n            \n            Synaxis of St. John the BaptistJan 07\, 2027Thursday        \n            \n            Synaxis of St. John the BaptistJan 07\, 2028Friday        \n            \n            Synaxis of St. John the BaptistJan 07\, 2029Sunday        \n            \n            Synaxis of St. John the BaptistJan 07\, 2030Monday        \n            \n            Synaxis of St. John the BaptistJan 07\, 2031Tuesday        \n            \n            Synaxis of St. John the BaptistJan 07\, 2032Wednesday        \n            \n            Synaxis of St. John the BaptistJan 07\, 2033Friday        \n            \n            Synaxis of St. John the BaptistJan 07\, 2034Saturday        \n            \n            Synaxis of St. John the BaptistJan 07\, 2035Sunday        \n            \n            Synaxis of St. John the BaptistJan 07\, 2036Monday        \n            \n            Synaxis of St. John the BaptistJan 07\, 2037Wednesday        \n            \n            Synaxis of St. John the BaptistJan 07\, 2038Thursday        \n            \n            Synaxis of St. John the BaptistJan 07\, 2039Friday        \n            \n            Synaxis of St. John the BaptistJan 07\, 2040Saturday        \n            \n            Synaxis of St. John the BaptistJan 07\, 2041Monday        \n            \n            Synaxis of St. John the BaptistJan 07\, 2042Tuesday        \n            \n            Synaxis of St. John the BaptistJan 07\, 2043Wednesday        \n            \n            Synaxis of St. John the BaptistJan 07\, 2044Thursday        \n            \n            Synaxis of St. John the BaptistJan 07\, 2045Saturday        \n            \n            Synaxis of St. John the BaptistJan 07\, 2046Sunday        \n            \n            Synaxis of St. John the BaptistJan 07\, 2047Monday        \n            \n            Synaxis of St. John the BaptistJan 07\, 2048Tuesday        \n            \n            Synaxis of St. John the BaptistJan 07\, 2049Thursday        \n    \n    \n    \n    \n    \n\n\nThe History of Synaxis of St. John the Baptist?\nThe word "Synaxis" comes from the Greek σύναξις\, meaning "assembly" or "gathering". In the Christian tradition\, a Synaxis is a special feast day that honors a saint closely connected to a major holy event.  \nThe Synaxis of St. John the Baptist\, celebrated on January 7\, is observed the day after the Feast of Theophany (Epiphany)\, which commemorates the baptism of Jesus Christ in the River Jordan. \nOn January 6\, Christians celebrate Theophany (Epiphany)\, the revelation of the Holy Trinity\, when God the Father's voice was heard\, the Holy Spirit descended as a dove\, and Christ was baptized by St. John the Baptist. \nBecause of his essential role in this sacred event\, the next day\, January 7\, is dedicated specifically to honoring St. John the Baptist — the Forerunner of Christ\, who prepared the way for the Messiah through his preaching and baptism of repentance. \nThe veneration of John the Baptist dates back to the first centuries of Christianity. Early Christians regarded him as the last and greatest of the prophets\, bridging the Old and New Testaments. \nHis message of repentance and his recognition of Jesus as the "Lamb of God" made him one of the most revered saints in both Eastern and Western Christianity. The Synaxis itself developed in the Eastern Church as a natural extension of the Epiphany celebration\, already widespread by the 4th century. \nThe Eastern Orthodox Church and Eastern Catholic Churches observe the Synaxis on January 7\, immediately following the Feast of Theophany. Over time\, the Synaxis became an important liturgical event\, emphasizing John's humility\, faith\, and his mission as the messenger preparing humanity for the coming of Christ. \nThe Synaxis of St. John the Baptist is marked with special church services\, prayers\, and hymns dedicated to his life and ministry. In Orthodox tradition\, believers attend the Divine Liturgy and sometimes participate in the blessing of water\, continuing the themes of cleansing and renewal from Theophany. In some Eastern European and Mediterranean countries\, families gather to share meals and light candles in his honor.
URL:https://excelnotes.com/holiday/synaxis-of-st-john-the-baptist/
CATEGORIES:Christianity
ATTACH;FMTTYPE=image/jpeg:https://excelnotes.com/wp-content/uploads/2025/10/Synaxis-of-St.-John-the-Baptist.jpg
END:VEVENT
END:VCALENDAR