BEGIN:VCALENDAR
VERSION:2.0
PRODID:-//ExcelNotes - ECPv6.15.20//NONSGML v1.0//EN
CALSCALE:GREGORIAN
METHOD:PUBLISH
X-WR-CALNAME:ExcelNotes
X-ORIGINAL-URL:https://excelnotes.com
X-WR-CALDESC:Events for ExcelNotes
REFRESH-INTERVAL;VALUE=DURATION:PT1H
X-Robots-Tag:noindex
X-PUBLISHED-TTL:PT1H
BEGIN:VTIMEZONE
TZID:America/New_York
BEGIN:DAYLIGHT
TZOFFSETFROM:-0500
TZOFFSETTO:-0400
TZNAME:EDT
DTSTART:20240310T070000
END:DAYLIGHT
BEGIN:STANDARD
TZOFFSETFROM:-0400
TZOFFSETTO:-0500
TZNAME:EST
DTSTART:20241103T060000
END:STANDARD
BEGIN:DAYLIGHT
TZOFFSETFROM:-0500
TZOFFSETTO:-0400
TZNAME:EDT
DTSTART:20250309T070000
END:DAYLIGHT
BEGIN:STANDARD
TZOFFSETFROM:-0400
TZOFFSETTO:-0500
TZNAME:EST
DTSTART:20251102T060000
END:STANDARD
BEGIN:DAYLIGHT
TZOFFSETFROM:-0500
TZOFFSETTO:-0400
TZNAME:EDT
DTSTART:20260308T070000
END:DAYLIGHT
BEGIN:STANDARD
TZOFFSETFROM:-0400
TZOFFSETTO:-0500
TZNAME:EST
DTSTART:20261101T060000
END:STANDARD
END:VTIMEZONE
BEGIN:VEVENT
DTSTART;VALUE=DATE:20251102
DTEND;VALUE=DATE:20251103
DTSTAMP:20260424T200057
CREATED:20241231T200544Z
LAST-MODIFIED:20241231T200544Z
UID:10000139-1762041600-1762127999@excelnotes.com
SUMMARY:All Souls' Day
DESCRIPTION:All Souls' Day is dedicated to praying for the souls of the faithful departed\, particularly those in Purgatory\, undergoing purification before entering Heaven. It is a significant day in the Catholic Church and other Christian traditions that honor the dead. It complements All Saints' Day\, which honors those already in Heaven. \nTable of Contents\n\nWhen is All Souls' Day?\nThe History of All Souls' Day?\nWhat Do People Do on This Day?\nThe Concept of Purgatory in Christianity\n\nWhen is All Souls' Day?\nAll Souls' Day is observed annually on November 2. \nThe following is the list of All Souls' Day from 2020 to 2049.\n   \n\n                \n                \n                            \n                            \n                            \n                    \n        \n\n                                                        HolidayDateWeekday\n\n\n\n        \n            All Souls' DayNovember 02\, 2020Monday        \n            \n            All Souls' DayNovember 02\, 2021Tuesday        \n            \n            All Souls' DayNovember 02\, 2022Wednesday        \n            \n            All Souls' DayNovember 02\, 2023Thursday        \n            \n            All Souls' DayNovember 02\, 2024Saturday        \n            \n            All Souls' DayNovember 02\, 2025Sunday        \n            \n            All Souls' DayNovember 02\, 2026Monday        \n            \n            All Souls' DayNovember 02\, 2027Tuesday        \n            \n            All Souls' DayNovember 02\, 2028Thursday        \n            \n            All Souls' DayNovember 02\, 2029Friday        \n            \n            All Souls' DayNovember 02\, 2030Saturday        \n            \n            All Souls' DayNovember 02\, 2031Sunday        \n            \n            All Souls' DayNovember 02\, 2032Tuesday        \n            \n            All Souls' DayNovember 02\, 2033Wednesday        \n            \n            All Souls' DayNovember 02\, 2034Thursday        \n            \n            All Souls' DayNovember 02\, 2035Friday        \n            \n            All Souls' DayNovember 02\, 2036Sunday        \n            \n            All Souls' DayNovember 02\, 2037Monday        \n            \n            All Souls' DayNovember 02\, 2038Tuesday        \n            \n            All Souls' DayNovember 02\, 2039Wednesday        \n            \n            All Souls' DayNovember 02\, 2040Friday        \n            \n            All Souls' DayNovember 02\, 2041Saturday        \n            \n            All Souls' DayNovember 02\, 2042Sunday        \n            \n            All Souls' DayNovember 02\, 2043Monday        \n            \n            All Souls' DayNovember 02\, 2044Wednesday        \n            \n            All Souls' DayNovember 02\, 2045Thursday        \n            \n            All Souls' DayNovember 02\, 2046Friday        \n            \n            All Souls' DayNovember 02\, 2047Saturday        \n            \n            All Souls' DayNovember 02\, 2048Monday        \n            \n            All Souls' DayNovember 02\, 2049Tuesday        \n    \n    \n    \n    \n    \n\n\nThe History of All Souls' Day\nThe history of All Souls' Day is deeply rooted in early Christian traditions and theological developments. The custom of praying for the dead dates back to early Christianity and has roots in Jewish tradition. Early Christians believed in the efficacy of prayers\, almsgiving\, and Eucharistic offerings to aid the deceased in their journey to eternal life. \nInitially\, the Church focused on honoring martyrs\, those who died for their faith\, on their individual feast days. Over time\, the Church expanded its prayers to include all the faithful departed. \nSt. Odilo of Cluny\, the abbot of the Benedictine monastery at Cluny\, France\, established a formal day for praying for the dead in 998 AD. He decreed that November 2\, the day after All Saints' Day\, would be set aside to pray for all the faithful departed. This practice spread quickly throughout the Benedictine monasteries and later to the wider Church. \nBy the 11th century\, All Souls' Day was widely observed in Western Christianity. In 1311\, Pope John XXII formalized the celebration in the Roman Catholic Church\, making it a universal feast. \nDuring the Middle Ages\, the doctrine of Purgatory\, central to All Souls' Day\, developed in the early Church and was formalized. Prayers\, Masses and good works offered by the living can aid the souls in Purgatory and hasten their entry into Heaven. All Souls' Day was marked by special Masses for the dead\, processions to cemeteries\, and tolling of church bells to remind the faithful to pray for the departed.  \nAfter the Reformation\, Protestant denominations generally rejected the concept of Purgatory. However\, some traditions\, such as the Anglican Church\, maintain a version of All Souls' Day to remember the dead without emphasizing Purgatory. \nToday\, All Souls' Day remains a significant feast in Roman Catholic churches marked by special masses for the Dead\, and visits to Cemeteries etc. While not observing All Souls' Day\, the Orthodox Church has Saturdays of the Dead (the first Saturday after Pentecost)\, dedicated to praying for the departed. \n   \nWhat Do People Do on This Day?\nOn All Souls' Day\, Christians around the world honor and pray for the faithful departed\, particularly those believed to be in Purgatory. The day focuses on remembrance and acts of devotion\, emphasizing hope in eternal life and the unity of the Communion of Saints. \nCatholics attend special Masses for the Dead\, which include prayers and readings dedicated to the souls in Purgatory. \nFamilies visit the graves of loved ones to clean and decorate them with flowers\, candles and wreaths\, and to pray for the deceased\, asking for God's mercy on their souls. In many countries\, cemeteries are illuminated with hundreds of candles\, creating a serene and reflective atmosphere. \nCandles are lit in churches\, homes and cemeteries as a symbol of hope and prayer for the deceased. The flame represents the light of Christ guiding souls to eternal life.  \nInspired by the belief that good works benefit the souls in Purgatory\, many Christians donate to the poor or to the Church in memory of the deceased\, and perform acts of kindness and penance on behalf of departed souls. \nThe Concept of Purgatory in Christianity\nPurgatory is a concept in Catholic theology that refers to a temporary state of purification for souls who have died in God's grace but are not yet free from all imperfections or the temporal effects of forgiven sins. It is a process of cleansing that prepares souls to enter Heaven. \nPurgatory is not a place of punishment but a state of purification where souls are made ready to enter the presence of God. It is for those who die in a state of grace (not in mortal sin) but still need to be purified of venial sins or the consequences of past sins. \nPurgatory is to cleanse the soul of any residual sin or attachment to sin\, and to make the soul holy and perfect because nothing impure can enter Heaven. The idea of Purgatory developed from early Christian practices of praying for the dead and theological reflection on the justice and mercy of God. \nAn indulgence is a remission of the temporal punishment due to sin\, and Catholics believe that indulgences\, when offered with the right intentions\, can help souls in Purgatory. It is believed that Catholics can offer indulgences for the souls in Purgatory through specific acts\, such as: visiting a cemetery and praying for the departed\, and participating in the Sacraments of Confession and Communion.
URL:https://excelnotes.com/holiday/all-souls-day/
CATEGORIES:Christianity
ATTACH;FMTTYPE=image/jpeg:https://excelnotes.com/wp-content/uploads/2021/01/All-Souls-Day.jpg
END:VEVENT
END:VCALENDAR