BEGIN:VCALENDAR
VERSION:2.0
PRODID:-//ExcelNotes - ECPv6.15.20//NONSGML v1.0//EN
CALSCALE:GREGORIAN
METHOD:PUBLISH
X-ORIGINAL-URL:https://excelnotes.com
X-WR-CALDESC:Events for ExcelNotes
REFRESH-INTERVAL;VALUE=DURATION:PT1H
X-Robots-Tag:noindex
X-PUBLISHED-TTL:PT1H
BEGIN:VTIMEZONE
TZID:America/New_York
BEGIN:DAYLIGHT
TZOFFSETFROM:-0500
TZOFFSETTO:-0400
TZNAME:EDT
DTSTART:20240310T070000
END:DAYLIGHT
BEGIN:STANDARD
TZOFFSETFROM:-0400
TZOFFSETTO:-0500
TZNAME:EST
DTSTART:20241103T060000
END:STANDARD
BEGIN:DAYLIGHT
TZOFFSETFROM:-0500
TZOFFSETTO:-0400
TZNAME:EDT
DTSTART:20250309T070000
END:DAYLIGHT
BEGIN:STANDARD
TZOFFSETFROM:-0400
TZOFFSETTO:-0500
TZNAME:EST
DTSTART:20251102T060000
END:STANDARD
BEGIN:DAYLIGHT
TZOFFSETFROM:-0500
TZOFFSETTO:-0400
TZNAME:EDT
DTSTART:20260308T070000
END:DAYLIGHT
BEGIN:STANDARD
TZOFFSETFROM:-0400
TZOFFSETTO:-0500
TZNAME:EST
DTSTART:20261101T060000
END:STANDARD
END:VTIMEZONE
BEGIN:VEVENT
DTSTART;VALUE=DATE:20251031
DTEND;VALUE=DATE:20251101
DTSTAMP:20260423T182018
CREATED:20241231T045603Z
LAST-MODIFIED:20241231T050017Z
UID:10000137-1761868800-1761955199@excelnotes.com
SUMMARY:Reformation Day
DESCRIPTION:Reformation Day commemorates the beginning of the Protestant Reformation. It marks the day in 1517 when Martin Luther\, a German monk and theologian\, is traditionally believed to have nailed his 95 Theses to the door of the Wittenberg Castle Church. The theses challenged certain practices and doctrines of the Roman Catholic Church\, particularly the sale of indulgences\, and set in motion a movement that transformed Christianity and Western society. \nTable of Contents\n\nWhen is Reformation Day?\nThe History of Reformation Day?\nWhat Do People Do on This Day?\nMore about Martin Luther\n\nWhen is Reformation Day?\nReformation Day is celebrated annually on October 31. The date coincided with All Hallows' Eve (Halloween)\, when many people visited the church to prepare for All Saints' Day (November 1). This timing ensured that Luther's theses would gain widespread attention. \nThe following is the list of Reformation Day from 2020 to 2049.\n   \n\n                \n                \n                            \n                            \n                            \n                    \n        \n\n                                                        HolidayDayWeekday\n\n\n\n        \n            Reformation DayOctober 31\, 2020Saturday        \n            \n            Reformation DayOctober 31\, 2021Sunday        \n            \n            Reformation DayOctober 31\, 2022Monday        \n            \n            Reformation DayOctober 31\, 2023Tuesday        \n            \n            Reformation DayOctober 31\, 2024Thursday        \n            \n            Reformation DayOctober 31\, 2025Friday        \n            \n            Reformation DayOctober 31\, 2026Saturday        \n            \n            Reformation DayOctober 31\, 2027Sunday        \n            \n            Reformation DayOctober 31\, 2028Tuesday        \n            \n            Reformation DayOctober 31\, 2029Wednesday        \n            \n            Reformation DayOctober 31\, 2030Thursday        \n            \n            Reformation DayOctober 31\, 2031Friday        \n            \n            Reformation DayOctober 31\, 2032Sunday        \n            \n            Reformation DayOctober 31\, 2033Monday        \n            \n            Reformation DayOctober 31\, 2034Tuesday        \n            \n            Reformation DayOctober 31\, 2035Wednesday        \n            \n            Reformation DayOctober 31\, 2036Friday        \n            \n            Reformation DayOctober 31\, 2037Saturday        \n            \n            Reformation DayOctober 31\, 2038Sunday        \n            \n            Reformation DayOctober 31\, 2039Monday        \n            \n            Reformation DayOctober 31\, 2040Wednesday        \n            \n            Reformation DayOctober 31\, 2041Thursday        \n            \n            Reformation DayOctober 31\, 2042Friday        \n            \n            Reformation DayOctober 31\, 2043Saturday        \n            \n            Reformation DayOctober 31\, 2044Monday        \n            \n            Reformation DayOctober 31\, 2045Tuesday        \n            \n            Reformation DayOctober 31\, 2046Wednesday        \n            \n            Reformation DayOctober 31\, 2047Thursday        \n            \n            Reformation DayOctober 31\, 2048Saturday        \n            \n            Reformation DayOctober 31\, 2049Sunday        \n    \n    \n    \n    \n    \n\n\nThe History of Reformation Day\nReformation Day marks the beginning of the Protestant Reformation\, a major religious\, cultural\, and political movement that reshaped Christianity in the 16th century.  \nOn October 31\, 1517\, Martin Luther is traditionally believed to have nailed his 95 Theses to the door of the Wittenberg Castle Church in Germany. The theses were formal arguments against the Catholic Church's practice of selling indulgences\, which were payments made to reduce punishment for sins. Luther's central concern was the misuse of indulgences and the belief that salvation could not be bought but was a free gift from God\, granted by faith. \nThe invention of the printing press allowed Luther's 95 Theses to spread rapidly across Europe. His ideas resonated with many people dissatisfied with Church corruption and clerical abuses. Luther's actions inspired other reformers\, who further shaped Protestant theology. The movement led to the establishment of new Christian denominations\, including Lutheranism\, Calvinism and later Anglicanism. \nReformation Day began as a commemoration in Lutheran communities during the 16th century\, particularly in Germany and Scandinavia. The date served to highlight the importance of reforming the Church and upholding Biblical truths. \nIn 1617\, the Elector of Saxony declared a formal celebration of the centennial of the Reformation\, solidifying October 31 as a significant date in Protestant tradition. Over time\, it became a public holiday in Protestant regions of Europe. \n   \nWhat Do People Do on This Day?\nReformation Day is observed with worship services\, educational events\, and community activities\, particularly in countries and regions with a Protestant heritage. \nSpecial worship services are held in churces\, and pastors preach on themes central to the Reformation\, such as Scripture alone\, faith alone and grace alone. Hymns written by Martin Luther like "A Mighty Fortress Is Our God" are sung to reflect the triumph of faith. \nSome churches celebrate the Lord's Supper to emphasize the central role of grace and faith in Christian life. Reenactments of Martin Luther's nailing of the 95 Theses are popular in churches and schools. \nMany congregations hold special Bible studies focusing on the key principles of the Reformation. In some areas\, processions and parades celebrate the cultural and religious significance of the Reformation. \nInspired by the Reformation's emphasis on Christian service\, some communities organize charitable activities\, such as collecting donations for the poor\, and volunteering at local shelters. Museums and cultural institutions host exhibitions on the Reformation's impact on religion\, art\, and politics. \nMore about Martin Luther\nMartin Luther (1483–1546) was a German monk\, theologian and reformer whose actions and teachings initiated the Protestant Reformation. He is one of the most influential figures in Western Christianity\, known for his emphasis on salvation by faith alone (sola fide)\, the authority of Scripture alone (sola scriptura)\, and the priesthood of all believers. Luther's actions led to the creation of Protestantism\, splitting Western Christianity into Catholic and Protestant branches. \nLuther was born on November 10\, 1483 in Eisleben\, Germany to parents Hans and Margaretha Luther. His father was a miner who later became a mine owner. Luther's family was devoutly Catholic\, and his father encouraged him to study law. \nLuther studied at the University of Erfurt\, earning a bachelor's and master's degree. He planned to become a lawyer but decided to join a monastery after a life-changing experience during a thunderstorm in 1505\, where he vowed to become a monk if God spared his life. \nLuther entered the Augustinian Monastery in Erfurt in 1505\, and ordained as a priest in 1507 and pursued theological studies at the University of Wittenberg\, where he earned his doctorate in theology. \nOn October 31\, 1517\, Luther is traditionally believed to have nailed his 95 Theses to the door of the Wittenberg Castle Church. The theses were quickly disseminated across Europe due to the printing press. His ideas gained widespread support among those critical of corruption in the Catholic Church. \nIn 1520\, Pope Leo X issued the bull Exsurge Domine\, condemning Luther's teachings and threatening him with excommunication. Luther burned the papal bull\, symbolizing his rejection of papal authority.  \nIn 1521\, he was formally excommunicated. In the same year\, Luther appeared before the Diet of Worms\, an assembly of the Holy Roman Empire\, where he refused to recant his writings. After the Diet\, Luther was protected by Prince Frederick the Wise of Saxony and hidden in Wartburg Castle. During his time there\, he translated the New Testament into German\, making the Scriptures accessible to ordinary people. \nLuther continued to write and preach\, shaping the theology of the emerging Lutheran Church. He redefined the sacraments\, emphasizing Baptism and Holy Communion while rejecting others like confession and penance as necessary for salvation. \nIn 1525\, Luther married Katharina von Bora\, a former nun\, and they had six children. Their marriage became a model for Protestant clergy and families. Martin Luther died on February 18\, 1546\, in Eisleben\, his birthplace.
URL:https://excelnotes.com/holiday/reformation-day/
CATEGORIES:Christianity
ATTACH;FMTTYPE=image/jpeg:https://excelnotes.com/wp-content/uploads/2024/12/Reformation-Day.jpg
END:VEVENT
BEGIN:VEVENT
DTSTART;VALUE=DATE:20251031
DTEND;VALUE=DATE:20251101
DTSTAMP:20260423T182018
CREATED:20250425T051725Z
LAST-MODIFIED:20250425T051814Z
UID:10000309-1761868800-1761955199@excelnotes.com
SUMMARY:Thanksgiving Day (Turks and Caicos Islands)
DESCRIPTION:Thanksgiving Day in the Turks and Caicos Islands (TCI) is a public holiday that shares its date with the American Thanksgiving but is celebrated in a distinctly local and spiritual way\, rooted in the islands' religious traditions\, community values\, and agricultural heritage. \nWhen is Thanksgiving Day?\nThanksgiving Day is observed annually on the last Friday in November.  \nThe following is the list of Thanksgiving Day from 2020 to 2049. \n   \n\n                \n                \n                            \n                            \n                            \n                    \n        \n\n                                                        HolidayDateWeekday\n\n\n\n        \n            Thanksgiving DayNov 27\, 2020Friday        \n            \n            Thanksgiving DayNov 26\, 2021Friday        \n            \n            Thanksgiving DayNov 25\, 2022Friday        \n            \n            Thanksgiving DayNov 24\, 2023Friday        \n            \n            Thanksgiving DayNov 22\, 2024Friday        \n            \n            Thanksgiving DayNov 28\, 2025Friday        \n            \n            Thanksgiving DayNov 27\, 2026Friday        \n            \n            Thanksgiving DayNov 26\, 2027Friday        \n            \n            Thanksgiving DayNov 24\, 2028Friday        \n            \n            Thanksgiving DayNov 23\, 2029Friday        \n            \n            Thanksgiving DayNov 22\, 2030Friday        \n            \n            Thanksgiving DayNov 28\, 2031Friday        \n            \n            Thanksgiving DayNov 26\, 2032Friday        \n            \n            Thanksgiving DayNov 25\, 2033Friday        \n            \n            Thanksgiving DayNov 24\, 2034Friday        \n            \n            Thanksgiving DayNov 23\, 2035Friday        \n            \n            Thanksgiving DayNov 28\, 2036Friday        \n            \n            Thanksgiving DayNov 27\, 2037Friday        \n            \n            Thanksgiving DayNov 26\, 2038Friday        \n            \n            Thanksgiving DayNov 25\, 2039Friday        \n            \n            Thanksgiving DayNov 23\, 2040Friday        \n            \n            Thanksgiving DayNov 22\, 2041Friday        \n            \n            Thanksgiving DayNov 28\, 2042Friday        \n            \n            Thanksgiving DayNov 27\, 2043Friday        \n            \n            Thanksgiving DayNov 25\, 2044Friday        \n            \n            Thanksgiving DayNov 24\, 2045Friday        \n            \n            Thanksgiving DayNov 23\, 2046Friday        \n            \n            Thanksgiving DayNov 22\, 2047Friday        \n            \n            Thanksgiving DayNov 27\, 2048Friday        \n            \n            Thanksgiving DayNov 26\, 2049Friday        \n    \n    \n    \n    \n    \n\n\nThe History of Thanksgiving Day?\nRooted in faith and gratitude\, Thanksgiving Day is primarily a religious and community-based observance\, focused on giving thanks for blessings\, harvests\, and life rather than historical events. \nThanksgiving in TCI is not tied to colonial or Pilgrim traditions like it is in the United States. Instead\, its roots lie in the Christian traditions of the islands\, where it evolved as a day of worship and gratitude. \nMany churches in the Caribbean region\, including TCI\, have long celebrated harvest festivals\, which emphasize thankfulness for crops\, health\, and protection throughout the year. \nOver time\, the harvest tradition and Christian thanksgiving practices merged with the modern calendar\, and the last Friday in November became the official day of observance. \nThis date aligns with American Thanksgiving (last Thursday in November)\, but TCI opted for Friday to accommodate work and school schedules while still maintaining a similar theme of reflection and togetherness.
URL:https://excelnotes.com/holiday/thanksgiving-day-turks-and-caicos-islands/
CATEGORIES:Christianity
ATTACH;FMTTYPE=image/jpeg:https://excelnotes.com/wp-content/uploads/2025/04/Thanksgiving-Day-Turks-and-Caicos-Islands.jpg
END:VEVENT
END:VCALENDAR