BEGIN:VCALENDAR
VERSION:2.0
PRODID:-//ExcelNotes - ECPv6.15.20//NONSGML v1.0//EN
CALSCALE:GREGORIAN
METHOD:PUBLISH
X-ORIGINAL-URL:https://excelnotes.com
X-WR-CALDESC:Events for ExcelNotes
REFRESH-INTERVAL;VALUE=DURATION:PT1H
X-Robots-Tag:noindex
X-PUBLISHED-TTL:PT1H
BEGIN:VTIMEZONE
TZID:America/New_York
BEGIN:DAYLIGHT
TZOFFSETFROM:-0500
TZOFFSETTO:-0400
TZNAME:EDT
DTSTART:20240310T070000
END:DAYLIGHT
BEGIN:STANDARD
TZOFFSETFROM:-0400
TZOFFSETTO:-0500
TZNAME:EST
DTSTART:20241103T060000
END:STANDARD
BEGIN:DAYLIGHT
TZOFFSETFROM:-0500
TZOFFSETTO:-0400
TZNAME:EDT
DTSTART:20250309T070000
END:DAYLIGHT
BEGIN:STANDARD
TZOFFSETFROM:-0400
TZOFFSETTO:-0500
TZNAME:EST
DTSTART:20251102T060000
END:STANDARD
BEGIN:DAYLIGHT
TZOFFSETFROM:-0500
TZOFFSETTO:-0400
TZNAME:EDT
DTSTART:20260308T070000
END:DAYLIGHT
BEGIN:STANDARD
TZOFFSETFROM:-0400
TZOFFSETTO:-0500
TZNAME:EST
DTSTART:20261101T060000
END:STANDARD
END:VTIMEZONE
BEGIN:VEVENT
DTSTART;VALUE=DATE:20251006
DTEND;VALUE=DATE:20251007
DTSTAMP:20260424T014519
CREATED:20241220T040435Z
LAST-MODIFIED:20250419T021758Z
UID:10000082-1759708800-1759795199@excelnotes.com
SUMMARY:Frances Xavier Cabrini Day
DESCRIPTION:Frances Xavier Cabrini Day is a state holiday in Colorado\, established to honor the life and legacy of Saint Frances Xavier Cabrini\, the first U.S. citizen to be canonized by the Catholic Church. \nTable of Contents\n\nWhen is Frances Xavier Cabrini Day?\nThe History of Frances Xavier Cabrini Day?\nWhat Do People Do on This Day?\nWho is Frances Xavier Cabrini\n\nWhen is Frances Xavier Cabrini Day?\nFrances Xavier Cabrini Day is observed annually on the first Monday of October. It is recognized in Colorado as a state holiday to honor Saint Frances Xavier Cabrini for her contributions to immigrant communities \nThe following is the list of Frances Xavier Cabrini Day. \n   \n\n                \n                \n                            \n                            \n                            \n                    \n        \n\n                                                        HolidayDateWeekday\n\n\n\n        \n            Frances Xavier Cabrini DayOctober 05\, 2020Monday        \n            \n            Frances Xavier Cabrini DayOctober 04\, 2021Monday        \n            \n            Frances Xavier Cabrini DayOctober 03\, 2022Monday        \n            \n            Frances Xavier Cabrini DayOctober 02\, 2023Monday        \n            \n            Frances Xavier Cabrini DayOctober 07\, 2024Monday        \n            \n            Frances Xavier Cabrini DayOctober 06\, 2025Monday        \n            \n            Frances Xavier Cabrini DayOctober 05\, 2026Monday        \n            \n            Frances Xavier Cabrini DayOctober 04\, 2027Monday        \n            \n            Frances Xavier Cabrini DayOctober 02\, 2028Monday        \n            \n            Frances Xavier Cabrini DayOctober 01\, 2029Monday        \n            \n            Frances Xavier Cabrini DayOctober 07\, 2030Monday        \n            \n            Frances Xavier Cabrini DayOctober 06\, 2031Monday        \n            \n            Frances Xavier Cabrini DayOctober 04\, 2032Monday        \n            \n            Frances Xavier Cabrini DayOctober 03\, 2033Monday        \n            \n            Frances Xavier Cabrini DayOctober 02\, 2034Monday        \n            \n            Frances Xavier Cabrini DayOctober 01\, 2035Monday        \n            \n            Frances Xavier Cabrini DayOctober 06\, 2036Monday        \n            \n            Frances Xavier Cabrini DayOctober 05\, 2037Monday        \n            \n            Frances Xavier Cabrini DayOctober 04\, 2038Monday        \n            \n            Frances Xavier Cabrini DayOctober 03\, 2039Monday        \n            \n            Frances Xavier Cabrini DayOctober 01\, 2040Monday        \n            \n            Frances Xavier Cabrini DayOctober 07\, 2041Monday        \n            \n            Frances Xavier Cabrini DayOctober 06\, 2042Monday        \n            \n            Frances Xavier Cabrini DayOctober 05\, 2043Monday        \n            \n            Frances Xavier Cabrini DayOctober 03\, 2044Monday        \n            \n            Frances Xavier Cabrini DayOctober 02\, 2045Monday        \n            \n            Frances Xavier Cabrini DayOctober 01\, 2046Monday        \n            \n            Frances Xavier Cabrini DayOctober 07\, 2047Monday        \n            \n            Frances Xavier Cabrini DayOctober 05\, 2048Monday        \n            \n            Frances Xavier Cabrini DayOctober 04\, 2049Monday        \n            \n            Frances Xavier Cabrini DayOctober 04\, 2050Tuesday        \n    \n    \n    \n    \n    \n\n\nThe History of Frances Xavier Cabrini Day?\nThe history of Frances Xavier Cabrini Day reflects a modern shift in cultural recognition\, celebrating a historical figure whose work emphasized compassion\, social justice\, and community service. \nFrances Xavier Cabrini (1850–1917) was an Italian-American Catholic nun and the first U.S. citizen to be canonized as a saint. Her life's work focused on improving the lives of immigrant communities\, particularly Italian immigrants\, through education\, healthcare\, and social services. \nFor decades\, Columbus Day was observed as a holiday across the United States. However\, it faced growing criticism due to Christopher Columbus's controversial legacy\, including his role in the mistreatment of Indigenous peoples. \nIn Colorado\, Columbus Day celebration started in 1907\, but discussions emerged about replacing the holiday with one that better reflected the values of inclusion and service. \nIn 2020\, Colorado lawmakers passed legislation replacing Columbus Day with Frances Xavier Cabrini Day. The decision was influenced by Cabrini's historical connection to Colorado and her enduring legacy of helping immigrant communities. \nThe first Frances Xavier Cabrini Day was celebrated on October 5\, 2020. This made Colorado the first state in the U.S. to formally establish a holiday in Cabrini's honor. \n   \nWhat Do People Do on This Day?\nOn Frances Xavier Cabrini Day\, people engage in various activities that reflect Cabrini's values of compassion\, community service\, and support for marginalized groups. \nVisitors often visit the shrine located near Golden\, Colorado\, which is a significant pilgrimage site dedicated to Frances Xavier Cabrini's work. People believe the water from the spring at the shrine has miraculous properties. \nSchools and churches often organize events to educate people about Cabrini's life and work. \nMany Catholic communities hold special Masses or prayer services in honor of Saint Cabrini. These services often highlight her faith and missionary spirit\, emphasizing her canonization as the first U.S. citizen saint. \nFamilies and communities may gather for meals or informal events to celebrate Cabrini's legacy. Sharing stories about her life and her impact on Colorado can be a way to connect her work with current values. \nAs it is a state holiday in Colorado\, people may also use the day to support local businesses or engage in leisurely activities with family and friends. \nWho is Frances Xavier Cabrini?\nFrances Xavier Cabrini (1850–1917)\, also known as Mother Cabrini\, was an Italian-American Catholic nun and the first U.S. citizen to be canonized as a saint. \nFrances was born on July 15\, 1850\, in Sant'Angelo Lodigiano\, Italy\, and she was the youngest of 13 children in a devout Catholic family. She was frail and often ill as a child but exhibited a strong will and a deep sense of faith. \nFrances founded the Missionary Sisters of the Sacred Heart of Jesus in 1880\, with the goal of serving the poor and marginalized\, and became known for her exceptional organizational and leadership skills. \nAt the request of Pope Leo XIII\, Frances redirected her mission to the United States in 1889 to aid the growing population of Italian immigrants. She faced immense difficulties\, including language barriers\, prejudice\, and inadequate funding\, but remained resolute. \nFrances worked tirelessly to improve the lives of Italian immigrants\, addressing their educational\, healthcare\, and spiritual needs. Frances established over 67 institutions\, including schools\, orphanages\, and hospitals across the United States\, Europe\, and Latin America. \nDuring visits to Colorado\, Frances supported Italian immigrants working in mines and railroads. She founded the Queen of Heaven Orphanage in Denver. The Mother Cabrini Shrine near Golden\, Colorado\, honors her work in the region. \nFrances passed away on December 22\, 1917\, in Chicago\, Illinois. In 1938\, Pope Pius XI beatified her\, recognizing her miraculous healing of a terminally ill nun. In 1946\, Pope Pius XII canonized Frances\, making her the first U.S. citizen to achieve sainthood. Her feast day is celebrated on November 13\, commemorating her dedication to the poor and immigrant communities.
URL:https://excelnotes.com/holiday/frances-xavier-cabrini-day/
CATEGORIES:Christianity
ATTACH;FMTTYPE=image/jpeg:https://excelnotes.com/wp-content/uploads/2024/12/Frances-Xavier-Cabrini.jpg
END:VEVENT
END:VCALENDAR