BEGIN:VCALENDAR
VERSION:2.0
PRODID:-//ExcelNotes - ECPv6.15.20//NONSGML v1.0//EN
CALSCALE:GREGORIAN
METHOD:PUBLISH
X-WR-CALNAME:ExcelNotes
X-ORIGINAL-URL:https://excelnotes.com
X-WR-CALDESC:Events for ExcelNotes
REFRESH-INTERVAL;VALUE=DURATION:PT1H
X-Robots-Tag:noindex
X-PUBLISHED-TTL:PT1H
BEGIN:VTIMEZONE
TZID:America/New_York
BEGIN:DAYLIGHT
TZOFFSETFROM:-0500
TZOFFSETTO:-0400
TZNAME:EDT
DTSTART:20250309T070000
END:DAYLIGHT
BEGIN:STANDARD
TZOFFSETFROM:-0400
TZOFFSETTO:-0500
TZNAME:EST
DTSTART:20251102T060000
END:STANDARD
BEGIN:DAYLIGHT
TZOFFSETFROM:-0500
TZOFFSETTO:-0400
TZNAME:EDT
DTSTART:20260308T070000
END:DAYLIGHT
BEGIN:STANDARD
TZOFFSETFROM:-0400
TZOFFSETTO:-0500
TZNAME:EST
DTSTART:20261101T060000
END:STANDARD
BEGIN:DAYLIGHT
TZOFFSETFROM:-0500
TZOFFSETTO:-0400
TZNAME:EDT
DTSTART:20270314T070000
END:DAYLIGHT
BEGIN:STANDARD
TZOFFSETFROM:-0400
TZOFFSETTO:-0500
TZNAME:EST
DTSTART:20271107T060000
END:STANDARD
END:VTIMEZONE
BEGIN:VEVENT
DTSTART;VALUE=DATE:20260126
DTEND;VALUE=DATE:20260127
DTSTAMP:20260420T192838
CREATED:20250422T025028Z
LAST-MODIFIED:20250422T025122Z
UID:10000297-1769385600-1769471999@excelnotes.com
SUMMARY:NRM Liberation Day
DESCRIPTION:NRM Liberation Day in Uganda commemorates the day in 1986 when the National Resistance Army (NRA)\, led by Yoweri Kaguta Museveni\, successfully captured power and overthrew the military government of General Tito Okello. The day marks the beginning of the National Resistance Movement (NRM) government\, which has remained in power ever since. \nWhen is NRM Liberation Day?\nNRM Liberation Day is celebrated every year on January 26.  \nThe following is the list of NRM Liberation Day from 2020 to 2049. \n   \n\n                \n                \n                            \n                            \n                            \n                    \n        \n\n                                                        HolidayDateWeekday\n\n\n\n        \n            NRM Liberation DayJan 26\, 2020Sunday        \n            \n            NRM Liberation DayJan 26\, 2021Tuesday        \n            \n            NRM Liberation DayJan 26\, 2022Wednesday        \n            \n            NRM Liberation DayJan 26\, 2023Thursday        \n            \n            NRM Liberation DayJan 26\, 2024Friday        \n            \n            NRM Liberation DayJan 26\, 2025Sunday        \n            \n            NRM Liberation DayJan 26\, 2026Monday        \n            \n            NRM Liberation DayJan 26\, 2027Tuesday        \n            \n            NRM Liberation DayJan 26\, 2028Wednesday        \n            \n            NRM Liberation DayJan 26\, 2029Friday        \n            \n            NRM Liberation DayJan 26\, 2030Saturday        \n            \n            NRM Liberation DayJan 26\, 2031Sunday        \n            \n            NRM Liberation DayJan 26\, 2032Monday        \n            \n            NRM Liberation DayJan 26\, 2033Wednesday        \n            \n            NRM Liberation DayJan 26\, 2034Thursday        \n            \n            NRM Liberation DayJan 26\, 2035Friday        \n            \n            NRM Liberation DayJan 26\, 2036Saturday        \n            \n            NRM Liberation DayJan 26\, 2037Monday        \n            \n            NRM Liberation DayJan 26\, 2038Tuesday        \n            \n            NRM Liberation DayJan 26\, 2039Wednesday        \n            \n            NRM Liberation DayJan 26\, 2040Thursday        \n            \n            NRM Liberation DayJan 26\, 2041Saturday        \n            \n            NRM Liberation DayJan 26\, 2042Sunday        \n            \n            NRM Liberation DayJan 26\, 2043Monday        \n            \n            NRM Liberation DayJan 26\, 2044Tuesday        \n            \n            NRM Liberation DayJan 26\, 2045Thursday        \n            \n            NRM Liberation DayJan 26\, 2046Friday        \n            \n            NRM Liberation DayJan 26\, 2047Saturday        \n            \n            NRM Liberation DayJan 26\, 2048Sunday        \n            \n            NRM Liberation DayJan 26\, 2049Tuesday        \n    \n    \n    \n    \n    \n\n\nThe History of NRM Liberation Day?\nNRM Liberation Day is one of Uganda's most politically significant national holidays\, as it commemorates the end of a prolonged civil conflict and the beginning of the NRM government led by President Yoweri Kaguta Museveni. \nFollowing Uganda's independence in 1962\, the country experienced a series of military coups and authoritarian regimes\, including the Idi Amin dictatorship (1971 – 1979)\, the return of Milton Obote in a controversial 1980 election\, and the 1980 general elections that were widely believed to have been rigged in favor of Obote's Uganda People's Congress (UPC) party. \nIn response\, Yoweri Museveni\, then a political opposition figure and former government minister\, launched a guerrilla war in 1981 with a small force called the Popular Resistance Army\, which evolved into the NRA. \nThe conflict\, often referred to as the Luweero Bush War\, lasted for five years from 1981 to 1986. It was fought mainly in the Luweero Triangle\, where the NRA established strongholds and built grassroots support among civilians. \nThe NRA gradually gained territory while Obote's government and later General Tito Okello\, who took power in a 1985 coup\, struggled to maintain control. \nOn January 26\, 1986\, the NRA captured the capital\, Kampala\, forcing Tito Okello's government to flee. Yoweri Museveni was sworn in as President of Uganda days later\, declaring the beginning of a "fundamental change" in Uganda's political system. \nNRM Liberation Day commemorates the end of political turmoil and military dictatorship\, the beginning of a new government that promised democracy and national unity\, and the sacrifice of fighters\, civilians\, and communities who supported the resistance.
URL:https://excelnotes.com/holiday/nrm-liberation-day/
CATEGORIES:Political Holiday
ATTACH;FMTTYPE=image/jpeg:https://excelnotes.com/wp-content/uploads/2025/04/NRM-Liberation-Day.jpg
END:VEVENT
END:VCALENDAR