BEGIN:VCALENDAR
VERSION:2.0
PRODID:-//ExcelNotes - ECPv6.15.20//NONSGML v1.0//EN
CALSCALE:GREGORIAN
METHOD:PUBLISH
X-WR-CALNAME:ExcelNotes
X-ORIGINAL-URL:https://excelnotes.com
X-WR-CALDESC:Events for ExcelNotes
REFRESH-INTERVAL;VALUE=DURATION:PT1H
X-Robots-Tag:noindex
X-PUBLISHED-TTL:PT1H
BEGIN:VTIMEZONE
TZID:America/New_York
BEGIN:DAYLIGHT
TZOFFSETFROM:-0500
TZOFFSETTO:-0400
TZNAME:EDT
DTSTART:20240310T070000
END:DAYLIGHT
BEGIN:STANDARD
TZOFFSETFROM:-0400
TZOFFSETTO:-0500
TZNAME:EST
DTSTART:20241103T060000
END:STANDARD
BEGIN:DAYLIGHT
TZOFFSETFROM:-0500
TZOFFSETTO:-0400
TZNAME:EDT
DTSTART:20250309T070000
END:DAYLIGHT
BEGIN:STANDARD
TZOFFSETFROM:-0400
TZOFFSETTO:-0500
TZNAME:EST
DTSTART:20251102T060000
END:STANDARD
BEGIN:DAYLIGHT
TZOFFSETFROM:-0500
TZOFFSETTO:-0400
TZNAME:EDT
DTSTART:20260308T070000
END:DAYLIGHT
BEGIN:STANDARD
TZOFFSETFROM:-0400
TZOFFSETTO:-0500
TZNAME:EST
DTSTART:20261101T060000
END:STANDARD
END:VTIMEZONE
BEGIN:VEVENT
DTSTART;VALUE=DATE:20251212
DTEND;VALUE=DATE:20251213
DTSTAMP:20260421T013336
CREATED:20250702T043833Z
LAST-MODIFIED:20250702T044901Z
UID:10000341-1765497600-1765583999@excelnotes.com
SUMMARY:Neutrality Day Turkmenistan
DESCRIPTION:Neutrality Day is one of Turkmenistan's most significant national holidays\, and it commemorates the country's official recognition as a permanently neutral state by the United Nations in 1995. \nWhen is Neutrality Day?\nNeutrality Day is observed annually on December 12.  \nThe following is the list of Neutrality Day from 2020 to 2049. \n   \n\n                \n                \n                            \n                            \n                            \n                    \n        \n\n                                                        HolidayDateWeekday\n\n\n\n        \n            Neutrality DayDec 12\, 2020Saturday        \n            \n            Neutrality DayDec 12\, 2021Sunday        \n            \n            Neutrality DayDec 12\, 2022Monday        \n            \n            Neutrality DayDec 12\, 2023Tuesday        \n            \n            Neutrality DayDec 12\, 2024Thursday        \n            \n            Neutrality DayDec 12\, 2025Friday        \n            \n            Neutrality DayDec 12\, 2026Saturday        \n            \n            Neutrality DayDec 12\, 2027Sunday        \n            \n            Neutrality DayDec 12\, 2028Tuesday        \n            \n            Neutrality DayDec 12\, 2029Wednesday        \n            \n            Neutrality DayDec 12\, 2030Thursday        \n            \n            Neutrality DayDec 12\, 2031Friday        \n            \n            Neutrality DayDec 12\, 2032Sunday        \n            \n            Neutrality DayDec 12\, 2033Monday        \n            \n            Neutrality DayDec 12\, 2034Tuesday        \n            \n            Neutrality DayDec 12\, 2035Wednesday        \n            \n            Neutrality DayDec 12\, 2036Friday        \n            \n            Neutrality DayDec 12\, 2037Saturday        \n            \n            Neutrality DayDec 12\, 2038Sunday        \n            \n            Neutrality DayDec 12\, 2039Monday        \n            \n            Neutrality DayDec 12\, 2040Wednesday        \n            \n            Neutrality DayDec 12\, 2041Thursday        \n            \n            Neutrality DayDec 12\, 2042Friday        \n            \n            Neutrality DayDec 12\, 2043Saturday        \n            \n            Neutrality DayDec 12\, 2044Monday        \n            \n            Neutrality DayDec 12\, 2045Tuesday        \n            \n            Neutrality DayDec 12\, 2046Wednesday        \n            \n            Neutrality DayDec 12\, 2047Thursday        \n            \n            Neutrality DayDec 12\, 2048Saturday        \n            \n            Neutrality DayDec 12\, 2049Sunday        \n    \n    \n    \n    \n    \n\n\nThe History of Neutrality Day?\nAfter gaining independence from the Soviet Union in 1991\, Turkmenistan sought to establish its own foreign policy identity. \nUnder its first president\, Saparmurat Niyazov\, Turkmenistan declared its intention to pursue a foreign policy of "permanent neutrality". This policy aimed to position Turkmenistan as a peaceful\, avoiding involvement in military alliances\, or foreign military bases on its soil. \nOn December 12\, 1995\, the United Nations General Assembly adopted Resolution 50/80\, officially recognizing Turkmenistan's status of permanent neutrality. \nThe resolution was unanimously supported by all UN member states\, making Turkmenistan the first and only country at the time to receive such formal recognition. This made December 12 a symbolically important date\, celebrated annually as Neutrality Day.
URL:https://excelnotes.com/holiday/neutrality-day-turkmenistan/
CATEGORIES:Political Holiday
ATTACH;FMTTYPE=image/jpeg:https://excelnotes.com/wp-content/uploads/2025/07/Neutrality-Day-Turkmenistan.jpg
END:VEVENT
END:VCALENDAR