BEGIN:VCALENDAR
VERSION:2.0
PRODID:-//ExcelNotes - ECPv6.15.20//NONSGML v1.0//EN
CALSCALE:GREGORIAN
METHOD:PUBLISH
X-WR-CALNAME:ExcelNotes
X-ORIGINAL-URL:https://excelnotes.com
X-WR-CALDESC:Events for ExcelNotes
REFRESH-INTERVAL;VALUE=DURATION:PT1H
X-Robots-Tag:noindex
X-PUBLISHED-TTL:PT1H
BEGIN:VTIMEZONE
TZID:America/New_York
BEGIN:DAYLIGHT
TZOFFSETFROM:-0500
TZOFFSETTO:-0400
TZNAME:EDT
DTSTART:20240310T070000
END:DAYLIGHT
BEGIN:STANDARD
TZOFFSETFROM:-0400
TZOFFSETTO:-0500
TZNAME:EST
DTSTART:20241103T060000
END:STANDARD
BEGIN:DAYLIGHT
TZOFFSETFROM:-0500
TZOFFSETTO:-0400
TZNAME:EDT
DTSTART:20250309T070000
END:DAYLIGHT
BEGIN:STANDARD
TZOFFSETFROM:-0400
TZOFFSETTO:-0500
TZNAME:EST
DTSTART:20251102T060000
END:STANDARD
BEGIN:DAYLIGHT
TZOFFSETFROM:-0500
TZOFFSETTO:-0400
TZNAME:EDT
DTSTART:20260308T070000
END:DAYLIGHT
BEGIN:STANDARD
TZOFFSETFROM:-0400
TZOFFSETTO:-0500
TZNAME:EST
DTSTART:20261101T060000
END:STANDARD
END:VTIMEZONE
BEGIN:VEVENT
DTSTART;VALUE=DATE:20251208
DTEND;VALUE=DATE:20251209
DTSTAMP:20260421T230314
CREATED:20250420T204737Z
LAST-MODIFIED:20250420T204737Z
UID:10000275-1765152000-1765238399@excelnotes.com
SUMMARY:Constitution Day (Uzbekistan)
DESCRIPTION:Constitution Day in Uzbekistan marks the adoption of the country's Constitution in 1992\, which laid the legal foundation for the independent Republic of Uzbekistan following the dissolution of the Soviet Union.  \nWhen is Constitution Day?\nConstitution Day is celebrated on December 8 every year. \nThe following is the list of Constitution Day from 2020 to 2049. \n   \n\n                \n                \n                            \n                            \n                            \n                    \n        \n\n                                                        HolidayDateWeekday\n\n\n\n        \n            Constitution DayDec 08\, 2020Tuesday        \n            \n            Constitution DayDec 08\, 2021Wednesday        \n            \n            Constitution DayDec 08\, 2022Thursday        \n            \n            Constitution DayDec 08\, 2023Friday        \n            \n            Constitution DayDec 08\, 2024Sunday        \n            \n            Constitution DayDec 08\, 2025Monday        \n            \n            Constitution DayDec 08\, 2026Tuesday        \n            \n            Constitution DayDec 08\, 2027Wednesday        \n            \n            Constitution DayDec 08\, 2028Friday        \n            \n            Constitution DayDec 08\, 2029Saturday        \n            \n            Constitution DayDec 08\, 2030Sunday        \n            \n            Constitution DayDec 08\, 2031Monday        \n            \n            Constitution DayDec 08\, 2032Wednesday        \n            \n            Constitution DayDec 08\, 2033Thursday        \n            \n            Constitution DayDec 08\, 2034Friday        \n            \n            Constitution DayDec 08\, 2035Saturday        \n            \n            Constitution DayDec 08\, 2036Monday        \n            \n            Constitution DayDec 08\, 2037Tuesday        \n            \n            Constitution DayDec 08\, 2038Wednesday        \n            \n            Constitution DayDec 08\, 2039Thursday        \n            \n            Constitution DayDec 08\, 2040Saturday        \n            \n            Constitution DayDec 08\, 2041Sunday        \n            \n            Constitution DayDec 08\, 2042Monday        \n            \n            Constitution DayDec 08\, 2043Tuesday        \n            \n            Constitution DayDec 08\, 2044Thursday        \n            \n            Constitution DayDec 08\, 2045Friday        \n            \n            Constitution DayDec 08\, 2046Saturday        \n            \n            Constitution DayDec 08\, 2047Sunday        \n            \n            Constitution DayDec 08\, 2048Tuesday        \n            \n            Constitution DayDec 08\, 2049Wednesday        \n    \n    \n    \n    \n    \n\n\nThe History of Constitution Day?\nConstitution Day is a major national holiday that highlights the foundation of Uzbekistan's legal and democratic identity. \nAfter gaining independence from the Soviet Union on August 31\, 1991\, Uzbekistan needed a constitution to formally define its new political system\, governance structure\, and citizens' rights. \nA Constitutional Commission was established\, including legal scholars\, lawmakers\, and civil society leaders. They worked on drafting a document that would reflect Uzbekistan's sovereignty\, traditions\, and aspirations for democracy.  \nOn December 8\, 1992\, the Oliy Majlis (Supreme Council) officially adopted the Constitution of the Republic of Uzbekistan. \nThe 1992 Constitution \n– establishes a secular\, democratic state based on the rule of law and respect for human rights.\n– defines the separation of powers between the executive\, legislative\, and judiciary branches.\n– declares Uzbek as the state language and promotes national unity.\n– ensures civil liberties such as freedom of speech\, religion\, equality before the law\, and the right to education and healthcare.\n– affirms popular sovereignty\, stating that power belongs to the people of Uzbekistan. \nConstitution Day in Uzbekistan serves as a powerful reminder of the nation's transition to independence\, its commitment to justice\, and the enduring value of constitutional governance.
URL:https://excelnotes.com/holiday/constitution-day-uzbekistan/
CATEGORIES:Political Holiday
ATTACH;FMTTYPE=image/jpeg:https://excelnotes.com/wp-content/uploads/2025/04/Constitution-Day-Uzbekistan.jpg
END:VEVENT
END:VCALENDAR