BEGIN:VCALENDAR
VERSION:2.0
PRODID:-//ExcelNotes - ECPv6.15.20//NONSGML v1.0//EN
CALSCALE:GREGORIAN
METHOD:PUBLISH
X-WR-CALNAME:ExcelNotes
X-ORIGINAL-URL:https://excelnotes.com
X-WR-CALDESC:Events for ExcelNotes
REFRESH-INTERVAL;VALUE=DURATION:PT1H
X-Robots-Tag:noindex
X-PUBLISHED-TTL:PT1H
BEGIN:VTIMEZONE
TZID:America/New_York
BEGIN:DAYLIGHT
TZOFFSETFROM:-0500
TZOFFSETTO:-0400
TZNAME:EDT
DTSTART:20240310T070000
END:DAYLIGHT
BEGIN:STANDARD
TZOFFSETFROM:-0400
TZOFFSETTO:-0500
TZNAME:EST
DTSTART:20241103T060000
END:STANDARD
BEGIN:DAYLIGHT
TZOFFSETFROM:-0500
TZOFFSETTO:-0400
TZNAME:EDT
DTSTART:20250309T070000
END:DAYLIGHT
BEGIN:STANDARD
TZOFFSETFROM:-0400
TZOFFSETTO:-0500
TZNAME:EST
DTSTART:20251102T060000
END:STANDARD
BEGIN:DAYLIGHT
TZOFFSETFROM:-0500
TZOFFSETTO:-0400
TZNAME:EDT
DTSTART:20260308T070000
END:DAYLIGHT
BEGIN:STANDARD
TZOFFSETFROM:-0400
TZOFFSETTO:-0500
TZNAME:EST
DTSTART:20261101T060000
END:STANDARD
END:VTIMEZONE
BEGIN:VEVENT
DTSTART;VALUE=DATE:20251130
DTEND;VALUE=DATE:20251201
DTSTAMP:20260421T131312
CREATED:20250418T162902Z
LAST-MODIFIED:20250418T162902Z
UID:10000250-1764460800-1764547199@excelnotes.com
SUMMARY:Independence Day Yemen
DESCRIPTION:Independence Day in Yemen marks the day in 1967 when South Yemen (then the People's Republic of South Yemen) gained full independence from British colonial rule after 128 years of occupation. \nWhen is Independence Day?\nIndependence Day is observed annually on November 30. \nThe following is the list of Independence Day from 2020 to 2049. \n   \n\n                \n                \n                            \n                            \n                            \n                    \n        \n\n                                                        HolidayDateWeekday\n\n\n\n        \n            Independence DayNov 30\, 2020Monday        \n            \n            Independence DayNov 30\, 2021Tuesday        \n            \n            Independence DayNov 30\, 2022Wednesday        \n            \n            Independence DayNov 30\, 2023Thursday        \n            \n            Independence DayNov 30\, 2024Saturday        \n            \n            Independence DayNov 30\, 2025Sunday        \n            \n            Independence DayNov 30\, 2026Monday        \n            \n            Independence DayNov 30\, 2027Tuesday        \n            \n            Independence DayNov 30\, 2028Thursday        \n            \n            Independence DayNov 30\, 2029Friday        \n            \n            Independence DayNov 30\, 2030Saturday        \n            \n            Independence DayNov 30\, 2031Sunday        \n            \n            Independence DayNov 30\, 2032Tuesday        \n            \n            Independence DayNov 30\, 2033Wednesday        \n            \n            Independence DayNov 30\, 2034Thursday        \n            \n            Independence DayNov 30\, 2035Friday        \n            \n            Independence DayNov 30\, 2036Sunday        \n            \n            Independence DayNov 30\, 2037Monday        \n            \n            Independence DayNov 30\, 2038Tuesday        \n            \n            Independence DayNov 30\, 2039Wednesday        \n            \n            Independence DayNov 30\, 2040Friday        \n            \n            Independence DayNov 30\, 2041Saturday        \n            \n            Independence DayNov 30\, 2042Sunday        \n            \n            Independence DayNov 30\, 2043Monday        \n            \n            Independence DayNov 30\, 2044Wednesday        \n            \n            Independence DayNov 30\, 2045Thursday        \n            \n            Independence DayNov 30\, 2046Friday        \n            \n            Independence DayNov 30\, 2047Saturday        \n            \n            Independence DayNov 30\, 2048Monday        \n            \n            Independence DayNov 30\, 2049Tuesday        \n    \n    \n    \n    \n    \n\n\nThe History of Independence Day?\nBritish forces occupied the port city of Aden in 1839\, seeking a coaling station en route to India. Over time\, Britain expanded its influence to surrounding territories\, forming the Aden Colony (1937) and later the Protectorate of South Arabia. \nFor more than a century\, Britain controlled southern Yemen\, especially Aden\, through a mix of direct colonial rule and indirect agreements with local tribal rulers. \nBy the 1950s and 60s\, anti-colonial sentiment was rising\, influenced by Arab nationalism and regional revolutions. Two key nationalist groups emerged: \n1. The National Liberation Front (NLF) – Marxist-oriented and backed by Egypt\n2. The Front for the Liberation of Occupied South Yemen (FLOSY) – Pan-Arab nationalist \nOn October 14\, 1963\, a guerrilla uprising began in the Radfan mountains\, launching the South Yemeni revolution against British rule. The insurgency escalated into urban warfare in Aden\, and Britain struggled to maintain control. \nUnder increasing military and diplomatic pressure\, and following heavy losses and unrest\, Britain withdrew from South Yemen on November 30\, 1967. \nThere was no formal handover ceremony. The National Liberation Front (NLF) took power and proclaimed the People's Republic of South Yemen\, with Aden as its capital. \nIn 1970\, the state was renamed the People's Democratic Republic of Yemen (PDRY) and adopted a Marxist-Leninist government. Independence Day is celebrated in southern Yemen as the culmination of the anti-colonial struggle. \nAfter unification with North Yemen in 1990\, Independence Day remained an important historical event in the south.
URL:https://excelnotes.com/holiday/independence-day-yemen/
CATEGORIES:Political Holiday
ATTACH;FMTTYPE=image/jpeg:https://excelnotes.com/wp-content/uploads/2025/04/Independence-Day-Yemen.jpg
END:VEVENT
END:VCALENDAR