BEGIN:VCALENDAR
VERSION:2.0
PRODID:-//ExcelNotes - ECPv6.15.20//NONSGML v1.0//EN
CALSCALE:GREGORIAN
METHOD:PUBLISH
X-ORIGINAL-URL:https://excelnotes.com
X-WR-CALDESC:Events for ExcelNotes
REFRESH-INTERVAL;VALUE=DURATION:PT1H
X-Robots-Tag:noindex
X-PUBLISHED-TTL:PT1H
BEGIN:VTIMEZONE
TZID:America/New_York
BEGIN:DAYLIGHT
TZOFFSETFROM:-0500
TZOFFSETTO:-0400
TZNAME:EDT
DTSTART:20240310T070000
END:DAYLIGHT
BEGIN:STANDARD
TZOFFSETFROM:-0400
TZOFFSETTO:-0500
TZNAME:EST
DTSTART:20241103T060000
END:STANDARD
BEGIN:DAYLIGHT
TZOFFSETFROM:-0500
TZOFFSETTO:-0400
TZNAME:EDT
DTSTART:20250309T070000
END:DAYLIGHT
BEGIN:STANDARD
TZOFFSETFROM:-0400
TZOFFSETTO:-0500
TZNAME:EST
DTSTART:20251102T060000
END:STANDARD
BEGIN:DAYLIGHT
TZOFFSETFROM:-0500
TZOFFSETTO:-0400
TZNAME:EDT
DTSTART:20260308T070000
END:DAYLIGHT
BEGIN:STANDARD
TZOFFSETFROM:-0400
TZOFFSETTO:-0500
TZNAME:EST
DTSTART:20261101T060000
END:STANDARD
END:VTIMEZONE
BEGIN:VEVENT
DTSTART;VALUE=DATE:20251104
DTEND;VALUE=DATE:20251105
DTSTAMP:20260424T132144
CREATED:20241215T195052Z
LAST-MODIFIED:20241228T062516Z
UID:10000062-1762214400-1762300799@excelnotes.com
SUMMARY:Election Day in USA
DESCRIPTION:Election Day in the USA is the day set by law for the general elections of public officials\, including the President\, Vice President\, members of Congress\, and many state and local offices. \nTable of Contents\n\nWhen is Election Day?\nThe History of Election Day?\nWhat Do People Do on This Day?\nThe Electoral College System\n\nWhen is Election Day?\nElection Day is observed on the Tuesday following the first Monday in November\, which means it falls between November 2 and November 8. \nThe federal election year occurs every four years\, during which voters choose the next President and Vice President\, as well as members of Congress and various state and local officials. In other years\, the election will primarily involve state and local offices. Specific races will vary by state and locality but may include elections for governors\, mayors\, state legislators\, and various municipal and judicial positions. \n   \n\n                \n                \n                            \n                            \n                            \n                    \n        \n\n                                                        HolidayDateWeekday\n\n\n\n        \n            Election DayNovember 03\, 2020Tuesday        \n            \n            Election DayNovember 02\, 2021Tuesday        \n            \n            Election DayNovember 08\, 2022Tuesday        \n            \n            Election DayNovember 07\, 2023Tuesday        \n            \n            Election DayNovember 05\, 2024Tuesday        \n            \n            Election DayNovember 04\, 2025Tuesday        \n            \n            Election DayNovember 03\, 2026Tuesday        \n            \n            Election DayNovember 02\, 2027Tuesday        \n            \n            Election DayNovember 07\, 2028Tuesday        \n            \n            Election DayNovember 06\, 2029Tuesday        \n            \n            Election DayNovember 05\, 2030Tuesday        \n            \n            Election DayNovember 04\, 2031Tuesday        \n            \n            Election DayNovember 02\, 2032Tuesday        \n            \n            Election DayNovember 08\, 2033Tuesday        \n            \n            Election DayNovember 07\, 2034Tuesday        \n            \n            Election DayNovember 06\, 2035Tuesday        \n            \n            Election DayNovember 04\, 2036Tuesday        \n            \n            Election DayNovember 03\, 2037Tuesday        \n            \n            Election DayNovember 02\, 2038Tuesday        \n            \n            Election DayNovember 08\, 2039Tuesday        \n            \n            Election DayNovember 06\, 2040Tuesday        \n            \n            Election DayNovember 05\, 2041Tuesday        \n            \n            Election DayNovember 04\, 2042Tuesday        \n            \n            Election DayNovember 03\, 2043Tuesday        \n            \n            Election DayNovember 08\, 2044Tuesday        \n            \n            Election DayNovember 07\, 2045Tuesday        \n            \n            Election DayNovember 06\, 2046Tuesday        \n            \n            Election DayNovember 05\, 2047Tuesday        \n            \n            Election DayNovember 03\, 2048Tuesday        \n            \n            Election DayNovember 02\, 2049Tuesday        \n    \n    \n    \n    \n    \n\n\nThe History of Election Day?\nThe history of Election Day in the USA is rooted in the development of the American electoral process and reflects the country's evolving political and cultural landscape. \nIn the 18th and early 19th century\, states held elections on different dates to suit local needs\, often spanning months. The U.S. Constitution\, ratified in 1788\, left it to states to determine the time and manner of elections\, as long as they aligned with federal requirements. \nThe Congress passed a law in 1845 establishing a uniform date for federal elections: the Tuesday after the first Monday in November. The reason using Tuesday as the Election Day is to allow voters to avoid traveling on Sunday and to have a full day to reach polling locations. \nThe Electoral College System was established by the U.S. Constitution in 1787\, which is the system by which presidents are indirectly elected. \nAs society became more mobile and diverse\, many states introduced early voting\, absentee ballots\, and mail-in voting to make participation easier. These options became especially prominent during the COVID-19 pandemic. \nElection Day is not just a date on the calendar but a cornerstone of American democracy\, symbolizing the people's voice in governance. Over time\, it has adapted to changing political\, cultural\, and technological landscapes\, ensuring broader participation and fairness in elections. \n   \nWhat Do People Do on This Day?\nOn Election Day in the USA\, people engage in various activities to fulfill their civic responsibilities and participate in the democratic process. \nPolling places are typically open from early morning until evening\, with hours varying by state. Voters who haven't already voted early or by mail can visit polling stations in their designated precincts and submit their ballots in person. \nPoll workers manage voting locations\, check voter registration\, and provide assistance as needed. They also monitor the voting process to ensure compliance with election laws. \nSupporters and campaign teams often follow news outlets\, websites\, or social media platforms to monitor election updates and results. \nIn presidential election years\, many focus on key swing states and Electoral College projections. \nThe Electoral College System\nThe Electoral College System is the process used to elect the President and Vice President of the United States. It is a unique mechanism that combines popular votes with indirect voting through electors. Established by the U.S. Constitution\, it balances the influence of populous and less populous states in presidential elections. \nEach state is allocated a number of electors equal to its total number of representatives in Congress (House of Representatives and Senate). The total number of electors is 538\, which includes: 435 representatives\, 100 senators\, and 3 electors for Washington\, D.C.. \nPolitical parties in each state nominate electors before the election. These electors are usually loyal members or leaders of the party. The candidate who wins the popular vote in a state typically wins all of that state's electors (winner-takes-all system)\, except in Maine and Nebraska\, which use a proportional system. \nElectors meet in their respective state capitals in December after the election to formally cast their votes for president and vice president. In January\, the newly elected Congress convenes to count the electoral votes. The candidate who receives a majority of electoral votes (270 or more out of 538) becomes the president. \nA candidate must receive 270 electoral votes to win the presidency. If no candidate achieves a majority\, the election is decided in the House of Representatives\, with each state delegation casting one vote. \nCandidates tend to focus on battleground states\, often ignoring those considered safe for one party. A candidate can lose the popular vote but win the presidency through the Electoral College (e.g.\, 2000\, 2016 elections).
URL:https://excelnotes.com/holiday/election-day-usa/
CATEGORIES:Political Holiday
ATTACH;FMTTYPE=image/jpeg:https://excelnotes.com/wp-content/uploads/2023/12/Election-Day-USA.jpg
END:VEVENT
END:VCALENDAR