BEGIN:VCALENDAR
VERSION:2.0
PRODID:-//ExcelNotes - ECPv6.15.20//NONSGML v1.0//EN
CALSCALE:GREGORIAN
METHOD:PUBLISH
X-WR-CALNAME:ExcelNotes
X-ORIGINAL-URL:https://excelnotes.com
X-WR-CALDESC:Events for ExcelNotes
REFRESH-INTERVAL;VALUE=DURATION:PT1H
X-Robots-Tag:noindex
X-PUBLISHED-TTL:PT1H
BEGIN:VTIMEZONE
TZID:America/New_York
BEGIN:DAYLIGHT
TZOFFSETFROM:-0500
TZOFFSETTO:-0400
TZNAME:EDT
DTSTART:20240310T070000
END:DAYLIGHT
BEGIN:STANDARD
TZOFFSETFROM:-0400
TZOFFSETTO:-0500
TZNAME:EST
DTSTART:20241103T060000
END:STANDARD
BEGIN:DAYLIGHT
TZOFFSETFROM:-0500
TZOFFSETTO:-0400
TZNAME:EDT
DTSTART:20250309T070000
END:DAYLIGHT
BEGIN:STANDARD
TZOFFSETFROM:-0400
TZOFFSETTO:-0500
TZNAME:EST
DTSTART:20251102T060000
END:STANDARD
BEGIN:DAYLIGHT
TZOFFSETFROM:-0500
TZOFFSETTO:-0400
TZNAME:EDT
DTSTART:20260308T070000
END:DAYLIGHT
BEGIN:STANDARD
TZOFFSETFROM:-0400
TZOFFSETTO:-0500
TZNAME:EST
DTSTART:20261101T060000
END:STANDARD
END:VTIMEZONE
BEGIN:VEVENT
DTSTART;VALUE=DATE:20251010
DTEND;VALUE=DATE:20251011
DTSTAMP:20260422T090844
CREATED:20250717T211620Z
LAST-MODIFIED:20250801T033507Z
UID:10000413-1760054400-1760140799@excelnotes.com
SUMMARY:National Day Taiwan
DESCRIPTION:National Day in Taiwan\, officially called the National Day of the Republic of China (ROC) and commonly known as Double Ten Day (雙十節)\, is celebrated every year. It commemorates the start of the Wuchang Uprising in 1911\, which marked the beginning of the Xinhai Revolution that overthrew the Qing Dynasty and led to the founding of the Republic of China—the first democratic republic in Asia. \nWhen is National Day?\nNational Day in Taiwan is celebrated every year on October 10.  \nThe following is the list of National Day from 2020 to 2049. \n   \n\n                \n                \n                            \n                            \n                            \n                    \n        \n\n                                                        HolidayDateWeekday\n\n\n\n        \n            National DayOct 10\, 2020Saturday        \n            \n            National DayOct 10\, 2021Sunday        \n            \n            National DayOct 10\, 2022Monday        \n            \n            National DayOct 10\, 2023Tuesday        \n            \n            National DayOct 10\, 2024Thursday        \n            \n            National DayOct 10\, 2025Friday        \n            \n            National DayOct 10\, 2026Saturday        \n            \n            National DayOct 10\, 2027Sunday        \n            \n            National DayOct 10\, 2028Tuesday        \n            \n            National DayOct 10\, 2029Wednesday        \n            \n            National DayOct 10\, 2030Thursday        \n            \n            National DayOct 10\, 2031Friday        \n            \n            National DayOct 10\, 2032Sunday        \n            \n            National DayOct 10\, 2033Monday        \n            \n            National DayOct 10\, 2034Tuesday        \n            \n            National DayOct 10\, 2035Wednesday        \n            \n            National DayOct 10\, 2036Friday        \n            \n            National DayOct 10\, 2037Saturday        \n            \n            National DayOct 10\, 2038Sunday        \n            \n            National DayOct 10\, 2039Monday        \n            \n            National DayOct 10\, 2040Wednesday        \n            \n            National DayOct 10\, 2041Thursday        \n            \n            National DayOct 10\, 2042Friday        \n            \n            National DayOct 10\, 2043Saturday        \n            \n            National DayOct 10\, 2044Monday        \n            \n            National DayOct 10\, 2045Tuesday        \n            \n            National DayOct 10\, 2046Wednesday        \n            \n            National DayOct 10\, 2047Thursday        \n            \n            National DayOct 10\, 2048Saturday        \n            \n            National DayOct 10\, 2049Sunday        \n    \n    \n    \n    \n    \n\n\nThe History of National Day?\nOn October 10\, 1911\, a revolt broke out in Wuchang\, a city in Hubei Province\, led by revolutionary forces opposing the Qing Dynasty. This uprising spread rapidly across China and led to the collapse of the Qing Dynasty\, ending over 2\,000 years of imperial rule. \nThe Xinhai Revolution\, named after the year 1911 in the Chinese calendar system\, set the stage for the creation of a modern Chinese republic. \nOn January 1\, 1912\, the Republic of China (ROC) was officially proclaimed in Nanjing\, with Dr. Sun Yat-sen as the provisional president. \nThe Republic of China (ROC) adopted October 10\, the start of the revolution\, as its National Day\, celebrating the overthrow of monarchy and the birth of republican governance. \nFollowing the Chinese Civil War\, the People's Republic of China (PRC) was established on the mainland by the Chinese Communist Party in 1949. \nThe Republic of China (ROC) government\, led by the Kuomintang (KMT)\, retreated to Taiwan\, where it continued to govern under the ROC Constitution. \nDespite losing international recognition as "China" after the 1970s\, the Republic of China (ROC) in Taiwan continued to celebrate October 10 as its National Day\, emphasizing its own historical continuity and identity.
URL:https://excelnotes.com/holiday/national-day-taiwan/
CATEGORIES:Political Holiday
ATTACH;FMTTYPE=image/jpeg:https://excelnotes.com/wp-content/uploads/2025/07/National-Day-Taiwan.jpg
END:VEVENT
END:VCALENDAR