BEGIN:VCALENDAR
VERSION:2.0
PRODID:-//ExcelNotes - ECPv6.15.20//NONSGML v1.0//EN
CALSCALE:GREGORIAN
METHOD:PUBLISH
X-ORIGINAL-URL:https://excelnotes.com
X-WR-CALDESC:Events for ExcelNotes
REFRESH-INTERVAL;VALUE=DURATION:PT1H
X-Robots-Tag:noindex
X-PUBLISHED-TTL:PT1H
BEGIN:VTIMEZONE
TZID:America/New_York
BEGIN:DAYLIGHT
TZOFFSETFROM:-0500
TZOFFSETTO:-0400
TZNAME:EDT
DTSTART:20240310T070000
END:DAYLIGHT
BEGIN:STANDARD
TZOFFSETFROM:-0400
TZOFFSETTO:-0500
TZNAME:EST
DTSTART:20241103T060000
END:STANDARD
BEGIN:DAYLIGHT
TZOFFSETFROM:-0500
TZOFFSETTO:-0400
TZNAME:EDT
DTSTART:20250309T070000
END:DAYLIGHT
BEGIN:STANDARD
TZOFFSETFROM:-0400
TZOFFSETTO:-0500
TZNAME:EST
DTSTART:20251102T060000
END:STANDARD
BEGIN:DAYLIGHT
TZOFFSETFROM:-0500
TZOFFSETTO:-0400
TZNAME:EDT
DTSTART:20260308T070000
END:DAYLIGHT
BEGIN:STANDARD
TZOFFSETFROM:-0400
TZOFFSETTO:-0500
TZNAME:EST
DTSTART:20261101T060000
END:STANDARD
END:VTIMEZONE
BEGIN:VEVENT
DTSTART;VALUE=DATE:20250927
DTEND;VALUE=DATE:20250928
DTSTAMP:20260423T225256
CREATED:20250702T041625Z
LAST-MODIFIED:20250702T043027Z
UID:10000339-1758931200-1759017599@excelnotes.com
SUMMARY:Independence Day in Turkmenistan
DESCRIPTION:Independence Day is one of the most important national holidays in Turkmenistan\, and it marks the country's independence from the Soviet Union in 1991. \nWhen is Independence Day?\nIndependence Day is celebrated annually on September 27.  \nThe following is the list of Independence Day from 2020 to 2049. \n   \n\n                \n                \n                            \n                            \n                            \n                    \n        \n\n                                                        HolidayDateWeekday\n\n\n\n        \n            Independence DaySep 27\, 2020Sunday        \n            \n            Independence DaySep 27\, 2021Monday        \n            \n            Independence DaySep 27\, 2022Tuesday        \n            \n            Independence DaySep 27\, 2023Wednesday        \n            \n            Independence DaySep 27\, 2024Friday        \n            \n            Independence DaySep 27\, 2025Saturday        \n            \n            Independence DaySep 27\, 2026Sunday        \n            \n            Independence DaySep 27\, 2027Monday        \n            \n            Independence DaySep 27\, 2028Wednesday        \n            \n            Independence DaySep 27\, 2029Thursday        \n            \n            Independence DaySep 27\, 2030Friday        \n            \n            Independence DaySep 27\, 2031Saturday        \n            \n            Independence DaySep 27\, 2032Monday        \n            \n            Independence DaySep 27\, 2033Tuesday        \n            \n            Independence DaySep 27\, 2034Wednesday        \n            \n            Independence DaySep 27\, 2035Thursday        \n            \n            Independence DaySep 27\, 2036Saturday        \n            \n            Independence DaySep 27\, 2037Sunday        \n            \n            Independence DaySep 27\, 2038Monday        \n            \n            Independence DaySep 27\, 2039Tuesday        \n            \n            Independence DaySep 27\, 2040Thursday        \n            \n            Independence DaySep 27\, 2041Friday        \n            \n            Independence DaySep 27\, 2042Saturday        \n            \n            Independence DaySep 27\, 2043Sunday        \n            \n            Independence DaySep 27\, 2044Tuesday        \n            \n            Independence DaySep 27\, 2045Wednesday        \n            \n            Independence DaySep 27\, 2046Thursday        \n            \n            Independence DaySep 27\, 2047Friday        \n            \n            Independence DaySep 27\, 2048Sunday        \n            \n            Independence DaySep 27\, 2049Monday        \n    \n    \n    \n    \n    \n\n\nThe History of Independence Day?\nTurkmenistan became part of the Soviet Union in 1924\, known as the Turkmen Soviet Socialist Republic (Turkmen SSR). For nearly seven decades\, Turkmenistan was governed as one of the fifteen Soviet republics\, with limited political autonomy. \nIn the late 1980s and early 1990s\, the Soviet Union began to collapse\, with political reforms fueling independence movements across Soviet republics. \nFollowing the failed August 1991 coup in Moscow\, republics across the Soviet Union declared independence\, including Turkmenistan. \nOn October 27\, 1991\, the Supreme Soviet of the Turkmen SSR officially declared Turkmenistan's independence from the Soviet Union. \nThis historic day marked the birth of the sovereign state of Turkmenistan\, ending nearly 70 years of Soviet control. \nTurkmenistan held its first Independence Day celebration on October 27\, 1992\, marking the first anniversary of independence. \nOriginally\, Independence Day was celebrated every October 27. However\, in 2018\, the Turkmen government changed the holiday date to September 27 to better structure the national holiday calendar.
URL:https://excelnotes.com/holiday/independence-day-turkmenistan/
CATEGORIES:Political Holiday
ATTACH;FMTTYPE=image/jpeg:https://excelnotes.com/wp-content/uploads/2025/07/Independence-Day-in-Turkmenistan.jpg
END:VEVENT
END:VCALENDAR