BEGIN:VCALENDAR
VERSION:2.0
PRODID:-//ExcelNotes - ECPv6.15.20//NONSGML v1.0//EN
CALSCALE:GREGORIAN
METHOD:PUBLISH
X-ORIGINAL-URL:https://excelnotes.com
X-WR-CALDESC:Events for ExcelNotes
REFRESH-INTERVAL;VALUE=DURATION:PT1H
X-Robots-Tag:noindex
X-PUBLISHED-TTL:PT1H
BEGIN:VTIMEZONE
TZID:America/New_York
BEGIN:DAYLIGHT
TZOFFSETFROM:-0500
TZOFFSETTO:-0400
TZNAME:EDT
DTSTART:20240310T070000
END:DAYLIGHT
BEGIN:STANDARD
TZOFFSETFROM:-0400
TZOFFSETTO:-0500
TZNAME:EST
DTSTART:20241103T060000
END:STANDARD
BEGIN:DAYLIGHT
TZOFFSETFROM:-0500
TZOFFSETTO:-0400
TZNAME:EDT
DTSTART:20250309T070000
END:DAYLIGHT
BEGIN:STANDARD
TZOFFSETFROM:-0400
TZOFFSETTO:-0500
TZNAME:EST
DTSTART:20251102T060000
END:STANDARD
BEGIN:DAYLIGHT
TZOFFSETFROM:-0500
TZOFFSETTO:-0400
TZNAME:EDT
DTSTART:20260308T070000
END:DAYLIGHT
BEGIN:STANDARD
TZOFFSETFROM:-0400
TZOFFSETTO:-0500
TZNAME:EST
DTSTART:20261101T060000
END:STANDARD
END:VTIMEZONE
BEGIN:VEVENT
DTSTART;VALUE=DATE:20250926
DTEND;VALUE=DATE:20250927
DTSTAMP:20260423T225115
CREATED:20250418T160958Z
LAST-MODIFIED:20250418T160958Z
UID:10000248-1758844800-1758931199@excelnotes.com
SUMMARY:Revolution Day Yemen
DESCRIPTION:Revolution Day in Yemen commemorates the 1962 revolution in North Yemen that led to the overthrow of the Mutawakkilite Kingdom and the establishment of the Yemen Arab Republic. \nWhen is Revolution Day?\nRevolution Day is observed annually on September 26. \nThe following is the list of Revolution Day from 2020 to 2049. \n   \n\n                \n                \n                            \n                            \n                            \n                    \n        \n\n                                                        HolidayDateWeekday\n\n\n\n        \n            Revolution DaySep 26\, 2020Saturday        \n            \n            Revolution DaySep 26\, 2021Sunday        \n            \n            Revolution DaySep 26\, 2022Monday        \n            \n            Revolution DaySep 26\, 2023Tuesday        \n            \n            Revolution DaySep 26\, 2024Thursday        \n            \n            Revolution DaySep 26\, 2025Friday        \n            \n            Revolution DaySep 26\, 2026Saturday        \n            \n            Revolution DaySep 26\, 2027Sunday        \n            \n            Revolution DaySep 26\, 2028Tuesday        \n            \n            Revolution DaySep 26\, 2029Wednesday        \n            \n            Revolution DaySep 26\, 2030Thursday        \n            \n            Revolution DaySep 26\, 2031Friday        \n            \n            Revolution DaySep 26\, 2032Sunday        \n            \n            Revolution DaySep 26\, 2033Monday        \n            \n            Revolution DaySep 26\, 2034Tuesday        \n            \n            Revolution DaySep 26\, 2035Wednesday        \n            \n            Revolution DaySep 26\, 2036Friday        \n            \n            Revolution DaySep 26\, 2037Saturday        \n            \n            Revolution DaySep 26\, 2038Sunday        \n            \n            Revolution DaySep 26\, 2039Monday        \n            \n            Revolution DaySep 26\, 2040Wednesday        \n            \n            Revolution DaySep 26\, 2041Thursday        \n            \n            Revolution DaySep 26\, 2042Friday        \n            \n            Revolution DaySep 26\, 2043Saturday        \n            \n            Revolution DaySep 26\, 2044Monday        \n            \n            Revolution DaySep 26\, 2045Tuesday        \n            \n            Revolution DaySep 26\, 2046Wednesday        \n            \n            Revolution DaySep 26\, 2047Thursday        \n            \n            Revolution DaySep 26\, 2048Saturday        \n            \n            Revolution DaySep 26\, 2049Sunday        \n    \n    \n    \n    \n    \n\n\nThe History of Revolution Day?\nNorth Yemen (then known as the Mutawakkilite Kingdom) was ruled by a line of Zaydi Shia Imams from the early 20th century. \nThe Imamate combined religious authority with monarchical rule\, with Imam Muhammad al-Badr ascending to power in 1962 after the death of his father\, Imam Ahmad bin Yahya. \nOn September 26\, 1962\, just a week after al-Badr became Imam\, a group of military officers led by Abdullah al-Sallal\, with the backing of Egypt under President Gamal Abdel Nasser\, launched a coup in Sana'a. \nThey bombarded the royal palace\, declared the end of the Imamate\, and proclaimed the Yemen Arab Republic (YAR). Abdullah al-Sallal became the republic's first president. \nThe revolution sparked an 8-year civil war between Republicans\, backed by Egypt and Royalists\, supported by Saudi Arabia\, Jordan\, and some Western powers. \nThe war devastated the country but ended with victory for the Republicans\, and international recognition of the Yemen Arab Republic. \nThe 1962 Revolution ended monarchical rule and introduced republican governance based on modern ideals of equality\, education and secular state-building.
URL:https://excelnotes.com/holiday/revolution-day-yemen/
CATEGORIES:Political Holiday
ATTACH;FMTTYPE=image/jpeg:https://excelnotes.com/wp-content/uploads/2025/04/Revolution-Day-Yemen.jpg
END:VEVENT
END:VCALENDAR