BEGIN:VCALENDAR
VERSION:2.0
PRODID:-//ExcelNotes - ECPv6.15.20//NONSGML v1.0//EN
CALSCALE:GREGORIAN
METHOD:PUBLISH
X-ORIGINAL-URL:https://excelnotes.com
X-WR-CALDESC:Events for ExcelNotes
REFRESH-INTERVAL;VALUE=DURATION:PT1H
X-Robots-Tag:noindex
X-PUBLISHED-TTL:PT1H
BEGIN:VTIMEZONE
TZID:America/New_York
BEGIN:DAYLIGHT
TZOFFSETFROM:-0500
TZOFFSETTO:-0400
TZNAME:EDT
DTSTART:20250309T070000
END:DAYLIGHT
BEGIN:STANDARD
TZOFFSETFROM:-0400
TZOFFSETTO:-0500
TZNAME:EST
DTSTART:20251102T060000
END:STANDARD
BEGIN:DAYLIGHT
TZOFFSETFROM:-0500
TZOFFSETTO:-0400
TZNAME:EDT
DTSTART:20260308T070000
END:DAYLIGHT
BEGIN:STANDARD
TZOFFSETFROM:-0400
TZOFFSETTO:-0500
TZNAME:EST
DTSTART:20261101T060000
END:STANDARD
BEGIN:DAYLIGHT
TZOFFSETFROM:-0500
TZOFFSETTO:-0400
TZNAME:EDT
DTSTART:20270314T070000
END:DAYLIGHT
BEGIN:STANDARD
TZOFFSETFROM:-0400
TZOFFSETTO:-0500
TZNAME:EST
DTSTART:20271107T060000
END:STANDARD
END:VTIMEZONE
BEGIN:VEVENT
DTSTART;VALUE=DATE:20260211
DTEND;VALUE=DATE:20260212
DTSTAMP:20260421T002851
CREATED:20250419T202419Z
LAST-MODIFIED:20250419T202732Z
UID:10000262-1770768000-1770854399@excelnotes.com
SUMMARY:Lateran Treaty Day
DESCRIPTION:Lateran Treaty Day commemorates the signing of the Lateran Treaty in 1929\, an agreement between the Kingdom of Italy and the Holy See (Vatican City). This treaty established Vatican City as an independent sovereign state and resolved the "Roman Question" that had strained relations between the Papacy and Italy since the 19th century. \nWhen is Lateran Treaty Day?\nLateran Treaty Day in Vatican City is observed on February 11 each year. \nThe following is the list of Lateran Treaty Day from 2020 to 2049. \n   \n\n                \n                \n                            \n                            \n                            \n                    \n        \n\n                                                        HolidayDateWeekday\n\n\n\n        \n            Lateran Treaty DayFeb 11\, 2020Tuesday        \n            \n            Lateran Treaty DayFeb 11\, 2021Thursday        \n            \n            Lateran Treaty DayFeb 11\, 2022Friday        \n            \n            Lateran Treaty DayFeb 11\, 2023Saturday        \n            \n            Lateran Treaty DayFeb 11\, 2024Sunday        \n            \n            Lateran Treaty DayFeb 11\, 2025Tuesday        \n            \n            Lateran Treaty DayFeb 11\, 2026Wednesday        \n            \n            Lateran Treaty DayFeb 11\, 2027Thursday        \n            \n            Lateran Treaty DayFeb 11\, 2028Friday        \n            \n            Lateran Treaty DayFeb 11\, 2029Sunday        \n            \n            Lateran Treaty DayFeb 11\, 2030Monday        \n            \n            Lateran Treaty DayFeb 11\, 2031Tuesday        \n            \n            Lateran Treaty DayFeb 11\, 2032Wednesday        \n            \n            Lateran Treaty DayFeb 11\, 2033Friday        \n            \n            Lateran Treaty DayFeb 11\, 2034Saturday        \n            \n            Lateran Treaty DayFeb 11\, 2035Sunday        \n            \n            Lateran Treaty DayFeb 11\, 2036Monday        \n            \n            Lateran Treaty DayFeb 11\, 2037Wednesday        \n            \n            Lateran Treaty DayFeb 11\, 2038Thursday        \n            \n            Lateran Treaty DayFeb 11\, 2039Friday        \n            \n            Lateran Treaty DayFeb 11\, 2040Saturday        \n            \n            Lateran Treaty DayFeb 11\, 2041Monday        \n            \n            Lateran Treaty DayFeb 11\, 2042Tuesday        \n            \n            Lateran Treaty DayFeb 11\, 2043Wednesday        \n            \n            Lateran Treaty DayFeb 11\, 2044Thursday        \n            \n            Lateran Treaty DayFeb 11\, 2045Saturday        \n            \n            Lateran Treaty DayFeb 11\, 2046Sunday        \n            \n            Lateran Treaty DayFeb 11\, 2047Monday        \n            \n            Lateran Treaty DayFeb 11\, 2048Tuesday        \n            \n            Lateran Treaty DayFeb 11\, 2049Thursday        \n    \n    \n    \n    \n    \n\n\nThe History of Lateran Treaty Day?\nFrom 1870\, when the Kingdom of Italy annexed Rome\, the Pope lost control of the Papal States and became effectively a "prisoner in the Vatican". This unresolved conflict over sovereignty and authority between the Italian state and the Catholic Church became known as the "Roman Question". Popes refused to recognize the legitimacy of the Italian government\, and the Church existed in a state of political and legal limbo for nearly 60 years. \nOn February 11\, 1929\, an agreement was reached at the Lateran Palace in Rome to resolve the conflict\, Signed by Cardinal Pietro Gasparri for Pope Pius XI and Benito Mussolini for King Victor Emmanuel III. \nThe treaty had three main parts: \n1. Treaty: Recognized Vatican City as an independent sovereign state\n2. Concordat: Defined the Church's relationship with Italy\, including Catholicism as the state religion\n3. Financial Convention: Compensated the Holy See for the loss of the Papal States \nThe treaty ended the Roman Question and normalized relations between the Holy See and Italy. Vatican City was officially recognized as the world's smallest independent nation. \nThe Pope regained a defined legal status and freedom of movement\, while the Church was guaranteed religious and administrative independence.
URL:https://excelnotes.com/holiday/lateran-treaty-day/
CATEGORIES:Political Holiday
ATTACH;FMTTYPE=image/jpeg:https://excelnotes.com/wp-content/uploads/2025/04/Lateran-Treaty-Day.jpg
END:VEVENT
END:VCALENDAR