BEGIN:VCALENDAR
VERSION:2.0
PRODID:-//ExcelNotes - ECPv6.15.20//NONSGML v1.0//EN
CALSCALE:GREGORIAN
METHOD:PUBLISH
X-ORIGINAL-URL:https://excelnotes.com
X-WR-CALDESC:Events for ExcelNotes
REFRESH-INTERVAL;VALUE=DURATION:PT1H
X-Robots-Tag:noindex
X-PUBLISHED-TTL:PT1H
BEGIN:VTIMEZONE
TZID:America/New_York
BEGIN:DAYLIGHT
TZOFFSETFROM:-0500
TZOFFSETTO:-0400
TZNAME:EDT
DTSTART:20240310T070000
END:DAYLIGHT
BEGIN:STANDARD
TZOFFSETFROM:-0400
TZOFFSETTO:-0500
TZNAME:EST
DTSTART:20241103T060000
END:STANDARD
BEGIN:DAYLIGHT
TZOFFSETFROM:-0500
TZOFFSETTO:-0400
TZNAME:EDT
DTSTART:20250309T070000
END:DAYLIGHT
BEGIN:STANDARD
TZOFFSETFROM:-0400
TZOFFSETTO:-0500
TZNAME:EST
DTSTART:20251102T060000
END:STANDARD
BEGIN:DAYLIGHT
TZOFFSETFROM:-0500
TZOFFSETTO:-0400
TZNAME:EDT
DTSTART:20260308T070000
END:DAYLIGHT
BEGIN:STANDARD
TZOFFSETFROM:-0400
TZOFFSETTO:-0500
TZNAME:EST
DTSTART:20261101T060000
END:STANDARD
END:VTIMEZONE
BEGIN:VEVENT
DTSTART;VALUE=DATE:20250704
DTEND;VALUE=DATE:20250705
DTSTAMP:20260424T195852
CREATED:20241213T054038Z
LAST-MODIFIED:20241228T064848Z
UID:10000048-1751587200-1751673599@excelnotes.com
SUMMARY:Independence Day USA
DESCRIPTION:Independence Day in the United States\, also known as the Fourth of July\, is a federal holiday commemorating the adoption of the Declaration of Independence on July 4\, 1776. On this day\, the thirteen American colonies declared themselves independent from the British Empire. It's a day of significant historical importance and is celebrated with various activities across the country. \nTable of Contents\n\nWhen is Independence Day?\nThe History of Independence Day?\nWhat Do People Do on This Day?\nWhat is the Declaration of Independence?\n\nWhen is Independence Day?\nIndependence Day in the United States is celebrated on July 4th each year. The following is the list of Independence Day in the United States. \n   \n\n                \n                \n                            \n                            \n                            \n                    \n        \n\n                                                        HolidayDateWeekday\n\n\n\n        \n            Independence DayJuly 4\, 2020Saturday        \n            \n            Independence DayJuly 4\, 2021Sunday        \n            \n            Independence DayJuly 4\, 2022Monday        \n            \n            Independence DayJuly 4\, 2023Tuesday        \n            \n            Independence DayJuly 4\, 2024Thursday        \n            \n            Independence DayJuly 4\, 2025Friday        \n            \n            Independence DayJuly 4\, 2026Saturday        \n            \n            Independence DayJuly 4\, 2027Sunday        \n            \n            Independence DayJuly 4\, 2028Tuesday        \n            \n            Independence DayJuly 4\, 2029Wednesday        \n            \n            Independence DayJuly 4\, 2030Thursday        \n            \n            Independence DayJuly 4\, 2031Friday        \n            \n            Independence DayJuly 4\, 2032Sunday        \n            \n            Independence DayJuly 4\, 2033Monday        \n            \n            Independence DayJuly 4\, 2034Tuesday        \n            \n            Independence DayJuly 4\, 2035Wednesday        \n            \n            Independence DayJuly 4\, 2036Friday        \n            \n            Independence DayJuly 4\, 2037Saturday        \n            \n            Independence DayJuly 4\, 2038Sunday        \n            \n            Independence DayJuly 4\, 2039Monday        \n            \n            Independence DayJuly 4\, 2040Wednesday        \n            \n            Independence DayJuly 4\, 2041Thursday        \n            \n            Independence DayJuly 4\, 2042Friday        \n            \n            Independence DayJuly 4\, 2043Saturday        \n            \n            Independence DayJuly 4\, 2044Monday        \n            \n            Independence DayJuly 4\, 2045Tuesday        \n            \n            Independence DayJuly 4\, 2046Wednesday        \n            \n            Independence DayJuly 4\, 2047Thursday        \n            \n            Independence DayJuly 4\, 2048Saturday        \n            \n            Independence DayJuly 4\, 2049Sunday        \n    \n    \n    \n    \n    \n\n\nThe History of Independence Day?\nIndependence Day in the United States is a federal holiday commemorating the Declaration of Independence of the United States\, which was adopted on July 4\, 1776. \n– Prior to 1776\, the American colonies were part of the British Empire. Growing dissatisfaction with British rule\, particularly over taxation without representation\, led to increasing unrest. \n– In 1774\, delegates from 12 of the 13 colonies (excluding Georgia) met in Philadelphia to discuss their grievances and coordinate resistance against British policies. \n– Open conflict began in April 1775 with the battles of Lexington and Concord. The war would continue until 1783. \n– In June 1776\, the Continental Congress appointed a committee to draft a statement declaring the colonies' independence. Thomas Jefferson was the primary author of the Declaration of Independence. \n– On July 4\, 1776\, the Continental Congress formally adopted the Declaration of Independence\, although the final signature would not be affixed until later. \n– The first anniversary of the Declaration of Independence in 1777 was celebrated with parades\, speeches\, and fireworks\, setting a tradition that continues to this day. \n– In 1870\, Independence Day became a federal holiday\, further solidifying its importance as a national day of celebration. \nThe declaration and the successful fight for independence inspired other countries and colonies around the world in their own struggles for independence and self-governance. \n   \nWhat Do People Do on This Day?\nOn Independence Day in the United States\, people engage in a variety of activities to celebrate the nation's history and culture. Here are five common ways to celebrate: \nMany people display the American flag at their homes and businesses as a sign of patriotism. Wearing clothing with the flag's colors (red\, white\, and blue) is also common. \nOne of the most iconic traditions is watching fireworks. Cities and towns across the country host large fireworks shows\, often accompanied by patriotic music. \nMany communities organize Fourth of July parades\, featuring marching bands\, floats\, military units\, and local organizations. These parades are festive\, colorful events that attract large crowds. \nMuseums\, historical sites\, and parks may host special events or exhibitions related to American history\, culture\, and the significance of Independence Day. Independence Day is also a time for family reunions. Many families take advantage of the holiday to gather and spend time together. \nIndependence Day is a time of festivity and pride for Americans. It serves as a reminder of the country's history\, struggles for freedom\, and the values that underpin its national identity. \nWhat is the Declaration of Independence?\nThe Declaration of Independence is a seminal document in United States history\, adopted on July 4\, 1776. It announced the colonies' separation from Great Britain and explained the reasons for this decision. \nThe preamble sets the stage\, explaining why the colonies felt compelled to declare independence and establish themselves as a separate nation. It articulates a set of Enlightenment ideals\, asserting that all men are created equal and endowed with certain unalienable rights\, including life\, liberty\, and the pursuit of happiness. \nA significant portion of the text lists the colonies' grievances against King George III\, detailing the ways in which he violated their rights and failed to adhere to the principles of good governance. After listing the grievances\, the document asserts that the colonies have the right to be free and independent states\, absolved from all allegiance to the British Crown. \nThe Declaration was signed by 56 delegates to the Continental Congress\, representing the 13 colonies. The Declaration of Independence is considered a foundational text in American political philosophy and democracy. \nThe Declaration of Independence is not only a historical document marking the birth of a new nation but also a powerful statement of democratic ideals that continue to influence and inspire.
URL:https://excelnotes.com/holiday/independence-day-usa/
CATEGORIES:Political Holiday
ATTACH;FMTTYPE=image/jpeg:https://excelnotes.com/wp-content/uploads/2023/12/Independence-Day-USA.jpg
END:VEVENT
BEGIN:VEVENT
DTSTART;VALUE=DATE:20250708
DTEND;VALUE=DATE:20250709
DTSTAMP:20260424T195852
CREATED:20250418T010612Z
LAST-MODIFIED:20250418T184214Z
UID:10000243-1751932800-1752019199@excelnotes.com
SUMMARY:Unity Day Zambia
DESCRIPTION:Unity Day in Zambia is a national public holiday immediately following Heroes' Day. The holiday promotes national unity and peace\, reinforcing the idea of Zambia as "One Zambia\, One Nation". \nWhen is Unity Day?\nUnity Day in Zambia is a holiday observed on the first Tuesday of July each year. \nThe following is the list of Unity Day from 2020 to 2049. \n   \n\n                \n                \n                            \n                            \n                            \n                    \n        \n\n                                                        HolidayDateWeekday\n\n\n\n        \n            Unity DayJul 06\, 2020Tuesday        \n            \n            Unity DayJul 06\, 2021Tuesday        \n            \n            Unity DayJul 05\, 2022Tuesday        \n            \n            Unity DayJul 04\, 2023Tuesday        \n            \n            Unity DayJul 02\, 2024Tuesday        \n            \n            Unity DayJul 08\, 2025Tuesday        \n            \n            Unity DayJul 07\, 2026Tuesday        \n            \n            Unity DayJul 06\, 2027Tuesday        \n            \n            Unity DayJul 04\, 2028Tuesday        \n            \n            Unity DayJul 03\, 2029Tuesday        \n            \n            Unity DayJul 02\, 2030Tuesday        \n            \n            Unity DayJul 08\, 2031Tuesday        \n            \n            Unity DayJul 06\, 2032Tuesday        \n            \n            Unity DayJul 05\, 2033Tuesday        \n            \n            Unity DayJul 04\, 2034Tuesday        \n            \n            Unity DayJul 03\, 2035Tuesday        \n            \n            Unity DayJul 01\, 2036Tuesday        \n            \n            Unity DayJul 07\, 2037Tuesday        \n            \n            Unity DayJul 06\, 2038Tuesday        \n            \n            Unity DayJul 05\, 2039Tuesday        \n            \n            Unity DayJul 03\, 2040Tuesday        \n            \n            Unity DayJul 02\, 2041Tuesday        \n            \n            Unity DayJul 01\, 2042Tuesday        \n            \n            Unity DayJul 07\, 2043Tuesday        \n            \n            Unity DayJul 05\, 2044Tuesday        \n            \n            Unity DayJul 04\, 2045Tuesday        \n            \n            Unity DayJul 03\, 2046Tuesday        \n            \n            Unity DayJul 02\, 2047Tuesday        \n            \n            Unity DayJul 07\, 2048Tuesday        \n            \n            Unity DayJul 06\, 2049Tuesday        \n    \n    \n    \n    \n    \n\n\nThe History of Unity Day?\nUnity Day is a national holiday reinforcing the vision of "One Zambia\, One Nation" first championed by the country's founding president\, Dr. Kenneth Kaunda. \nAfter gaining independence from British rule in 1964\, Zambia faced the complex task of uniting more than 70 ethnic groups under one national identity. \nDr. Kaunda\, Zambia's first president\, understood that tribalism and regionalism could threaten the young nation's stability. To promote harmony and inclusiveness\, he introduced the powerful slogan: "One Zambia\, One Nation". \nUnity Day was officially introduced shortly after independence as a way to: \n– Foster a spirit of national identity;\n– Promote tolerance and cooperation among different communities;\n– Prevent the growth of tribal politics and social fragmentation. \nNowadays\, Unity Day continues to be especially relevant as Zambia faces contemporary challenges. The day is used to encourage youth to embrace unity\, celebrate Zambia's peaceful history\, and contribute to an inclusive future.
URL:https://excelnotes.com/holiday/unity-day-zambia/
CATEGORIES:Political Holiday
ATTACH;FMTTYPE=image/jpeg:https://excelnotes.com/wp-content/uploads/2025/04/Unity-Day-Zambia.jpg
END:VEVENT
BEGIN:VEVENT
DTSTART;VALUE=DATE:20250729
DTEND;VALUE=DATE:20250730
DTSTAMP:20260424T195852
CREATED:20250418T183952Z
LAST-MODIFIED:20250418T183952Z
UID:10000252-1753747200-1753833599@excelnotes.com
SUMMARY:Territory Day - Wallis and Futuna
DESCRIPTION:Territory Day in Wallis and Futuna commemorates the day in 1961 when Wallis and Futuna officially became an overseas territory of France\, establishing its current political status within the French Republic. \nWhen is Territory Day?\nTerritory Day in Wallis and Futuna is celebrated annually on July 29. \nThe following is the list of Territory Day from 2020 to 2049. \n   \n\n                \n                \n                            \n                            \n                            \n                    \n        \n\n                                                        HolidayDateWeekday\n\n\n\n        \n            Territory DayJul 29\, 2020Wednesday        \n            \n            Territory DayJul 29\, 2021Thursday        \n            \n            Territory DayJul 29\, 2022Friday        \n            \n            Territory DayJul 29\, 2023Saturday        \n            \n            Territory DayJul 29\, 2024Monday        \n            \n            Territory DayJul 29\, 2025Tuesday        \n            \n            Territory DayJul 29\, 2026Wednesday        \n            \n            Territory DayJul 29\, 2027Thursday        \n            \n            Territory DayJul 29\, 2028Saturday        \n            \n            Territory DayJul 29\, 2029Sunday        \n            \n            Territory DayJul 29\, 2030Monday        \n            \n            Territory DayJul 29\, 2031Tuesday        \n            \n            Territory DayJul 29\, 2032Thursday        \n            \n            Territory DayJul 29\, 2033Friday        \n            \n            Territory DayJul 29\, 2034Saturday        \n            \n            Territory DayJul 29\, 2035Sunday        \n            \n            Territory DayJul 29\, 2036Tuesday        \n            \n            Territory DayJul 29\, 2037Wednesday        \n            \n            Territory DayJul 29\, 2038Thursday        \n            \n            Territory DayJul 29\, 2039Friday        \n            \n            Territory DayJul 29\, 2040Sunday        \n            \n            Territory DayJul 29\, 2041Monday        \n            \n            Territory DayJul 29\, 2042Tuesday        \n            \n            Territory DayJul 29\, 2043Wednesday        \n            \n            Territory DayJul 29\, 2044Friday        \n            \n            Territory DayJul 29\, 2045Saturday        \n            \n            Territory DayJul 29\, 2046Sunday        \n            \n            Territory DayJul 29\, 2047Monday        \n            \n            Territory DayJul 29\, 2048Wednesday        \n            \n            Territory DayJul 29\, 2049Thursday        \n    \n    \n    \n    \n    \n\n\nThe History of Territory Day?\nWallis and Futuna is a small group of Polynesian islands in the South Pacific Ocean\, composed of Wallis Island (Uvea) and Futuna Island which includes the traditional kingdoms of Sigave and Alo \nThe islands are culturally Polynesian but politically part of France. \nCatholic Marist missionaries arrived in the early 19th century\, most notably St. Pierre Chanel\, who was martyred on Futuna in 1841. \nThe islands soon became French protectorates. While France provided military and external protection\, traditional monarchies retained local control under French oversight. \nThroughout the 20th century\, residents of Wallis and Futuna desired greater integration with Franc\, and wanted access to French citizenship\, education\, healthcare\, and infrastructure. \nAfter petitions and negotiations\, France passed legislation to change the islands' political status. \nOn July 29\, 1961\, Wallis and Futuna officially became a French overseas territory. Key outcomes included: \n– All residents received French citizenship;\n– French institutions and administrative structures were established;\n– Traditional kings and chiefs retained authority under a unique system blending customary rule and republican governance. \nIn 2003\, the territory transitioned into a French overseas collectivity. Territory Day is a national celebration of the islands' identity as part of France\, with strong cultural pride.
URL:https://excelnotes.com/holiday/territory-day-wallis-and-futuna/
CATEGORIES:Political Holiday
ATTACH;FMTTYPE=image/jpeg:https://excelnotes.com/wp-content/uploads/2025/04/Territory-Day-Wallis-and-Futuna.jpg
END:VEVENT
BEGIN:VEVENT
DTSTART;VALUE=DATE:20250730
DTEND;VALUE=DATE:20250731
DTSTAMP:20260424T195852
CREATED:20250420T033223Z
LAST-MODIFIED:20250420T033519Z
UID:10000268-1753833600-1753919999@excelnotes.com
SUMMARY:Independence Day (Vanuatu)
DESCRIPTION:Independence Day marks the country's independence from joint British and French colonial rule in 1980. Formerly known as the New Hebrides\, Vanuatu became a sovereign nation with Father Walter Lini as its first Prime Minister. \nWhen is Independence Day?\nIndependence Day is celebrated annually on July 30.  \nThe following is the list of Independence Day from 2020 to 2049. \n   \n\n                \n                \n                            \n                            \n                            \n                    \n        \n\n                                                        HolidayDateWeekday\n\n\n\n        \n            Independence DayJul 30\, 2020Thursday        \n            \n            Independence DayJul 30\, 2021Friday        \n            \n            Independence DayJul 30\, 2022Saturday        \n            \n            Independence DayJul 30\, 2023Sunday        \n            \n            Independence DayJul 30\, 2024Tuesday        \n            \n            Independence DayJul 30\, 2025Wednesday        \n            \n            Independence DayJul 30\, 2026Thursday        \n            \n            Independence DayJul 30\, 2027Friday        \n            \n            Independence DayJul 30\, 2028Sunday        \n            \n            Independence DayJul 30\, 2029Monday        \n            \n            Independence DayJul 30\, 2030Tuesday        \n            \n            Independence DayJul 30\, 2031Wednesday        \n            \n            Independence DayJul 30\, 2032Friday        \n            \n            Independence DayJul 30\, 2033Saturday        \n            \n            Independence DayJul 30\, 2034Sunday        \n            \n            Independence DayJul 30\, 2035Monday        \n            \n            Independence DayJul 30\, 2036Wednesday        \n            \n            Independence DayJul 30\, 2037Thursday        \n            \n            Independence DayJul 30\, 2038Friday        \n            \n            Independence DayJul 30\, 2039Saturday        \n            \n            Independence DayJul 30\, 2040Monday        \n            \n            Independence DayJul 30\, 2041Tuesday        \n            \n            Independence DayJul 30\, 2042Wednesday        \n            \n            Independence DayJul 30\, 2043Thursday        \n            \n            Independence DayJul 30\, 2044Saturday        \n            \n            Independence DayJul 30\, 2045Sunday        \n            \n            Independence DayJul 30\, 2046Monday        \n            \n            Independence DayJul 30\, 2047Tuesday        \n            \n            Independence DayJul 30\, 2048Thursday        \n            \n            Independence DayJul 30\, 2049Friday        \n    \n    \n    \n    \n    \n\n\nThe History of Independence Day?\nThe islands that now make up Vanuatu were first explored by Europeans in the 17th century\, with Portuguese and Spanish navigators arriving in the 1600s. By the 19th century\, both Britain and France had established a presence in the region\, driven by trade\, missionary work\, and strategic interests. \nIn 1906\, the two colonial powers agreed to a unique arrangement called the Anglo-French Condominium\, under which both countries jointly governed the islands — an unusual and often confusing dual administration. \nThe dual rule led to administrative inefficiencies and tensions among the islanders. \nBy the 1960s and 70s\, a push for independence began gaining momentum. The emergence of nationalist political parties and leaders\, notably Walter Lini\, became central to the movement. \nPolitical unrest and clashes with colonial forces intensified in the late 1970s\, especially in places like Espiritu Santo. Eventually\, a peaceful transition was negotiated\, and on July 30\, 1980\, Vanuatu officially gained independence. \nFather Walter Lini\, a key figure in the independence struggle\, became Vanuatu's first Prime Minister. Since then\, July 30th has been a national holiday marked by pride\, unity\, and cultural celebration.
URL:https://excelnotes.com/holiday/independence-day-vanuatu/
CATEGORIES:Political Holiday
ATTACH;FMTTYPE=image/jpeg:https://excelnotes.com/wp-content/uploads/2025/04/Independence-Day-Vanuatu.jpg
END:VEVENT
END:VCALENDAR