BEGIN:VCALENDAR
VERSION:2.0
PRODID:-//ExcelNotes - ECPv6.15.20//NONSGML v1.0//EN
CALSCALE:GREGORIAN
METHOD:PUBLISH
X-ORIGINAL-URL:https://excelnotes.com
X-WR-CALDESC:Events for ExcelNotes
REFRESH-INTERVAL;VALUE=DURATION:PT1H
X-Robots-Tag:noindex
X-PUBLISHED-TTL:PT1H
BEGIN:VTIMEZONE
TZID:America/New_York
BEGIN:DAYLIGHT
TZOFFSETFROM:-0500
TZOFFSETTO:-0400
TZNAME:EDT
DTSTART:20250309T070000
END:DAYLIGHT
BEGIN:STANDARD
TZOFFSETFROM:-0400
TZOFFSETTO:-0500
TZNAME:EST
DTSTART:20251102T060000
END:STANDARD
BEGIN:DAYLIGHT
TZOFFSETFROM:-0500
TZOFFSETTO:-0400
TZNAME:EDT
DTSTART:20260308T070000
END:DAYLIGHT
BEGIN:STANDARD
TZOFFSETFROM:-0400
TZOFFSETTO:-0500
TZNAME:EST
DTSTART:20261101T060000
END:STANDARD
BEGIN:DAYLIGHT
TZOFFSETFROM:-0500
TZOFFSETTO:-0400
TZNAME:EDT
DTSTART:20270314T070000
END:DAYLIGHT
BEGIN:STANDARD
TZOFFSETFROM:-0400
TZOFFSETTO:-0500
TZNAME:EST
DTSTART:20271107T060000
END:STANDARD
END:VTIMEZONE
BEGIN:VEVENT
DTSTART;VALUE=DATE:20260610
DTEND;VALUE=DATE:20260611
DTSTAMP:20260420T094335
CREATED:20251005T175821Z
LAST-MODIFIED:20251005T175821Z
UID:10000656-1781049600-1781135999@excelnotes.com
SUMMARY:National Day (Portugal)
DESCRIPTION:National Day in Portugal honors Luís de Camões\, the 16th-century poet who wrote Os Lusíadas\, Portugal's national epic celebrating its Age of Discoveries. The holiday commemorates Portuguese history\, culture\, and global identity. It also pays tribute to Portuguese communities abroad\, reflecting the nation's unity across continents. \nWhen is National Day?\nNational Day in Portugal is celebrated on June 10 every year.  \nThe following is the list of National Day from 2020 to 2049. \n   \n\n                \n                \n                            \n                            \n                            \n                    \n        \n\n                                                        HolidayDateWeekday\n\n\n\n        \n            National DayJun 10\, 2020Wednesday        \n            \n            National DayJun 10\, 2021Thursday        \n            \n            National DayJun 10\, 2022Friday        \n            \n            National DayJun 10\, 2023Saturday        \n            \n            National DayJun 10\, 2024Monday        \n            \n            National DayJun 10\, 2025Tuesday        \n            \n            National DayJun 10\, 2026Wednesday        \n            \n            National DayJun 10\, 2027Thursday        \n            \n            National DayJun 10\, 2028Saturday        \n            \n            National DayJun 10\, 2029Sunday        \n            \n            National DayJun 10\, 2030Monday        \n            \n            National DayJun 10\, 2031Tuesday        \n            \n            National DayJun 10\, 2032Thursday        \n            \n            National DayJun 10\, 2033Friday        \n            \n            National DayJun 10\, 2034Saturday        \n            \n            National DayJun 10\, 2035Sunday        \n            \n            National DayJun 10\, 2036Tuesday        \n            \n            National DayJun 10\, 2037Wednesday        \n            \n            National DayJun 10\, 2038Thursday        \n            \n            National DayJun 10\, 2039Friday        \n            \n            National DayJun 10\, 2040Sunday        \n            \n            National DayJun 10\, 2041Monday        \n            \n            National DayJun 10\, 2042Tuesday        \n            \n            National DayJun 10\, 2043Wednesday        \n            \n            National DayJun 10\, 2044Friday        \n            \n            National DayJun 10\, 2045Saturday        \n            \n            National DayJun 10\, 2046Sunday        \n            \n            National DayJun 10\, 2047Monday        \n            \n            National DayJun 10\, 2048Wednesday        \n            \n            National DayJun 10\, 2049Thursday        \n    \n    \n    \n    \n    \n\n\nThe History of National Day?\nPortugal's National Day\, celebrated on June 10\, is linked to the death of Luís Vaz de Camões (c.1524–1580)\, one of the greatest poets of the Portuguese language. Camões wrote Os Lusíadas (1572)\, an epic poem that glorifies Portugal's Age of Discoveries\, celebrating explorers like Vasco da Gama and the nation's maritime achievements.  \nHis death on June 10\, 1580\, came at a time when Portugal was losing its independence to Spain\, making his legacy a lasting symbol of national pride and identity. \nInitially\, June 10 was not an official national holiday but was informally celebrated by intellectuals\, patriots and literary societies during the 19th century\, particularly after Portugal regained independence from Spain in 1640. Camões' figure became a symbol of Portuguese language\, culture and resilience\, representing the spirit of the nation. \nIn 1880\, the 300th anniversary of Camões' death was widely celebrated with parades\, speeches and public tributes\, strengthening calls for a national holiday. \nDuring the First Portuguese Republic (1910–1926)\, June 10 gained greater patriotic significance as a day celebrating the Portuguese nation and its achievements. \nUnder the Estado Novo regime (1933–1974)\, led by António de Oliveira Salazar\, it was officially designated as the "Day of the Portuguese Race". \nThe Carnation Revolution on April 25\, 1974 ended the dictatorship and ushered in democracy. The new democratic government redefined June 10\, shifting its focus from nationalism to cultural pride and inclusion. \nToday\, June 10 is celebrated both in Portugal and worldwide by Portuguese communities. The holiday is a unifying moment for Portuguese citizens and emigrants\, symbolizing shared culture and language across continents.
URL:https://excelnotes.com/holiday/national-day-portugal/
CATEGORIES:People
ATTACH;FMTTYPE=image/jpeg:https://excelnotes.com/wp-content/uploads/2025/10/National-Day-Portugal.jpg
END:VEVENT
END:VCALENDAR