BEGIN:VCALENDAR
VERSION:2.0
PRODID:-//ExcelNotes - ECPv6.15.20//NONSGML v1.0//EN
CALSCALE:GREGORIAN
METHOD:PUBLISH
X-ORIGINAL-URL:https://excelnotes.com
X-WR-CALDESC:Events for ExcelNotes
REFRESH-INTERVAL;VALUE=DURATION:PT1H
X-Robots-Tag:noindex
X-PUBLISHED-TTL:PT1H
BEGIN:VTIMEZONE
TZID:America/New_York
BEGIN:DAYLIGHT
TZOFFSETFROM:-0500
TZOFFSETTO:-0400
TZNAME:EDT
DTSTART:20250309T070000
END:DAYLIGHT
BEGIN:STANDARD
TZOFFSETFROM:-0400
TZOFFSETTO:-0500
TZNAME:EST
DTSTART:20251102T060000
END:STANDARD
BEGIN:DAYLIGHT
TZOFFSETFROM:-0500
TZOFFSETTO:-0400
TZNAME:EDT
DTSTART:20260308T070000
END:DAYLIGHT
BEGIN:STANDARD
TZOFFSETFROM:-0400
TZOFFSETTO:-0500
TZNAME:EST
DTSTART:20261101T060000
END:STANDARD
BEGIN:DAYLIGHT
TZOFFSETFROM:-0500
TZOFFSETTO:-0400
TZNAME:EDT
DTSTART:20270314T070000
END:DAYLIGHT
BEGIN:STANDARD
TZOFFSETFROM:-0400
TZOFFSETTO:-0500
TZNAME:EST
DTSTART:20271107T060000
END:STANDARD
END:VTIMEZONE
BEGIN:VEVENT
DTSTART;VALUE=DATE:20260601
DTEND;VALUE=DATE:20260602
DTSTAMP:20260419T094442
CREATED:20250914T164134Z
LAST-MODIFIED:20250914T164324Z
UID:10000567-1780272000-1780358399@excelnotes.com
SUMMARY:King's Birthday (New Zealand)
DESCRIPTION:King's Birthday in New Zealand\, \, honors the reigning monarch (currently King Charles III) and includes official ceremonies\, the Honours List\, and community celebrations\, while also serving as a valued long weekend for the public. \nWhen is King's Day?\nKing's Day is celebrated on the first Monday in June every year.  \nThe following is the list of King's Day from 2020 to 2049. \n   \n\n                \n                \n                            \n                            \n                            \n                    \n        \n\n                                                        HolidayDateWeekday\n\n\n\n        \n            Queen's BirthdayJun 01\, 2020Monday        \n            \n            Queen's BirthdayJun 07\, 2021Monday        \n            \n            Queen's BirthdayJun 06\, 2022Monday        \n            \n            King's BirthdayJun 05\, 2023Monday        \n            \n            King's BirthdayJun 03\, 2024Monday        \n            \n            King's BirthdayJun 02\, 2025Monday        \n            \n            King's BirthdayJun 01\, 2026Monday        \n            \n            King's BirthdayJun 07\, 2027Monday        \n            \n            King's BirthdayJun 05\, 2028Monday        \n            \n            King's BirthdayJun 04\, 2029Monday        \n            \n            King's BirthdayJun 03\, 2030Monday        \n            \n            King's BirthdayJun 02\, 2031Monday        \n            \n            King's BirthdayJun 07\, 2032Monday        \n            \n            King's BirthdayJun 06\, 2033Monday        \n            \n            King's BirthdayJun 05\, 2034Monday        \n            \n            King's BirthdayJun 04\, 2035Monday        \n            \n            King's BirthdayJun 02\, 2036Monday        \n            \n            King's BirthdayJun 01\, 2037Monday        \n            \n            King's BirthdayJun 07\, 2038Monday        \n            \n            King's BirthdayJun 06\, 2039Monday        \n            \n            King's BirthdayJun 04\, 2040Monday        \n            \n            King's BirthdayJun 03\, 2041Monday        \n            \n            King's BirthdayJun 02\, 2042Monday        \n            \n            King's BirthdayJun 01\, 2043Monday        \n            \n            King's BirthdayJun 06\, 2044Monday        \n            \n            King's BirthdayJun 05\, 2045Monday        \n            \n            King's BirthdayJun 04\, 2046Monday        \n            \n            King's BirthdayJun 03\, 2047Monday        \n            \n            King's BirthdayJun 01\, 2048Monday        \n            \n            King's BirthdayJun 07\, 2049Monday        \n    \n    \n    \n    \n    \n\n\nThe History of King's Day?\nThe tradition of celebrating the monarch's birthday in New Zealand dates back to the 19th century\, when the country was a British colony. Early observances were held on the actual birthday of the reigning monarch\, with ceremonies\, parades\, and official functions marking the occasion. \nBecause each monarch had a different birthday\, the holiday date changed over time\, which was inconvenient for planning public events. \nIn 1937\, during the reign of King George VI\, New Zealand adopted the practice of celebrating the monarch's "official birthday" on the first Monday in June. \nThis mirrored the United Kingdom\, which had already established a similar tradition\, ensuring a consistent annual public holiday regardless of the sovereign's real birth date. \nUnder Queen Elizabeth II (1952–2022)\, the holiday was known as Queen's Birthday and became one of New Zealand's most enduring public holidays. \nIt was marked by the release of the Queen's Birthday Honours List\, recognizing New Zealanders for achievements in public service\, arts\, sports\, and other fields. \nWith the accession of King Charles III in 2022\, the holiday was renamed King's Birthday. Today\, the King's Birthday (first Monday in June) remains a national public holiday in New Zealand.
URL:https://excelnotes.com/holiday/kings-birthday-new-zealand/
CATEGORIES:Leader
ATTACH;FMTTYPE=image/jpeg:https://excelnotes.com/wp-content/uploads/2025/09/Kings-Birthday-New-Zealand.jpg
END:VEVENT
BEGIN:VEVENT
DTSTART;VALUE=DATE:20260601
DTEND;VALUE=DATE:20260602
DTSTAMP:20260419T094442
CREATED:20251011T041649Z
LAST-MODIFIED:20251011T041649Z
UID:10000696-1780272000-1780358399@excelnotes.com
SUMMARY:International Children's Day (Romania)
DESCRIPTION:International Children's Day in Romania honors the rights\, joy\, and well-being of children. It is a day filled with festivals\, outdoor games\, and family activities\, celebrating childhood\, love\, and the importance of nurturing future generations. \nWhen is International Children's Day?\nInternational Children's Day is celebrated on June 1 every year.  \nThe following is the list of International Children's Day from 2020 to 2049. \n   \n\n                \n                \n                            \n                            \n                            \n                    \n        \n\n                                                        HolidayDateWeekday\n\n\n\n        \n            International Children's DayJun 01\, 2020Monday        \n            \n            International Children's DayJun 01\, 2021Tuesday        \n            \n            International Children's DayJun 01\, 2022Wednesday        \n            \n            International Children's DayJun 01\, 2023Thursday        \n            \n            International Children's DayJun 01\, 2024Saturday        \n            \n            International Children's DayJun 01\, 2025Sunday        \n            \n            International Children's DayJun 01\, 2026Monday        \n            \n            International Children's DayJun 01\, 2027Tuesday        \n            \n            International Children's DayJun 01\, 2028Thursday        \n            \n            International Children's DayJun 01\, 2029Friday        \n            \n            International Children's DayJun 01\, 2030Saturday        \n            \n            International Children's DayJun 01\, 2031Sunday        \n            \n            International Children's DayJun 01\, 2032Tuesday        \n            \n            International Children's DayJun 01\, 2033Wednesday        \n            \n            International Children's DayJun 01\, 2034Thursday        \n            \n            International Children's DayJun 01\, 2035Friday        \n            \n            International Children's DayJun 01\, 2036Sunday        \n            \n            International Children's DayJun 01\, 2037Monday        \n            \n            International Children's DayJun 01\, 2038Tuesday        \n            \n            International Children's DayJun 01\, 2039Wednesday        \n            \n            International Children's DayJun 01\, 2040Friday        \n            \n            International Children's DayJun 01\, 2041Saturday        \n            \n            International Children's DayJun 01\, 2042Sunday        \n            \n            International Children's DayJun 01\, 2043Monday        \n            \n            International Children's DayJun 01\, 2044Wednesday        \n            \n            International Children's DayJun 01\, 2045Thursday        \n            \n            International Children's DayJun 01\, 2046Friday        \n            \n            International Children's DayJun 01\, 2047Saturday        \n            \n            International Children's DayJun 01\, 2048Monday        \n            \n            International Children's DayJun 01\, 2049Tuesday        \n    \n    \n    \n    \n    \n\n\nThe History of International Children's Day?\nThe idea of dedicating a day to children emerged in the early 20th century\, amid growing global concern for children's welfare\, education\, and protection. The first Children's Day was celebrated in 1925\, following the World Conference on Child Welfare held in Geneva\, Switzerland. \nAfter the devastating effects of World War II\, the need to safeguard children's rights became even more urgent. In 1950\, under the influence of the International Union for Child Welfare and UNICEF\, June 1 was officially designated as International Children's Day in many countries\, especially in Eastern Europe and Asia. \nRomania began celebrating International Children's Day on June 1\, 1950\, during the post-war period when many nations sought to highlight children's protection and education. At that time\, Romania\, as part of the Eastern Bloc\, adopted the observance following the initiative promoted by the Soviet Union and supported by UNESCO and UNICEF. The day quickly became a national celebration of childhood\, emphasizing the importance of health\, happiness\, and education for all children. \nOver the decades\, International Children's Day became more than just a celebration\, it became a platform for advocacy. Romania played an active role in promoting child protection laws and supporting the UN Convention on the Rights of the Child\, adopted by the United Nations in 1989 and ratified by Romania in 1990. The convention set international standards for ensuring children's rights to life\, development\, education\, safety\, and participation. \nToday\, June 1 is a public holiday in Romania\, recognized officially since 2017\, allowing families to spend time together. The day reflects Romania's long-standing commitment to child welfare and human rights\, aligning with its global and European partnerships in child protection initiatives.
URL:https://excelnotes.com/holiday/international-childrens-day-romania/
CATEGORIES:People
ATTACH;FMTTYPE=image/jpeg:https://excelnotes.com/wp-content/uploads/2025/10/International-Childrens-Day-Romania.jpg
END:VEVENT
END:VCALENDAR