BEGIN:VCALENDAR
VERSION:2.0
PRODID:-//ExcelNotes - ECPv6.15.20//NONSGML v1.0//EN
CALSCALE:GREGORIAN
METHOD:PUBLISH
X-WR-CALNAME:ExcelNotes
X-ORIGINAL-URL:https://excelnotes.com
X-WR-CALDESC:Events for ExcelNotes
REFRESH-INTERVAL;VALUE=DURATION:PT1H
X-Robots-Tag:noindex
X-PUBLISHED-TTL:PT1H
BEGIN:VTIMEZONE
TZID:America/New_York
BEGIN:DAYLIGHT
TZOFFSETFROM:-0500
TZOFFSETTO:-0400
TZNAME:EDT
DTSTART:20250309T070000
END:DAYLIGHT
BEGIN:STANDARD
TZOFFSETFROM:-0400
TZOFFSETTO:-0500
TZNAME:EST
DTSTART:20251102T060000
END:STANDARD
BEGIN:DAYLIGHT
TZOFFSETFROM:-0500
TZOFFSETTO:-0400
TZNAME:EDT
DTSTART:20260308T070000
END:DAYLIGHT
BEGIN:STANDARD
TZOFFSETFROM:-0400
TZOFFSETTO:-0500
TZNAME:EST
DTSTART:20261101T060000
END:STANDARD
BEGIN:DAYLIGHT
TZOFFSETFROM:-0500
TZOFFSETTO:-0400
TZNAME:EDT
DTSTART:20270314T070000
END:DAYLIGHT
BEGIN:STANDARD
TZOFFSETFROM:-0400
TZOFFSETTO:-0500
TZNAME:EST
DTSTART:20271107T060000
END:STANDARD
END:VTIMEZONE
BEGIN:VEVENT
DTSTART;VALUE=DATE:20260223
DTEND;VALUE=DATE:20260224
DTSTAMP:20260424T035029
CREATED:20251014T045045Z
LAST-MODIFIED:20251014T050511Z
UID:10000716-1771804800-1771891199@excelnotes.com
SUMMARY:Emperor's Birthday (Japan)
DESCRIPTION:The Emperor's Birthday is a national holiday in Japan that celebrates the birthday of the reigning emperor. It is in honor of Emperor Naruhito\, who ascended the throne in 2019. On this day\, the Imperial Palace in Tokyo opens its gates to the public\, allowing citizens to offer their congratulations. The Emperor\, accompanied by Empress Masako and other family members\, greets well-wishers from a palace balcony in a rare display of national unity and celebration. \nWhen is the Emperor's Day?\nThe Emperor's Day in Japan is celebrated on February 23 each year. \nThe following is the list of the Emperor's Day from 2020 to 2049. \n   \n\n                \n                \n                            \n                            \n                            \n                    \n        \n\n                                                        HolidayDateWeekday\n\n\n\n        \n            Emperor's BirthdayFeb 23\, 2020Sunday        \n            \n            Emperor's BirthdayFeb 23\, 2021Tuesday        \n            \n            Emperor's BirthdayFeb 23\, 2022Wednesday        \n            \n            Emperor's BirthdayFeb 23\, 2023Thursday        \n            \n            Emperor's BirthdayFeb 23\, 2024Friday        \n            \n            Emperor's BirthdayFeb 23\, 2025Sunday        \n            \n            Emperor's BirthdayFeb 23\, 2026Monday        \n            \n            Emperor's BirthdayFeb 23\, 2027Tuesday        \n            \n            Emperor's BirthdayFeb 23\, 2028Wednesday        \n            \n            Emperor's BirthdayFeb 23\, 2029Friday        \n            \n            Emperor's BirthdayFeb 23\, 2030Saturday        \n            \n            Emperor's BirthdayFeb 23\, 2031Sunday        \n            \n            Emperor's BirthdayFeb 23\, 2032Monday        \n            \n            Emperor's BirthdayFeb 23\, 2033Wednesday        \n            \n            Emperor's BirthdayFeb 23\, 2034Thursday        \n            \n            Emperor's BirthdayFeb 23\, 2035Friday        \n            \n            Emperor's BirthdayFeb 23\, 2036Saturday        \n            \n            Emperor's BirthdayFeb 23\, 2037Monday        \n            \n            Emperor's BirthdayFeb 23\, 2038Tuesday        \n            \n            Emperor's BirthdayFeb 23\, 2039Wednesday        \n            \n            Emperor's BirthdayFeb 23\, 2040Thursday        \n            \n            Emperor's BirthdayFeb 23\, 2041Saturday        \n            \n            Emperor's BirthdayFeb 23\, 2042Sunday        \n            \n            Emperor's BirthdayFeb 23\, 2043Monday        \n            \n            Emperor's BirthdayFeb 23\, 2044Tuesday        \n            \n            Emperor's BirthdayFeb 23\, 2045Thursday        \n            \n            Emperor's BirthdayFeb 23\, 2046Friday        \n            \n            Emperor's BirthdayFeb 23\, 2047Saturday        \n            \n            Emperor's BirthdayFeb 23\, 2048Sunday        \n            \n            Emperor's BirthdayFeb 23\, 2049Tuesday        \n    \n    \n    \n    \n    \n\n\nThe History of the Emperor's Day?\nThe Emperor's Birthday\, or Tennō Tanjōbi (天皇誕生日)\, is one of Japan's most symbolic national holidays\, honoring the birth of the reigning emperor. The date of the celebration changes with each new emperor's reign\, reflecting Japan's continuity and deep respect for the imperial institution. \nThe tradition of officially celebrating the emperor's birthday dates back to the Meiji era (1868–1912)\, when Emperor Meiji's birthday (November 3) was observed nationwide as a symbol of unity and modernization. After his death\, November 3 was renamed Culture Day. \nEach succeeding emperor's birthday became a public holiday during their reign: \n– Emperor Taishō (Yoshihito): August 31\n– Emperor Shōwa (Hirohito): April 29\, later renamed Shōwa Day after his death\n– Emperor Akihito (Heisei era): December 23\, now no longer a holiday since his abdication in 2019\n– Emperor Naruhito (Reiwa era): February 23\, officially designated as the Emperor's Birthday since 2020 \nThe day is marked by the opening of the Imperial Palace to the public\, one of only two days in the year this occurs (the other being New Year's Day). Citizens gather in the courtyard to wave Japanese flags as the Emperor\, Empress\, and royal family members appear on a balcony to deliver greetings. \nThe holiday serves not only as a celebration of the Emperor's life but also as an expression of national harmony\, cultural continuity\, and gratitude\, reflecting the enduring role of the monarchy in Japan's identity and heritage.
URL:https://excelnotes.com/holiday/emperors-birthday-japan/
CATEGORIES:Leader
ATTACH;FMTTYPE=image/jpeg:https://excelnotes.com/wp-content/uploads/2025/10/Emperors-Birthday-Japan.jpg
END:VEVENT
END:VCALENDAR