BEGIN:VCALENDAR
VERSION:2.0
PRODID:-//ExcelNotes - ECPv6.15.20//NONSGML v1.0//EN
CALSCALE:GREGORIAN
METHOD:PUBLISH
X-ORIGINAL-URL:https://excelnotes.com
X-WR-CALDESC:Events for ExcelNotes
REFRESH-INTERVAL;VALUE=DURATION:PT1H
X-Robots-Tag:noindex
X-PUBLISHED-TTL:PT1H
BEGIN:VTIMEZONE
TZID:America/New_York
BEGIN:DAYLIGHT
TZOFFSETFROM:-0500
TZOFFSETTO:-0400
TZNAME:EDT
DTSTART:20240310T070000
END:DAYLIGHT
BEGIN:STANDARD
TZOFFSETFROM:-0400
TZOFFSETTO:-0500
TZNAME:EST
DTSTART:20241103T060000
END:STANDARD
BEGIN:DAYLIGHT
TZOFFSETFROM:-0500
TZOFFSETTO:-0400
TZNAME:EDT
DTSTART:20250309T070000
END:DAYLIGHT
BEGIN:STANDARD
TZOFFSETFROM:-0400
TZOFFSETTO:-0500
TZNAME:EST
DTSTART:20251102T060000
END:STANDARD
BEGIN:DAYLIGHT
TZOFFSETFROM:-0500
TZOFFSETTO:-0400
TZNAME:EDT
DTSTART:20260308T070000
END:DAYLIGHT
BEGIN:STANDARD
TZOFFSETFROM:-0400
TZOFFSETTO:-0500
TZNAME:EST
DTSTART:20261101T060000
END:STANDARD
END:VTIMEZONE
BEGIN:VEVENT
DTSTART;VALUE=DATE:20251230
DTEND;VALUE=DATE:20251231
DTSTAMP:20260422T005835
CREATED:20250914T003702Z
LAST-MODIFIED:20250914T003702Z
UID:10000554-1767052800-1767139199@excelnotes.com
SUMMARY:Rizal Day
DESCRIPTION:Rizal Day commemorates the execution of Dr. José Rizal in 1896\, honoring him as the Philippines' national hero and symbol of freedom\, celebrated with ceremonies\, tributes\, and patriotic programs. \nWhen is Rizal Day?\nRizal Day in Philippines is celebrated every year on December 30.  \nThe following is the list of Rizal Day from 2020 to 2049. \n   \n\n                \n                \n                            \n                            \n                            \n                    \n        \n\n                                                        HolidayDateWeekday\n\n\n\n        \n            Rizal DayDec 30\, 2020Wednesday        \n            \n            Rizal DayDec 30\, 2021Thursday        \n            \n            Rizal DayDec 30\, 2022Friday        \n            \n            Rizal DayDec 30\, 2023Saturday        \n            \n            Rizal DayDec 30\, 2024Monday        \n            \n            Rizal DayDec 30\, 2025Tuesday        \n            \n            Rizal DayDec 30\, 2026Wednesday        \n            \n            Rizal DayDec 30\, 2027Thursday        \n            \n            Rizal DayDec 30\, 2028Saturday        \n            \n            Rizal DayDec 30\, 2029Sunday        \n            \n            Rizal DayDec 30\, 2030Monday        \n            \n            Rizal DayDec 30\, 2031Tuesday        \n            \n            Rizal DayDec 30\, 2032Thursday        \n            \n            Rizal DayDec 30\, 2033Friday        \n            \n            Rizal DayDec 30\, 2034Saturday        \n            \n            Rizal DayDec 30\, 2035Sunday        \n            \n            Rizal DayDec 30\, 2036Tuesday        \n            \n            Rizal DayDec 30\, 2037Wednesday        \n            \n            Rizal DayDec 30\, 2038Thursday        \n            \n            Rizal DayDec 30\, 2039Friday        \n            \n            Rizal DayDec 30\, 2040Sunday        \n            \n            Rizal DayDec 30\, 2041Monday        \n            \n            Rizal DayDec 30\, 2042Tuesday        \n            \n            Rizal DayDec 30\, 2043Wednesday        \n            \n            Rizal DayDec 30\, 2044Friday        \n            \n            Rizal DayDec 30\, 2045Saturday        \n            \n            Rizal DayDec 30\, 2046Sunday        \n            \n            Rizal DayDec 30\, 2047Monday        \n            \n            Rizal DayDec 30\, 2048Wednesday        \n            \n            Rizal DayDec 30\, 2049Thursday        \n    \n    \n    \n    \n    \n\n\nThe History of Rizal Day?\nOn December 30\, 1896\, Dr. José Rizal was executed by a Spanish firing squad at Bagumbayan (now Rizal Park/Luneta) in Manila. Rizal was a writer\, reformist\, and nationalist whose novels Noli Me Tangere and El Filibusterismo exposed Spanish colonial abuses. \nHis execution turned him into a martyr of Philippine independence\, inspiring Filipinos to continue the struggle against Spain. \nIn 1898\, during the Philippine Revolution\, General Emilio Aguinaldo declared December 30 as a day of national mourning in honor of Rizal and other victims of Spanish rule. This was the first official recognition of Rizal's role as a national hero. \nIn 1901\, the American colonial government established the Order of the Knights of Rizal\, dedicated to preserving his memory. \nIn 1902\, the Philippine Commission passed Act No. 345\, officially declaring December 30 as Rizal Day\, making it one of the first legal public holidays in the country. \nThis was significant because it united Filipinos under a shared symbol of nationalism\, even under colonial rule. \nThroughout the 20th century\, Rizal Day became an important occasion for patriotic expression and civic education. \nIn 1936\, President Manuel L. Quezon declared Rizal a national hero and emphasized his teachings in schools. \nIn 1942\, during the Japanese occupation\, the Rizal Monument became a rallying point for Filipino nationalism.
URL:https://excelnotes.com/holiday/rizal-day/
CATEGORIES:People
ATTACH;FMTTYPE=image/jpeg:https://excelnotes.com/wp-content/uploads/2025/09/Rizal-Day.jpg
END:VEVENT
END:VCALENDAR