BEGIN:VCALENDAR
VERSION:2.0
PRODID:-//ExcelNotes - ECPv6.15.20//NONSGML v1.0//EN
CALSCALE:GREGORIAN
METHOD:PUBLISH
X-WR-CALNAME:ExcelNotes
X-ORIGINAL-URL:https://excelnotes.com
X-WR-CALDESC:Events for ExcelNotes
REFRESH-INTERVAL;VALUE=DURATION:PT1H
X-Robots-Tag:noindex
X-PUBLISHED-TTL:PT1H
BEGIN:VTIMEZONE
TZID:America/New_York
BEGIN:DAYLIGHT
TZOFFSETFROM:-0500
TZOFFSETTO:-0400
TZNAME:EDT
DTSTART:20240310T070000
END:DAYLIGHT
BEGIN:STANDARD
TZOFFSETFROM:-0400
TZOFFSETTO:-0500
TZNAME:EST
DTSTART:20241103T060000
END:STANDARD
BEGIN:DAYLIGHT
TZOFFSETFROM:-0500
TZOFFSETTO:-0400
TZNAME:EDT
DTSTART:20250309T070000
END:DAYLIGHT
BEGIN:STANDARD
TZOFFSETFROM:-0400
TZOFFSETTO:-0500
TZNAME:EST
DTSTART:20251102T060000
END:STANDARD
BEGIN:DAYLIGHT
TZOFFSETFROM:-0500
TZOFFSETTO:-0400
TZNAME:EDT
DTSTART:20260308T070000
END:DAYLIGHT
BEGIN:STANDARD
TZOFFSETFROM:-0400
TZOFFSETTO:-0500
TZNAME:EST
DTSTART:20261101T060000
END:STANDARD
END:VTIMEZONE
BEGIN:VEVENT
DTSTART;VALUE=DATE:20251205
DTEND;VALUE=DATE:20251206
DTSTAMP:20260421T061144
CREATED:20250716T034439Z
LAST-MODIFIED:20250717T034709Z
UID:10000392-1764892800-1764979199@excelnotes.com
SUMMARY:King Bhumibol's Birthday
DESCRIPTION:King Bhumibol's Birthday is one of Thailand's most important national holidays. It is not only the late king's birthday but also officially recognized as Father's Day and\, for many years\, Thailand's National Day. \nWhen is King Bhumibol's Birthday?\nKing Bhumibol's Birthday is observed every year on December 5. \nThe following is the list of King Bhumibol's Birthday from 2020 to 2049. \n   \n\n                \n                \n                            \n                            \n                            \n                    \n        \n\n                                                        HolidayDateWeekday\n\n\n\n        \n            King Bhumibol's BirthdayDec 05\, 2020Saturday        \n            \n            King Bhumibol's BirthdayDec 05\, 2021Sunday        \n            \n            King Bhumibol's BirthdayDec 05\, 2022Monday        \n            \n            King Bhumibol's BirthdayDec 05\, 2023Tuesday        \n            \n            King Bhumibol's BirthdayDec 05\, 2024Thursday        \n            \n            King Bhumibol's BirthdayDec 05\, 2025Friday        \n            \n            King Bhumibol's BirthdayDec 05\, 2026Saturday        \n            \n            King Bhumibol's BirthdayDec 05\, 2027Sunday        \n            \n            King Bhumibol's BirthdayDec 05\, 2028Tuesday        \n            \n            King Bhumibol's BirthdayDec 05\, 2029Wednesday        \n            \n            King Bhumibol's BirthdayDec 05\, 2030Thursday        \n            \n            King Bhumibol's BirthdayDec 05\, 2031Friday        \n            \n            King Bhumibol's BirthdayDec 05\, 2032Sunday        \n            \n            King Bhumibol's BirthdayDec 05\, 2033Monday        \n            \n            King Bhumibol's BirthdayDec 05\, 2034Tuesday        \n            \n            King Bhumibol's BirthdayDec 05\, 2035Wednesday        \n            \n            King Bhumibol's BirthdayDec 05\, 2036Friday        \n            \n            King Bhumibol's BirthdayDec 05\, 2037Saturday        \n            \n            King Bhumibol's BirthdayDec 05\, 2038Sunday        \n            \n            King Bhumibol's BirthdayDec 05\, 2039Monday        \n            \n            King Bhumibol's BirthdayDec 05\, 2040Wednesday        \n            \n            King Bhumibol's BirthdayDec 05\, 2041Thursday        \n            \n            King Bhumibol's BirthdayDec 05\, 2042Friday        \n            \n            King Bhumibol's BirthdayDec 05\, 2043Saturday        \n            \n            King Bhumibol's BirthdayDec 05\, 2044Monday        \n            \n            King Bhumibol's BirthdayDec 05\, 2045Tuesday        \n            \n            King Bhumibol's BirthdayDec 05\, 2046Wednesday        \n            \n            King Bhumibol's BirthdayDec 05\, 2047Thursday        \n            \n            King Bhumibol's BirthdayDec 05\, 2048Saturday        \n            \n            King Bhumibol's BirthdayDec 05\, 2049Sunday        \n    \n    \n    \n    \n    \n\n\nThe History of King Bhumibol's Birthday?\nKing Bhumibol Adulyadej was born on December 5\, 1927\, in Cambridge\, Massachusetts\, USA\, and reigned from 1946 to 2016 (70 years\, the longest in Thai history) \nHe is known by the honorific title "King Bhumibol the Great"\, and was deeply loved for his tireless service to the country\, especially his work in rural development\, sustainable agriculture\, and national reconciliation. \nIn 1950s–1960s\, as King Bhumibol's popularity grew\, his birthday began to be marked with public celebrations\, including Buddhist rituals\, fireworks\, and patriotic events. \nIn the 1970s\, the Thai government officially designated December 5 as Father's Day\, aligning the king's symbolic role as the "Father of the Nation" with the Western-style family holiday. \nSince 1980s\, December 5 was recognized as Thailand's National Day\, replacing June 24\, the date of the 1932 revolution that brought constitutional monarchy. The holiday honored not just his birth but his leadership and contributions to Thai society. \nAfter his death in 2016\, December 5 remained a public holiday to commemorate his legacy.
URL:https://excelnotes.com/holiday/king-bhumibols-birthday/
CATEGORIES:Leader,People
ATTACH;FMTTYPE=image/jpeg:https://excelnotes.com/wp-content/uploads/2025/07/King-Bhumibols-Birthday.jpg
END:VEVENT
END:VCALENDAR