BEGIN:VCALENDAR
VERSION:2.0
PRODID:-//ExcelNotes - ECPv6.15.20//NONSGML v1.0//EN
CALSCALE:GREGORIAN
METHOD:PUBLISH
X-ORIGINAL-URL:https://excelnotes.com
X-WR-CALDESC:Events for ExcelNotes
REFRESH-INTERVAL;VALUE=DURATION:PT1H
X-Robots-Tag:noindex
X-PUBLISHED-TTL:PT1H
BEGIN:VTIMEZONE
TZID:America/New_York
BEGIN:DAYLIGHT
TZOFFSETFROM:-0500
TZOFFSETTO:-0400
TZNAME:EDT
DTSTART:20240310T070000
END:DAYLIGHT
BEGIN:STANDARD
TZOFFSETFROM:-0400
TZOFFSETTO:-0500
TZNAME:EST
DTSTART:20241103T060000
END:STANDARD
BEGIN:DAYLIGHT
TZOFFSETFROM:-0500
TZOFFSETTO:-0400
TZNAME:EDT
DTSTART:20250309T070000
END:DAYLIGHT
BEGIN:STANDARD
TZOFFSETFROM:-0400
TZOFFSETTO:-0500
TZNAME:EST
DTSTART:20251102T060000
END:STANDARD
BEGIN:DAYLIGHT
TZOFFSETFROM:-0500
TZOFFSETTO:-0400
TZNAME:EDT
DTSTART:20260308T070000
END:DAYLIGHT
BEGIN:STANDARD
TZOFFSETFROM:-0400
TZOFFSETTO:-0500
TZNAME:EST
DTSTART:20261101T060000
END:STANDARD
END:VTIMEZONE
BEGIN:VEVENT
DTSTART;VALUE=DATE:20251201
DTEND;VALUE=DATE:20251202
DTSTAMP:20260421T111129
CREATED:20241218T041559Z
LAST-MODIFIED:20250419T021604Z
UID:10000074-1764547200-1764633599@excelnotes.com
SUMMARY:Mrs. Rosa L. Parks Day in Alabama
DESCRIPTION:Mrs. Rosa L. Parks Day is a day of recognition and celebration honoring Rosa Parks\, the "Mother of the Civil Rights Movement". Her pivotal role in the fight for racial equality began on December 1\, 1955\, in Montgomery\, Alabama\, when she refused to give up her seat on a segregated bus to a white passenger. The holiday recognizes her immense contributions to the Civil Rights Movement and her enduring legacy as a symbol of courage and equality. \nTable of Contents\n\nWhen is Mrs. Rosa L. Parks Day?\nThe History of Mrs. Rosa L. Parks Day?\nWhat Do People Do on This Day?\nMrs. Rosa L. Parks Day\n\nWhen is Mrs. Rosa L. Parks Day?\nMrs. Rosa L. Parks Day is observed on different dates depending on the state. In some states like California and Missouri\, it is observed on February 4\, which is Parks' birthday\, while in others like Ohio and Alabama\, it is celebrated on December 1\, which is the anniversary of her arrest. \nThe following is the list of Mrs. Rosa L. Parks Day in Alabama and Ohio. \n   \n\n                \n                \n                            \n                            \n                            \n                    \n        \n\n                                                        HolidayDateWeekday\n\n\n\n        \n            Mrs. Rosa L. Parks DayDecember 01\, 2020Tuesday        \n            \n            Mrs. Rosa L. Parks DayDecember 01\, 2021Wednesday        \n            \n            Mrs. Rosa L. Parks DayDecember 01\, 2022Thursday        \n            \n            Mrs. Rosa L. Parks DayDecember 01\, 2023Friday        \n            \n            Mrs. Rosa L. Parks DayDecember 01\, 2024Sunday        \n            \n            Mrs. Rosa L. Parks DayDecember 01\, 2025Monday        \n            \n            Mrs. Rosa L. Parks DayDecember 01\, 2026Tuesday        \n            \n            Mrs. Rosa L. Parks DayDecember 01\, 2027Wednesday        \n            \n            Mrs. Rosa L. Parks DayDecember 01\, 2028Friday        \n            \n            Mrs. Rosa L. Parks DayDecember 01\, 2029Saturday        \n            \n            Mrs. Rosa L. Parks DayDecember 01\, 2030Sunday        \n            \n            Mrs. Rosa L. Parks DayDecember 01\, 2031Monday        \n            \n            Mrs. Rosa L. Parks DayDecember 01\, 2032Wednesday        \n            \n            Mrs. Rosa L. Parks DayDecember 01\, 2033Thursday        \n            \n            Mrs. Rosa L. Parks DayDecember 01\, 2034Friday        \n            \n            Mrs. Rosa L. Parks DayDecember 01\, 2035Saturday        \n            \n            Mrs. Rosa L. Parks DayDecember 01\, 2036Monday        \n            \n            Mrs. Rosa L. Parks DayDecember 01\, 2037Tuesday        \n            \n            Mrs. Rosa L. Parks DayDecember 01\, 2038Wednesday        \n            \n            Mrs. Rosa L. Parks DayDecember 01\, 2039Thursday        \n            \n            Mrs. Rosa L. Parks DayDecember 01\, 2040Saturday        \n            \n            Mrs. Rosa L. Parks DayDecember 01\, 2041Sunday        \n            \n            Mrs. Rosa L. Parks DayDecember 01\, 2042Monday        \n            \n            Mrs. Rosa L. Parks DayDecember 01\, 2043Tuesday        \n            \n            Mrs. Rosa L. Parks DayDecember 01\, 2044Thursday        \n            \n            Mrs. Rosa L. Parks DayDecember 01\, 2045Friday        \n            \n            Mrs. Rosa L. Parks DayDecember 01\, 2046Saturday        \n            \n            Mrs. Rosa L. Parks DayDecember 01\, 2047Sunday        \n            \n            Mrs. Rosa L. Parks DayDecember 01\, 2048Tuesday        \n            \n            Mrs. Rosa L. Parks DayDecember 01\, 2049Wednesday        \n    \n    \n    \n    \n    \n\n\nThe History of Mrs. Rosa L. Parks Day?\nThe history of Mrs. Rosa L. Parks Day is rooted in the recognition of Rosa Parks' profound impact on the Civil Rights Movement\, particularly her pivotal role in initiating the Montgomery Bus Boycott in 1955. \nRosa Parks\, an African American seamstress and activist\, was arrested for refusing to give up her bus seat to a white passenger in Montgomery\, Alabama\, in defiance of racial segregation laws. Her act of peaceful resistance became a defining moment in the Civil Rights Movement and led to the 381-day Montgomery Bus Boycott\, which helped dismantle segregation laws in public transportation. \nFollowing her arrest and the boycott\, Rosa Parks gained national and international recognition as a symbol of dignity and resistance to racial injustice. Over time\, civil rights advocates and organizations called for formal recognition of her contributions. \nIn 2000\, California became the first state to declare February 4 (Rosa Parks' birthday) as Rosa Parks Day. Over the years\, states such as Missouri also adopted February 4 as Rosa Parks Day\, while other States like Alabama and Ohio chose to observe the day on December 1\, marking the anniversary of Parks' arrest. \nIn 2013\, on the 100th anniversary of Rosa Parks' birth\, President Barack Obama unveiled a statue of Rosa Parks in the U.S. Capitol's Statuary Hall\, further cementing her legacy in American history. \n   \nWhat Do People Do on This Day?\nOn Mrs. Rosa L. Parks Day\, people honor Rosa Parks' legacy through a variety of activities\, focusing on education\, reflection\, and community service. \nSchools and libraries host discussions\, lectures\, and storytelling sessions about Rosa Parks' life and the Civil Rights Movement. Teachers and educators incorporate her story into lessons about civil rights\, justice\, and activism. \nThere are public speeches and events organized by local governments\, civil rights organizations\, and community leaders. Many communities use this day to promote volunteerism as a way to honor Parks' commitment to justice and equality. \nPeople also share quotes\, stories\, and photos of Rosa Parks on social media to raise awareness about her life and legacy. In Alabama\, the state where Rosa Parks made her historic stand\, public programs\, and ceremonies are often held in her honor. \nMrs. Rosa L. Parks\nMrs. Rosa L. Parks (1913–2005) was an iconic figure in the Civil Rights Movement\, often referred to as the "Mother of the Civil Rights Movement." Her courageous decision to stand against racial segregation on December 1\, 1955\, became a catalyst for transformative change in the United States. \nShe was born on February 4\, 1913 in Tuskegee\, Alabama. Her father was a carpenter\, and her mother was a teacher. She grew up in Pine Level\, Alabama\, experiencing firsthand the systemic racism and segregation of the Jim Crow South. Despite the hardships\, her mother emphasized the importance of education. \nRosa attended the Montgomery Industrial School for Girls\, a progressive institution for African American girls\, and later went to Alabama State Teachers College but had to leave to care for her grandmother and mother. \nIn 1943\, Rosa Parks joined the Montgomery chapter of the NAACP (National Association for the Advancement of Colored People)\, where she served as the secretary. She worked closely with civil rights leaders to document racial injustices\, particularly cases of sexual violence against Black women. \nOn December 1\, 1955\, Rosa Parks refused to give up her seat to a white passenger on a segregated bus in Montgomery\, Alabama. Her arrest for this act of civil disobedience sparked outrage. This act led to the Montgomery Bus Boycott\, a 381-day mass protest organized by the Montgomery Improvement Association. The boycott eventually led to the U.S. Supreme Court that segregation on public buses was unconstitutional. \nIn 1957\, Rosa Parks and her husband moved to Detroit to escape the threats and economic reprisals they faced in Alabama\, and continued her civil rights activism in Detroit. \nParks received numerous awards for her contributions\, including the Presidential Medal of Freedom (1996) and the Congressional Gold Medal (1999). Rosa Parks passed away on October 24\, 2005\, at the age of 92\, in Detroit\, Michigan.
URL:https://excelnotes.com/holiday/mrs-rosa-l-parks-day-alabama/
CATEGORIES:People
ATTACH;FMTTYPE=image/jpeg:https://excelnotes.com/wp-content/uploads/2024/12/Mrs.-Rosa-L.-Parks.jpg
END:VEVENT
END:VCALENDAR