BEGIN:VCALENDAR
VERSION:2.0
PRODID:-//ExcelNotes - ECPv6.15.20//NONSGML v1.0//EN
CALSCALE:GREGORIAN
METHOD:PUBLISH
X-WR-CALNAME:ExcelNotes
X-ORIGINAL-URL:https://excelnotes.com
X-WR-CALDESC:Events for ExcelNotes
REFRESH-INTERVAL;VALUE=DURATION:PT1H
X-Robots-Tag:noindex
X-PUBLISHED-TTL:PT1H
BEGIN:VTIMEZONE
TZID:America/New_York
BEGIN:DAYLIGHT
TZOFFSETFROM:-0500
TZOFFSETTO:-0400
TZNAME:EDT
DTSTART:20240310T070000
END:DAYLIGHT
BEGIN:STANDARD
TZOFFSETFROM:-0400
TZOFFSETTO:-0500
TZNAME:EST
DTSTART:20241103T060000
END:STANDARD
BEGIN:DAYLIGHT
TZOFFSETFROM:-0500
TZOFFSETTO:-0400
TZNAME:EDT
DTSTART:20250309T070000
END:DAYLIGHT
BEGIN:STANDARD
TZOFFSETFROM:-0400
TZOFFSETTO:-0500
TZNAME:EST
DTSTART:20251102T060000
END:STANDARD
BEGIN:DAYLIGHT
TZOFFSETFROM:-0500
TZOFFSETTO:-0400
TZNAME:EDT
DTSTART:20260308T070000
END:DAYLIGHT
BEGIN:STANDARD
TZOFFSETFROM:-0400
TZOFFSETTO:-0500
TZNAME:EST
DTSTART:20261101T060000
END:STANDARD
END:VTIMEZONE
BEGIN:VEVENT
DTSTART;VALUE=DATE:20251130
DTEND;VALUE=DATE:20251201
DTSTAMP:20260421T205708
CREATED:20250914T002659Z
LAST-MODIFIED:20250914T002659Z
UID:10000553-1764460800-1764547199@excelnotes.com
SUMMARY:Bonifacio Day
DESCRIPTION:Bonifacio Day commemorates the birth of Andres Bonifacio\, founder of the Katipunan and leader of the 1896 Philippine Revolution. It celebrates his heroism\, patriotism\, and the spirit of the Filipino people's struggle for independence. \nWhen is Bonifacio Day?\nBonifacio Day in Philippines is celebrated every year on November 30.  \nThe following is the list of Bonifacio Day from 2020 to 2049. \n   \n\n                \n                \n                            \n                            \n                            \n                    \n        \n\n                                                        HolidayDateWeekday\n\n\n\n        \n            Bonifacio DayNov 30\, 2020Monday        \n            \n            Bonifacio DayNov 30\, 2021Tuesday        \n            \n            Bonifacio DayNov 30\, 2022Wednesday        \n            \n            Bonifacio DayNov 30\, 2023Thursday        \n            \n            Bonifacio DayNov 30\, 2024Saturday        \n            \n            Bonifacio DayNov 30\, 2025Sunday        \n            \n            Bonifacio DayNov 30\, 2026Monday        \n            \n            Bonifacio DayNov 30\, 2027Tuesday        \n            \n            Bonifacio DayNov 30\, 2028Thursday        \n            \n            Bonifacio DayNov 30\, 2029Friday        \n            \n            Bonifacio DayNov 30\, 2030Saturday        \n            \n            Bonifacio DayNov 30\, 2031Sunday        \n            \n            Bonifacio DayNov 30\, 2032Tuesday        \n            \n            Bonifacio DayNov 30\, 2033Wednesday        \n            \n            Bonifacio DayNov 30\, 2034Thursday        \n            \n            Bonifacio DayNov 30\, 2035Friday        \n            \n            Bonifacio DayNov 30\, 2036Sunday        \n            \n            Bonifacio DayNov 30\, 2037Monday        \n            \n            Bonifacio DayNov 30\, 2038Tuesday        \n            \n            Bonifacio DayNov 30\, 2039Wednesday        \n            \n            Bonifacio DayNov 30\, 2040Friday        \n            \n            Bonifacio DayNov 30\, 2041Saturday        \n            \n            Bonifacio DayNov 30\, 2042Sunday        \n            \n            Bonifacio DayNov 30\, 2043Monday        \n            \n            Bonifacio DayNov 30\, 2044Wednesday        \n            \n            Bonifacio DayNov 30\, 2045Thursday        \n            \n            Bonifacio DayNov 30\, 2046Friday        \n            \n            Bonifacio DayNov 30\, 2047Saturday        \n            \n            Bonifacio DayNov 30\, 2048Monday        \n            \n            Bonifacio DayNov 30\, 2049Tuesday        \n    \n    \n    \n    \n    \n\n\nThe History of Bonifacio Day?\nAndres Bonifacio (born November 30\, 1863) is known as the Father of the Philippine Revolution. Coming from humble origins\, he worked as a warehouse clerk and laborer but was deeply influenced by the nationalist writings of José Rizal. \nIn 1892\, Bonifacio co-founded the Kataas-taasan\, Kagalang-galangang Katipunan ng mga Anak ng Bayan (Katipunan)\, a secret revolutionary society that sought Philippine independence from Spain. \nUnlike Rizal\, who pushed for peaceful reform\, Bonifacio believed that only armed revolution could free the Philippines. Under his leadership\, the Katipunan grew into a mass movement and launched the Philippine Revolution on August 23\, 1896\, also known as the Cry of Pugad Lawin. \nAfter Philippine independence\, there was recognition of the need to honor the heroes of the revolution. In 1921\, the Philippine Legislature passed a law officially declaring November 30 (Bonifacio's birthday) as a holiday. \nUnlike Rizal Day (December 30\, marking Rizal's death)\, Bonifacio Day commemorates his birth\, symbolizing beginnings and the revolutionary spirit. \nBonifacio Day pays tribute not only to Bonifacio but also to the working-class roots of the independence movement.
URL:https://excelnotes.com/holiday/bonifacio-day/
CATEGORIES:People
ATTACH;FMTTYPE=image/jpeg:https://excelnotes.com/wp-content/uploads/2025/09/Bonifacio-Day.jpg
END:VEVENT
END:VCALENDAR