BEGIN:VCALENDAR
VERSION:2.0
PRODID:-//ExcelNotes - ECPv6.15.20//NONSGML v1.0//EN
CALSCALE:GREGORIAN
METHOD:PUBLISH
X-WR-CALNAME:ExcelNotes
X-ORIGINAL-URL:https://excelnotes.com
X-WR-CALDESC:Events for ExcelNotes
REFRESH-INTERVAL;VALUE=DURATION:PT1H
X-Robots-Tag:noindex
X-PUBLISHED-TTL:PT1H
BEGIN:VTIMEZONE
TZID:America/New_York
BEGIN:DAYLIGHT
TZOFFSETFROM:-0500
TZOFFSETTO:-0400
TZNAME:EDT
DTSTART:20240310T070000
END:DAYLIGHT
BEGIN:STANDARD
TZOFFSETFROM:-0400
TZOFFSETTO:-0500
TZNAME:EST
DTSTART:20241103T060000
END:STANDARD
BEGIN:DAYLIGHT
TZOFFSETFROM:-0500
TZOFFSETTO:-0400
TZNAME:EDT
DTSTART:20250309T070000
END:DAYLIGHT
BEGIN:STANDARD
TZOFFSETFROM:-0400
TZOFFSETTO:-0500
TZNAME:EST
DTSTART:20251102T060000
END:STANDARD
BEGIN:DAYLIGHT
TZOFFSETFROM:-0500
TZOFFSETTO:-0400
TZNAME:EDT
DTSTART:20260308T070000
END:DAYLIGHT
BEGIN:STANDARD
TZOFFSETFROM:-0400
TZOFFSETTO:-0500
TZNAME:EST
DTSTART:20261101T060000
END:STANDARD
END:VTIMEZONE
BEGIN:VEVENT
DTSTART;TZID=America/New_York:20251102T080000
DTEND;TZID=America/New_York:20251102T170000
DTSTAMP:20260421T011531
CREATED:20251103T022249Z
LAST-MODIFIED:20251103T022249Z
UID:10000738-1762070400-1762102800@excelnotes.com
SUMMARY:V.C. Bird Day
DESCRIPTION:V.C. Bird Day in Antigua and Barbuda honours Sir Vere Cornwall Bird Sr.\, the nation's first Prime Minister and a central figure in its journey to independence. Widely regarded as the "Father of the Nation\," Sir Vere Bird led the labour movement that improved workers' rights and guided the country from colonial rule to self-government and independence in 1981. \nWhen is V.C. Bird Day?\nV.C. Bird Day in Antigua and Barbuda is celebrated on December 9 each year.  \nThe following is the list of V.C. Bird Day from 2020 to 2049. \n   \n\n                \n                \n                            \n                            \n                            \n                    \n        \n\n                                                        HolidayDateWeekday\n\n\n\n        \n            V.C. Bird DayDec 09\, 2020Wednesday        \n            \n            V.C. Bird DayDec 09\, 2021Thursday        \n            \n            V.C. Bird DayDec 09\, 2022Friday        \n            \n            V.C. Bird DayDec 09\, 2023Saturday        \n            \n            V.C. Bird DayDec 09\, 2024Monday        \n            \n            V.C. Bird DayDec 09\, 2025Tuesday        \n            \n            V.C. Bird DayDec 09\, 2026Wednesday        \n            \n            V.C. Bird DayDec 09\, 2027Thursday        \n            \n            V.C. Bird DayDec 09\, 2028Saturday        \n            \n            V.C. Bird DayDec 09\, 2029Sunday        \n            \n            V.C. Bird DayDec 09\, 2030Monday        \n            \n            V.C. Bird DayDec 09\, 2031Tuesday        \n            \n            V.C. Bird DayDec 09\, 2032Thursday        \n            \n            V.C. Bird DayDec 09\, 2033Friday        \n            \n            V.C. Bird DayDec 09\, 2034Saturday        \n            \n            V.C. Bird DayDec 09\, 2035Sunday        \n            \n            V.C. Bird DayDec 09\, 2036Tuesday        \n            \n            V.C. Bird DayDec 09\, 2037Wednesday        \n            \n            V.C. Bird DayDec 09\, 2038Thursday        \n            \n            V.C. Bird DayDec 09\, 2039Friday        \n            \n            V.C. Bird DayDec 09\, 2040Sunday        \n            \n            V.C. Bird DayDec 09\, 2041Monday        \n            \n            V.C. Bird DayDec 09\, 2042Tuesday        \n            \n            V.C. Bird DayDec 09\, 2043Wednesday        \n            \n            V.C. Bird DayDec 09\, 2044Friday        \n            \n            V.C. Bird DayDec 09\, 2045Saturday        \n            \n            V.C. Bird DayDec 09\, 2046Sunday        \n            \n            V.C. Bird DayDec 09\, 2047Monday        \n            \n            V.C. Bird DayDec 09\, 2048Wednesday        \n            \n            V.C. Bird DayDec 09\, 2049Thursday        \n    \n    \n    \n    \n    \n\n\nThe History of V.C. Bird Day?\nV.C. Bird Day celebrates the life and legacy of Sir Vere Cornwall Bird Sr.\, one of Antigua and Barbuda's most influential political leaders and the country's first Prime Minister. Often called the "Father of the Nation"\, his leadership shaped the twin-island state's transformation from colonial rule to full independence. \nSir Vere Bird was born on December 9\, 1910\, in St. John's\, Antigua. Coming from humble beginnings\, he rose to prominence in the 1930s and 1940s as a labour activist and advocate for workers' rights. During this period\, working conditions on the sugar plantations were extremely harsh\, with low wages and limited freedoms for the predominantly Black labour force. Bird became a founding member of the Antigua Trades and Labour Union (ATLU) in 1939\, which played a pivotal role in improving wages\, working hours\, and living standards for Antiguans and Barbudans. \nTransitioning from union leadership to politics\, Bird led the Antigua Labour Party (ALP)\, established in 1946\, and became the central figure in the islands' political development. Under his leadership\, Antigua gained self-government in 1967 and ultimately achieved independence from Britain on November 1\, 1981\, with Bird serving as the independent nation's first Prime Minister. \nFollowing his retirement from politics in 1994 and his passing in 1999\, the government declared December 9\, his birthday\, a national public holiday known as V.C. Bird Day. The day honors his immense contributions to the country's social progress\, labour movement\, and nation-building efforts. \nToday\, V.C. Bird Day is marked by official ceremonies\, speeches and cultural events across Antigua and Barbuda. Citizens pay tribute at his statue in St. John's\, schools host educational programs\, and communities reflect on the values of leadership\, perseverance\, and unity that defined Sir Vere Cornwall Bird's remarkable life and legacy.
URL:https://excelnotes.com/holiday/v-c-bird-day/
CATEGORIES:Leader
ATTACH;FMTTYPE=image/jpeg:https://excelnotes.com/wp-content/uploads/2025/11/V.C.-Bird-Day.jpg
END:VEVENT
END:VCALENDAR