BEGIN:VCALENDAR
VERSION:2.0
PRODID:-//ExcelNotes - ECPv6.15.20//NONSGML v1.0//EN
CALSCALE:GREGORIAN
METHOD:PUBLISH
X-WR-CALNAME:ExcelNotes
X-ORIGINAL-URL:https://excelnotes.com
X-WR-CALDESC:Events for ExcelNotes
REFRESH-INTERVAL;VALUE=DURATION:PT1H
X-Robots-Tag:noindex
X-PUBLISHED-TTL:PT1H
BEGIN:VTIMEZONE
TZID:America/New_York
BEGIN:DAYLIGHT
TZOFFSETFROM:-0500
TZOFFSETTO:-0400
TZNAME:EDT
DTSTART:20240310T070000
END:DAYLIGHT
BEGIN:STANDARD
TZOFFSETFROM:-0400
TZOFFSETTO:-0500
TZNAME:EST
DTSTART:20241103T060000
END:STANDARD
BEGIN:DAYLIGHT
TZOFFSETFROM:-0500
TZOFFSETTO:-0400
TZNAME:EDT
DTSTART:20250309T070000
END:DAYLIGHT
BEGIN:STANDARD
TZOFFSETFROM:-0400
TZOFFSETTO:-0500
TZNAME:EST
DTSTART:20251102T060000
END:STANDARD
BEGIN:DAYLIGHT
TZOFFSETFROM:-0500
TZOFFSETTO:-0400
TZNAME:EDT
DTSTART:20260308T070000
END:DAYLIGHT
BEGIN:STANDARD
TZOFFSETFROM:-0400
TZOFFSETTO:-0500
TZNAME:EST
DTSTART:20261101T060000
END:STANDARD
END:VTIMEZONE
BEGIN:VEVENT
DTSTART;VALUE=DATE:20251101
DTEND;VALUE=DATE:20251102
DTSTAMP:20260421T025027
CREATED:20250421T015845Z
LAST-MODIFIED:20250421T015845Z
UID:10000279-1761955200-1762041599@excelnotes.com
SUMMARY:Liberty Day
DESCRIPTION:Liberty Day\, also known as D. Hamilton Jackson Day\, is celebrated in the U.S. Virgin Islands\, and it honors the birthday of D. Hamilton Jackson\, a revered civil rights leader who played a key role in advancing freedom of speech\, workers' rights\, and local autonomy during the early 20th century. \nWhen is Liberty Day?\nLiberty Day is observed on November 1 each year.  \nThe following is the list of Liberty Day from 2020 to 2049. \n   \n\n                \n                \n                            \n                            \n                            \n                    \n        \n\n                                                        HolidayDateWeekday\n\n\n\n        \n            Liberty DayNov 01\, 2020Sunday        \n            \n            Liberty DayNov 01\, 2021Monday        \n            \n            Liberty DayNov 01\, 2022Tuesday        \n            \n            Liberty DayNov 01\, 2023Wednesday        \n            \n            Liberty DayNov 01\, 2024Friday        \n            \n            Liberty DayNov 01\, 2025Saturday        \n            \n            Liberty DayNov 01\, 2026Sunday        \n            \n            Liberty DayNov 01\, 2027Monday        \n            \n            Liberty DayNov 01\, 2028Wednesday        \n            \n            Liberty DayNov 01\, 2029Thursday        \n            \n            Liberty DayNov 01\, 2030Friday        \n            \n            Liberty DayNov 01\, 2031Saturday        \n            \n            Liberty DayNov 01\, 2032Monday        \n            \n            Liberty DayNov 01\, 2033Tuesday        \n            \n            Liberty DayNov 01\, 2034Wednesday        \n            \n            Liberty DayNov 01\, 2035Thursday        \n            \n            Liberty DayNov 01\, 2036Saturday        \n            \n            Liberty DayNov 01\, 2037Sunday        \n            \n            Liberty DayNov 01\, 2038Monday        \n            \n            Liberty DayNov 01\, 2039Tuesday        \n            \n            Liberty DayNov 01\, 2040Thursday        \n            \n            Liberty DayNov 01\, 2041Friday        \n            \n            Liberty DayNov 01\, 2042Saturday        \n            \n            Liberty DayNov 01\, 2043Sunday        \n            \n            Liberty DayNov 01\, 2044Tuesday        \n            \n            Liberty DayNov 01\, 2045Wednesday        \n            \n            Liberty DayNov 01\, 2046Thursday        \n            \n            Liberty DayNov 01\, 2047Friday        \n            \n            Liberty DayNov 01\, 2048Sunday        \n            \n            Liberty DayNov 01\, 2049Monday        \n    \n    \n    \n    \n    \n\n\nThe History of Liberty Day?\nLiberty Day commemorates David Hamilton Jackson's fight for free speech\, workers' rights\, and social justice during the colonial era. \nBorn on November 1\, 1884\, on St. Croix\, Jackson became one of the most influential figures in the Danish West Indies (the former name of the Virgin Islands). At a time when Denmark ruled the islands\, basic rights like freedom of the press\, workers' protections\, and civil liberties were denied to the local population\, particularly those of African descent. \nJackson\, a gifted speaker and advocate\, dedicated his life to challenging the colonial system and improving the lives of ordinary Virgin Islanders. \nIn 1915\, Jackson traveled to Denmark and successfully petitioned for the repeal of press censorship in the Danish colonies. Later that year\, he founded The Herald\, the first free newspaper in the Virgin Islands. He also organized the first labor union\, giving a voice to working-class people who had long been ignored. \nIn recognition of his work\, his birthday November 1 was declared Liberty Day\, symbolizing the freedom of the press and the dignity of labor. David Hamilton Jackson is remembered as a foundational figure in Virgin Islands civil rights history.
URL:https://excelnotes.com/holiday/liberty-day/
CATEGORIES:People
ATTACH;FMTTYPE=image/jpeg:https://excelnotes.com/wp-content/uploads/2025/04/Liberty-Day.jpg
END:VEVENT
END:VCALENDAR