BEGIN:VCALENDAR
VERSION:2.0
PRODID:-//ExcelNotes - ECPv6.15.20//NONSGML v1.0//EN
CALSCALE:GREGORIAN
METHOD:PUBLISH
X-WR-CALNAME:ExcelNotes
X-ORIGINAL-URL:https://excelnotes.com
X-WR-CALDESC:Events for ExcelNotes
REFRESH-INTERVAL;VALUE=DURATION:PT1H
X-Robots-Tag:noindex
X-PUBLISHED-TTL:PT1H
BEGIN:VTIMEZONE
TZID:America/New_York
BEGIN:DAYLIGHT
TZOFFSETFROM:-0500
TZOFFSETTO:-0400
TZNAME:EDT
DTSTART:20240310T070000
END:DAYLIGHT
BEGIN:STANDARD
TZOFFSETFROM:-0400
TZOFFSETTO:-0500
TZNAME:EST
DTSTART:20241103T060000
END:STANDARD
BEGIN:DAYLIGHT
TZOFFSETFROM:-0500
TZOFFSETTO:-0400
TZNAME:EDT
DTSTART:20250309T070000
END:DAYLIGHT
BEGIN:STANDARD
TZOFFSETFROM:-0400
TZOFFSETTO:-0500
TZNAME:EST
DTSTART:20251102T060000
END:STANDARD
BEGIN:DAYLIGHT
TZOFFSETFROM:-0500
TZOFFSETTO:-0400
TZNAME:EDT
DTSTART:20260308T070000
END:DAYLIGHT
BEGIN:STANDARD
TZOFFSETFROM:-0400
TZOFFSETTO:-0500
TZNAME:EST
DTSTART:20261101T060000
END:STANDARD
END:VTIMEZONE
BEGIN:VEVENT
DTSTART;VALUE=DATE:20251020
DTEND;VALUE=DATE:20251021
DTSTAMP:20260421T011442
CREATED:20251001T040249Z
LAST-MODIFIED:20251001T040249Z
UID:10000613-1760918400-1761004799@excelnotes.com
SUMMARY:Heroes and Forefathers Day
DESCRIPTION:Heroes and Forefathers Day is a public holiday in the British Virgin Islands honoring the territory's national heroes\, leaders and ancestors\, celebrating their resilience\, contributions and cultural legacy. \nWhen is Heroes and Forefathers Day?\nHeroes and Forefathers Day is observed on the third Monday in October.  \nThe following is the list of Heroes and Forefathers Day from 2020 to 2049. \n   \n\n                \n                \n                            \n                            \n                            \n                    \n        \n\n                                                        HolidayDateWeekday\n\n\n\n        \n            Heroes and Forefathers DayOct 18\, 2021Monday        \n            \n            Heroes and Forefathers DayOct 17\, 2022Monday        \n            \n            Heroes and Forefathers DayOct 16\, 2023Monday        \n            \n            Heroes and Forefathers DayOct 21\, 2024Monday        \n            \n            Heroes and Forefathers DayOct 20\, 2025Monday        \n            \n            Heroes and Forefathers DayOct 19\, 2026Monday        \n            \n            Heroes and Forefathers DayOct 18\, 2027Monday        \n            \n            Heroes and Forefathers DayOct 16\, 2028Monday        \n            \n            Heroes and Forefathers DayOct 15\, 2029Monday        \n            \n            Heroes and Forefathers DayOct 21\, 2030Monday        \n            \n            Heroes and Forefathers DayOct 20\, 2031Monday        \n            \n            Heroes and Forefathers DayOct 18\, 2032Monday        \n            \n            Heroes and Forefathers DayOct 17\, 2033Monday        \n            \n            Heroes and Forefathers DayOct 16\, 2034Monday        \n            \n            Heroes and Forefathers DayOct 15\, 2035Monday        \n            \n            Heroes and Forefathers DayOct 20\, 2036Monday        \n            \n            Heroes and Forefathers DayOct 19\, 2037Monday        \n            \n            Heroes and Forefathers DayOct 18\, 2038Monday        \n            \n            Heroes and Forefathers DayOct 17\, 2039Monday        \n            \n            Heroes and Forefathers DayOct 15\, 2040Monday        \n            \n            Heroes and Forefathers DayOct 21\, 2041Monday        \n            \n            Heroes and Forefathers DayOct 20\, 2042Monday        \n            \n            Heroes and Forefathers DayOct 19\, 2043Monday        \n            \n            Heroes and Forefathers DayOct 17\, 2044Monday        \n            \n            Heroes and Forefathers DayOct 16\, 2045Monday        \n            \n            Heroes and Forefathers DayOct 15\, 2046Monday        \n            \n            Heroes and Forefathers DayOct 21\, 2047Monday        \n            \n            Heroes and Forefathers DayOct 19\, 2048Monday        \n            \n            Heroes and Forefathers DayOct 18\, 2049Monday        \n    \n    \n    \n    \n    \n\n\nThe History of Heroes and Forefathers Day?\nFor many years\, the British Virgin Islands observed Columbus Day in October\, like several other Caribbean and U.S. territories. The day honored Christopher Columbus' 1493 landing in the Virgin Islands\, a moment that marked the beginning of European colonization but also the displacement and suffering of Indigenous peoples. \nOver time\, many in the Virgin Islands questioned the relevance of Columbus Day\, noting that it celebrated colonial history rather than the achievements and struggles of Virgin Islanders themselves. \nIn line with a global movement to replace colonial holidays with ones honoring local heritage\, the BVI began to explore alternatives that would better reflect the territory's identity. \nIn 2020\, the Government of the Virgin Islands officially replaced Columbus Day with Heroes and Forefathers Day\, to be observed on the third Monday in October. The change was meant to honor the forefathers\, national heroes\, and leaders of the Virgin Islands who shaped the community through their vision\, resilience and leadership. \nIt also recognized the ordinary men and women whose work and sacrifices contributed to the territory's survival and progress. \nThe holiday shifts focus away from colonial figures like Columbus and instead centers the narrative on the Virgin Islands' own people. It reinforces pride in local history\, encourages the younger generation to learn about their heritage\, and celebrates the values of strength\, resilience and leadership that define the BVI.
URL:https://excelnotes.com/holiday/heroes-and-forefathers-day/
CATEGORIES:People
ATTACH;FMTTYPE=image/jpeg:https://excelnotes.com/wp-content/uploads/2025/09/Heroes-and-Forefathers-Day.jpg
END:VEVENT
END:VCALENDAR