BEGIN:VCALENDAR
VERSION:2.0
PRODID:-//ExcelNotes - ECPv6.15.20//NONSGML v1.0//EN
CALSCALE:GREGORIAN
METHOD:PUBLISH
X-WR-CALNAME:ExcelNotes
X-ORIGINAL-URL:https://excelnotes.com
X-WR-CALDESC:Events for ExcelNotes
REFRESH-INTERVAL;VALUE=DURATION:PT1H
X-Robots-Tag:noindex
X-PUBLISHED-TTL:PT1H
BEGIN:VTIMEZONE
TZID:America/New_York
BEGIN:DAYLIGHT
TZOFFSETFROM:-0500
TZOFFSETTO:-0400
TZNAME:EDT
DTSTART:20240310T070000
END:DAYLIGHT
BEGIN:STANDARD
TZOFFSETFROM:-0400
TZOFFSETTO:-0500
TZNAME:EST
DTSTART:20241103T060000
END:STANDARD
BEGIN:DAYLIGHT
TZOFFSETFROM:-0500
TZOFFSETTO:-0400
TZNAME:EDT
DTSTART:20250309T070000
END:DAYLIGHT
BEGIN:STANDARD
TZOFFSETFROM:-0400
TZOFFSETTO:-0500
TZNAME:EST
DTSTART:20251102T060000
END:STANDARD
BEGIN:DAYLIGHT
TZOFFSETFROM:-0500
TZOFFSETTO:-0400
TZNAME:EDT
DTSTART:20260308T070000
END:DAYLIGHT
BEGIN:STANDARD
TZOFFSETFROM:-0400
TZOFFSETTO:-0500
TZNAME:EST
DTSTART:20261101T060000
END:STANDARD
END:VTIMEZONE
BEGIN:VEVENT
DTSTART;VALUE=DATE:20251001
DTEND;VALUE=DATE:20251002
DTSTAMP:20260420T165935
CREATED:20250420T203722Z
LAST-MODIFIED:20250420T203722Z
UID:10000274-1759276800-1759363199@excelnotes.com
SUMMARY:Teachers' Day (Uzbekistan)
DESCRIPTION:Teachers' Day in Uzbekistan is a national holiday dedicated to honoring the hard work\, dedication\, and influence of teachers and mentors across the country. Unlike many other countries that observe International Teachers' Day on October 5\, Uzbekistan has its own unique date that reflects the high cultural and societal respect for educators. \nWhen is Teachers' Day?\nTeachers' Day is celebrated on October 1 every year. \nThe following is the list of Teachers' Day from 2020 to 2049. \n   \n\n                \n                \n                            \n                            \n                            \n                    \n        \n\n                                                        HolidayDateWeekday\n\n\n\n        \n            Teachers' DayOct 01\, 2020Thursday        \n            \n            Teachers' DayOct 01\, 2021Friday        \n            \n            Teachers' DayOct 01\, 2022Saturday        \n            \n            Teachers' DayOct 01\, 2023Sunday        \n            \n            Teachers' DayOct 01\, 2024Tuesday        \n            \n            Teachers' DayOct 01\, 2025Wednesday        \n            \n            Teachers' DayOct 01\, 2026Thursday        \n            \n            Teachers' DayOct 01\, 2027Friday        \n            \n            Teachers' DayOct 01\, 2028Sunday        \n            \n            Teachers' DayOct 01\, 2029Monday        \n            \n            Teachers' DayOct 01\, 2030Tuesday        \n            \n            Teachers' DayOct 01\, 2031Wednesday        \n            \n            Teachers' DayOct 01\, 2032Friday        \n            \n            Teachers' DayOct 01\, 2033Saturday        \n            \n            Teachers' DayOct 01\, 2034Sunday        \n            \n            Teachers' DayOct 01\, 2035Monday        \n            \n            Teachers' DayOct 01\, 2036Wednesday        \n            \n            Teachers' DayOct 01\, 2037Thursday        \n            \n            Teachers' DayOct 01\, 2038Friday        \n            \n            Teachers' DayOct 01\, 2039Saturday        \n            \n            Teachers' DayOct 01\, 2040Monday        \n            \n            Teachers' DayOct 01\, 2041Tuesday        \n            \n            Teachers' DayOct 01\, 2042Wednesday        \n            \n            Teachers' DayOct 01\, 2043Thursday        \n            \n            Teachers' DayOct 01\, 2044Saturday        \n            \n            Teachers' DayOct 01\, 2045Sunday        \n            \n            Teachers' DayOct 01\, 2046Monday        \n            \n            Teachers' DayOct 01\, 2047Tuesday        \n            \n            Teachers' DayOct 01\, 2048Thursday        \n            \n            Teachers' DayOct 01\, 2049Friday        \n    \n    \n    \n    \n    \n\n\nThe History of Teachers' Day?\nIn Central Asian culture\, teachers have always been held in high regard – not just as instructors\, but as moral and spiritual mentors. In Islamic tradition\, the teacher-student relationship is sacred\, with a strong emphasis on knowledge\, respect\, and discipline. These values were preserved throughout centuries in madrasahs (Islamic schools)\, and later modern educational institutions. \nFollowing Uzbekistan's independence in 1991\, there was a national movement to rebuild the country's identity\, including a strong focus on education and cultural values. \nIn 1997\, the government officially declared October 1 as "Teachers and Mentors Day" (Ustoz va Murabbiylar Kuni) through a presidential decree. \nThe holiday was established to recognize the pivotal role educators play in shaping the future generation\, strengthening national consciousness\, and fostering development. \nTeachers' Day is not just limited to honoring schoolteachers\, it includes university lecturers\, trainers\, mentors\, and others involved in personal and intellectual development. \nOn this day\, state awards and honors are given to outstanding educators\, and many schools host ceremonies\, concerts\, and reunions. Leaders\, including the President of Uzbekistan\, often issue formal messages recognizing the dedication and contributions of teachers.
URL:https://excelnotes.com/holiday/teachers-day-uzbekistan/
CATEGORIES:People
ATTACH;FMTTYPE=image/jpeg:https://excelnotes.com/wp-content/uploads/2025/04/Teachers-Day-Uzbekistan.jpg
END:VEVENT
END:VCALENDAR