BEGIN:VCALENDAR
VERSION:2.0
PRODID:-//ExcelNotes - ECPv6.15.20//NONSGML v1.0//EN
CALSCALE:GREGORIAN
METHOD:PUBLISH
X-WR-CALNAME:ExcelNotes
X-ORIGINAL-URL:https://excelnotes.com
X-WR-CALDESC:Events for ExcelNotes
REFRESH-INTERVAL;VALUE=DURATION:PT1H
X-Robots-Tag:noindex
X-PUBLISHED-TTL:PT1H
BEGIN:VTIMEZONE
TZID:America/New_York
BEGIN:DAYLIGHT
TZOFFSETFROM:-0500
TZOFFSETTO:-0400
TZNAME:EDT
DTSTART:20240310T070000
END:DAYLIGHT
BEGIN:STANDARD
TZOFFSETFROM:-0400
TZOFFSETTO:-0500
TZNAME:EST
DTSTART:20241103T060000
END:STANDARD
BEGIN:DAYLIGHT
TZOFFSETFROM:-0500
TZOFFSETTO:-0400
TZNAME:EDT
DTSTART:20250309T070000
END:DAYLIGHT
BEGIN:STANDARD
TZOFFSETFROM:-0400
TZOFFSETTO:-0500
TZNAME:EST
DTSTART:20251102T060000
END:STANDARD
BEGIN:DAYLIGHT
TZOFFSETFROM:-0500
TZOFFSETTO:-0400
TZNAME:EDT
DTSTART:20260308T070000
END:DAYLIGHT
BEGIN:STANDARD
TZOFFSETFROM:-0400
TZOFFSETTO:-0500
TZNAME:EST
DTSTART:20261101T060000
END:STANDARD
END:VTIMEZONE
BEGIN:VEVENT
DTSTART;VALUE=DATE:20250926
DTEND;VALUE=DATE:20250927
DTSTAMP:20260420T203247
CREATED:20250425T045636Z
LAST-MODIFIED:20250425T045636Z
UID:10000307-1758844800-1758931199@excelnotes.com
SUMMARY:National Youth Day (TCI)
DESCRIPTION:National Youth Day in the Turks and Caicos Islands (TCI) honors the vital role of youth in TCI's society and future. With approximately one-third of the population under the age of 15\, National Youth Day recognizes young people's contributions and potential in shaping the nation's development. ​ \nWhen is National Youth Day?\nNational Youth Day is observed annually on the last Friday of September.  \nThe following is the list of National Youth Day from 2020 to 2049. \n   \n\n                \n                \n                            \n                            \n                            \n                    \n        \n\n                                                        HolidayDateWeekday\n\n\n\n        \n            National Youth DaySep 25\, 2020Friday        \n            \n            National Youth DaySep 24\, 2021Friday        \n            \n            National Youth DaySep 30\, 2022Friday        \n            \n            National Youth DaySep 29\, 2023Friday        \n            \n            National Youth DaySep 27\, 2024Friday        \n            \n            National Youth DaySep 26\, 2025Friday        \n            \n            National Youth DaySep 25\, 2026Friday        \n            \n            National Youth DaySep 24\, 2027Friday        \n            \n            National Youth DaySep 29\, 2028Friday        \n            \n            National Youth DaySep 28\, 2029Friday        \n            \n            National Youth DaySep 27\, 2030Friday        \n            \n            National Youth DaySep 26\, 2031Friday        \n            \n            National Youth DaySep 24\, 2032Friday        \n            \n            National Youth DaySep 30\, 2033Friday        \n            \n            National Youth DaySep 29\, 2034Friday        \n            \n            National Youth DaySep 28\, 2035Friday        \n            \n            National Youth DaySep 26\, 2036Friday        \n            \n            National Youth DaySep 25\, 2037Friday        \n            \n            National Youth DaySep 24\, 2038Friday        \n            \n            National Youth DaySep 30\, 2039Friday        \n            \n            National Youth DaySep 28\, 2040Friday        \n            \n            National Youth DaySep 27\, 2041Friday        \n            \n            National Youth DaySep 26\, 2042Friday        \n            \n            National Youth DaySep 25\, 2043Friday        \n            \n            National Youth DaySep 30\, 2044Friday        \n            \n            National Youth DaySep 29\, 2045Friday        \n            \n            National Youth DaySep 28\, 2046Friday        \n            \n            National Youth DaySep 27\, 2047Friday        \n            \n            National Youth DaySep 25\, 2048Friday        \n            \n            National Youth DaySep 24\, 2049Friday        \n    \n    \n    \n    \n    \n\n\nThe History of National Youth Day?\nNational Youth Day in the Turks and Caicos Islands (TCI) was officially established in 1987 as a direct result of advocacy by Dr. Earle Fulford\, who was then serving as the Director of Social Services. During a youth rally held that year\, Dr. Fulford made a passionate appeal to the government\, urging them to move beyond symbolic gestures and formally recognize the contributions and potential of the country's young people. \nAt that time\, youth made up about 80% of the population\, and yet there was no dedicated Department of Youth or National Youth Council. Dr. Fulford's call to action challenged the leadership to invest meaningfully in the development and recognition of youth\, including the creation of platforms and institutions that would support their growth. \nAs a result of this push\, National Youth Day was proclaimed\, and it has since been observed annually on the last Friday of September. The day celebrates the value\, energy\, and promise of TCI's youth and serves as a reminder of the essential role young people play in the nation's present and future.
URL:https://excelnotes.com/holiday/national-youth-day-tci/
CATEGORIES:People
ATTACH;FMTTYPE=image/jpeg:https://excelnotes.com/wp-content/uploads/2025/04/National-Youth-Day-in-the-Turks-and-Caicos-Islands.jpg
END:VEVENT
END:VCALENDAR