BEGIN:VCALENDAR
VERSION:2.0
PRODID:-//ExcelNotes - ECPv6.15.20//NONSGML v1.0//EN
CALSCALE:GREGORIAN
METHOD:PUBLISH
X-WR-CALNAME:ExcelNotes
X-ORIGINAL-URL:https://excelnotes.com
X-WR-CALDESC:Events for ExcelNotes
REFRESH-INTERVAL;VALUE=DURATION:PT1H
X-Robots-Tag:noindex
X-PUBLISHED-TTL:PT1H
BEGIN:VTIMEZONE
TZID:America/New_York
BEGIN:DAYLIGHT
TZOFFSETFROM:-0500
TZOFFSETTO:-0400
TZNAME:EDT
DTSTART:20240310T070000
END:DAYLIGHT
BEGIN:STANDARD
TZOFFSETFROM:-0400
TZOFFSETTO:-0500
TZNAME:EST
DTSTART:20241103T060000
END:STANDARD
BEGIN:DAYLIGHT
TZOFFSETFROM:-0500
TZOFFSETTO:-0400
TZNAME:EDT
DTSTART:20250309T070000
END:DAYLIGHT
BEGIN:STANDARD
TZOFFSETFROM:-0400
TZOFFSETTO:-0500
TZNAME:EST
DTSTART:20251102T060000
END:STANDARD
BEGIN:DAYLIGHT
TZOFFSETFROM:-0500
TZOFFSETTO:-0400
TZNAME:EDT
DTSTART:20260308T070000
END:DAYLIGHT
BEGIN:STANDARD
TZOFFSETFROM:-0400
TZOFFSETTO:-0500
TZNAME:EST
DTSTART:20261101T060000
END:STANDARD
END:VTIMEZONE
BEGIN:VEVENT
DTSTART;VALUE=DATE:20250827
DTEND;VALUE=DATE:20250828
DTSTAMP:20260420T170905
CREATED:20241222T040926Z
LAST-MODIFIED:20250419T021824Z
UID:10000095-1756252800-1756339199@excelnotes.com
SUMMARY:Lyndon Baines Johnson Day
DESCRIPTION:Lyndon Baines Johnson Day is a Texas state holiday commemorating the birth of Lyndon B. Johnson\, the 36th President of the United States. Johnson\, often referred to as LBJ\, played a pivotal role in shaping modern America through his leadership during a transformative era in U.S. history\, marked by civil rights advancements and the escalation of the Vietnam War. \nTable of Contents\n\nWhen is Lyndon Baines Johnson Day?\nThe History of Lyndon Baines Johnson Day?\nWhat Do People Do on This Day?\nWho is Lyndon Baines Johnson\n\nWhen is Lyndon Baines Johnson Day?\nLyndon Baines Johnson Day is observed annually on August 27 to celebrate the birthday of Lyndon B. Johnson\, who was born on August 27\, 1908\, in Stonewall\, Texas.  \nThe following is the list of Lyndon Baines Johnson Day from 2020 to 2049. \n  \n\n                \n                \n                            \n                            \n                            \n                    \n        \n\n                                                        HolidayDateWeekday\n\n\n\n        \n            Lyndon Baines Johnson DayAugust 27\, 2020Thursday        \n            \n            Lyndon Baines Johnson DayAugust 27\, 2021Friday        \n            \n            Lyndon Baines Johnson DayAugust 27\, 2022Saturday        \n            \n            Lyndon Baines Johnson DayAugust 27\, 2023Sunday        \n            \n            Lyndon Baines Johnson DayAugust 27\, 2024Tuesday        \n            \n            Lyndon Baines Johnson DayAugust 27\, 2025Wednesday        \n            \n            Lyndon Baines Johnson DayAugust 27\, 2026Thursday        \n            \n            Lyndon Baines Johnson DayAugust 27\, 2027Friday        \n            \n            Lyndon Baines Johnson DayAugust 27\, 2028Sunday        \n            \n            Lyndon Baines Johnson DayAugust 27\, 2029Monday        \n            \n            Lyndon Baines Johnson DayAugust 27\, 2030Tuesday        \n            \n            Lyndon Baines Johnson DayAugust 27\, 2031Wednesday        \n            \n            Lyndon Baines Johnson DayAugust 27\, 2032Friday        \n            \n            Lyndon Baines Johnson DayAugust 27\, 2033Saturday        \n            \n            Lyndon Baines Johnson DayAugust 27\, 2034Sunday        \n            \n            Lyndon Baines Johnson DayAugust 27\, 2035Monday        \n            \n            Lyndon Baines Johnson DayAugust 27\, 2036Wednesday        \n            \n            Lyndon Baines Johnson DayAugust 27\, 2037Thursday        \n            \n            Lyndon Baines Johnson DayAugust 27\, 2038Friday        \n            \n            Lyndon Baines Johnson DayAugust 27\, 2039Saturday        \n            \n            Lyndon Baines Johnson DayAugust 27\, 2040Monday        \n            \n            Lyndon Baines Johnson DayAugust 27\, 2041Tuesday        \n            \n            Lyndon Baines Johnson DayAugust 27\, 2042Wednesday        \n            \n            Lyndon Baines Johnson DayAugust 27\, 2043Thursday        \n            \n            Lyndon Baines Johnson DayAugust 27\, 2044Saturday        \n            \n            Lyndon Baines Johnson DayAugust 27\, 2045Sunday        \n            \n            Lyndon Baines Johnson DayAugust 27\, 2046Monday        \n            \n            Lyndon Baines Johnson DayAugust 27\, 2047Tuesday        \n            \n            Lyndon Baines Johnson DayAugust 27\, 2048Thursday        \n            \n            Lyndon Baines Johnson DayAugust 27\, 2049Friday        \n    \n    \n    \n    \n    \n\n \nThe History of Lyndon Baines Johnson Day?\nLyndon Baines Johnson Day is a Texas state holiday established to honor the life\, legacy\, and achievements of Lyndon B. Johnson (LBJ). \nLyndon Baines Johnson was born on August 27\, 1908\, in Stonewall\, Texas\, Johnson grew up in the Texas Hill Country. His upbringing in a rural area deeply influenced his commitment to improving education\, combating poverty\, and supporting rural development. \nJohnson began his political journey as a U.S. Representative (1937–1949)\, then served as a U.S. Senator (1949–1961)\, where he became Senate Majority Leader. He served as Vice President under President John F. Kennedy before assuming the presidency following Kennedy's assassination in 1963. Johnson's roots in Texas were central to his identity\, and he often returned to his ranch in Stonewall\, known as the Texas White House\, during his presidency. \nFollowing Johnson's death on January 22\, 1973\, the Texas State Legislature established this holiday to honor the 36th President of the United States\, who was a native of Texas. The date\, August 27\, was chosen to coincide with Johnson's birthday. \n   \nWhat Do People Do on This Day?\nOn Lyndon Baines Johnson Day\, Texans honor the life and legacy of Lyndon B. Johnson. Activities and events focus on celebrating his contributions to civil rights\, education\, social welfare\, and the nation as a whole. \nUniversities and community organizations host talks about Johnson's achievements\, focusing on the Civil Rights Act and the Voting Rights Act. Some lessons on Johnson's life and presidency\, emphasizing his impact on American history and Texas culture. \nParades\, cultural events\, and community festivals honor Johnson's roots cross the communities in Texas\, and families and communities share stories about Johnson's legacy and his impact on their lives. \nFamilies and communities come together for traditional Texan meals to celebrate Johnson's life and Texas heritage. \nWho is Lyndon Baines Johnson\nLyndon Baines Johnson\, often referred to as LBJ\, was the 36th President of the United States\, serving from 1963 to 1969. Known for his ambitious domestic agenda\, Johnson shaped modern America through transformative social policies while facing challenges related to the Vietnam War. \nJohnson was born on August 27\, 1908\, in Stonewall\, Texas\, and he grew up in a rural farming community\, experiencing firsthand the challenges of poverty. He graduated from Southwest Texas State Teachers College (now Texas State University) in 1930. \nHe worked as a teacher in low-income communities\, which inspired his lifelong commitment to education and anti-poverty initiatives. Johnson began his political career representing Texas in the House of Representatives from 1937 to 1949\, and rose to become Senate Majority Leader from 1949 to 1961\, known for his effectiveness in building coalitions and passing legislation. \nIn 1961\, Johnson was chosen as John F. Kennedy's running mate\, and he brought Southern support to the ticket. As Vice President\, he focused on space exploration\, civil rights\, and poverty alleviation. In 1963\, he was assumed the presidency after Kennedy's assassination on November 22\, 1963. In 1964\, he won reelection in a landslide victory by defeating Barry Goldwater. \nJohnson chose not to seek reelection in 1968 due to the political and social divisions caused by the Vietnam War. He retired to his ranch in Stonewall\, Texas\, focusing on writing and reflecting on his legacy. Johnson passed away of a heart attack on January 22\, 1973\, at the age of 64.
URL:https://excelnotes.com/holiday/lyndon-baines-johnson-day/
CATEGORIES:Leader
ATTACH;FMTTYPE=image/jpeg:https://excelnotes.com/wp-content/uploads/2020/10/Lyndon-Baines-Johnson-Day.jpg
END:VEVENT
END:VCALENDAR