BEGIN:VCALENDAR
VERSION:2.0
PRODID:-//ExcelNotes - ECPv6.15.20//NONSGML v1.0//EN
CALSCALE:GREGORIAN
METHOD:PUBLISH
X-WR-CALNAME:ExcelNotes
X-ORIGINAL-URL:https://excelnotes.com
X-WR-CALDESC:Events for ExcelNotes
REFRESH-INTERVAL;VALUE=DURATION:PT1H
X-Robots-Tag:noindex
X-PUBLISHED-TTL:PT1H
BEGIN:VTIMEZONE
TZID:America/New_York
BEGIN:DAYLIGHT
TZOFFSETFROM:-0500
TZOFFSETTO:-0400
TZNAME:EDT
DTSTART:20240310T070000
END:DAYLIGHT
BEGIN:STANDARD
TZOFFSETFROM:-0400
TZOFFSETTO:-0500
TZNAME:EST
DTSTART:20241103T060000
END:STANDARD
BEGIN:DAYLIGHT
TZOFFSETFROM:-0500
TZOFFSETTO:-0400
TZNAME:EDT
DTSTART:20250309T070000
END:DAYLIGHT
BEGIN:STANDARD
TZOFFSETFROM:-0400
TZOFFSETTO:-0500
TZNAME:EST
DTSTART:20251102T060000
END:STANDARD
BEGIN:DAYLIGHT
TZOFFSETFROM:-0500
TZOFFSETTO:-0400
TZNAME:EDT
DTSTART:20260308T070000
END:DAYLIGHT
BEGIN:STANDARD
TZOFFSETFROM:-0400
TZOFFSETTO:-0500
TZNAME:EST
DTSTART:20261101T060000
END:STANDARD
END:VTIMEZONE
BEGIN:VEVENT
DTSTART;VALUE=DATE:20250812
DTEND;VALUE=DATE:20250813
DTSTAMP:20260421T011525
CREATED:20250716T025321Z
LAST-MODIFIED:20250717T040304Z
UID:10000389-1754956800-1755043199@excelnotes.com
SUMMARY:Queen Mother's Birthday
DESCRIPTION:The Queen Mother's Birthday in Thailand honors Queen Sirikit\, the Queen Mother of the current monarch\, King Vajiralongkorn (Rama X). It is marking both her birthday and Thailand's official Mother's Day. \nWhen is Queen Mother's Birthday?\nQueen Mother's Birthday is observed each year on August 12. \nThe following is the list of Queen Mother's Birthday from 2020 to 2049. \n   \n\n                \n                \n                            \n                            \n                            \n                    \n        \n\n                                                        HolidayDateWeekday\n\n\n\n        \n            Queen Mother's BirthdayAug 12\, 2020Wednesday        \n            \n            Queen Mother's BirthdayAug 12\, 2021Thursday        \n            \n            Queen Mother's BirthdayAug 12\, 2022Friday        \n            \n            Queen Mother's BirthdayAug 12\, 2023Saturday        \n            \n            Queen Mother's BirthdayAug 12\, 2024Monday        \n            \n            Queen Mother's BirthdayAug 12\, 2025Tuesday        \n            \n            Queen Mother's BirthdayAug 12\, 2026Wednesday        \n            \n            Queen Mother's BirthdayAug 12\, 2027Thursday        \n            \n            Queen Mother's BirthdayAug 12\, 2028Saturday        \n            \n            Queen Mother's BirthdayAug 12\, 2029Sunday        \n            \n            Queen Mother's BirthdayAug 12\, 2030Monday        \n            \n            Queen Mother's BirthdayAug 12\, 2031Tuesday        \n            \n            Queen Mother's BirthdayAug 12\, 2032Thursday        \n            \n            Queen Mother's BirthdayAug 12\, 2033Friday        \n            \n            Queen Mother's BirthdayAug 12\, 2034Saturday        \n            \n            Queen Mother's BirthdayAug 12\, 2035Sunday        \n            \n            Queen Mother's BirthdayAug 12\, 2036Tuesday        \n            \n            Queen Mother's BirthdayAug 12\, 2037Wednesday        \n            \n            Queen Mother's BirthdayAug 12\, 2038Thursday        \n            \n            Queen Mother's BirthdayAug 12\, 2039Friday        \n            \n            Queen Mother's BirthdayAug 12\, 2040Sunday        \n            \n            Queen Mother's BirthdayAug 12\, 2041Monday        \n            \n            Queen Mother's BirthdayAug 12\, 2042Tuesday        \n            \n            Queen Mother's BirthdayAug 12\, 2043Wednesday        \n            \n            Queen Mother's BirthdayAug 12\, 2044Friday        \n            \n            Queen Mother's BirthdayAug 12\, 2045Saturday        \n            \n            Queen Mother's BirthdayAug 12\, 2046Sunday        \n            \n            Queen Mother's BirthdayAug 12\, 2047Monday        \n            \n            Queen Mother's BirthdayAug 12\, 2048Wednesday        \n            \n            Queen Mother's BirthdayAug 12\, 2049Thursday        \n    \n    \n    \n    \n    \n\n\nThe History of Queen Mother's Birthday?\nQueen Sirikit Kitiyakara was born on August 12\, 1932\, in Bangkok\, Thailand. She is the wife of King Bhumibol Adulyadej (Rama IX)\, and mother of King Vajiralongkorn (Rama X). After her husband's passing in 2016\, she became officially known as the Queen Mother of Thailand.  \nBefore 1976\, Mother's Day in Thailand was observed on April 15\, but it was not linked to any royal figure or major national event. \nIn 1976\, the Thai government officially declared August 12 as a national public holiday in honor of Queen Sirikit's birthday. \nAt the same time\, Mother's Day was moved to August 12 to align with her birthday\, recognizing her as the symbolic "Mother of the Nation".
URL:https://excelnotes.com/holiday/queen-mothers-birthday/
CATEGORIES:Leader,People
ATTACH;FMTTYPE=image/jpeg:https://excelnotes.com/wp-content/uploads/2025/07/Queen-Mothers-Birthday.jpg
END:VEVENT
END:VCALENDAR