BEGIN:VCALENDAR
VERSION:2.0
PRODID:-//ExcelNotes - ECPv6.15.20//NONSGML v1.0//EN
CALSCALE:GREGORIAN
METHOD:PUBLISH
X-WR-CALNAME:ExcelNotes
X-ORIGINAL-URL:https://excelnotes.com
X-WR-CALDESC:Events for ExcelNotes
REFRESH-INTERVAL;VALUE=DURATION:PT1H
X-Robots-Tag:noindex
X-PUBLISHED-TTL:PT1H
BEGIN:VTIMEZONE
TZID:America/New_York
BEGIN:DAYLIGHT
TZOFFSETFROM:-0500
TZOFFSETTO:-0400
TZNAME:EDT
DTSTART:20240310T070000
END:DAYLIGHT
BEGIN:STANDARD
TZOFFSETFROM:-0400
TZOFFSETTO:-0500
TZNAME:EST
DTSTART:20241103T060000
END:STANDARD
BEGIN:DAYLIGHT
TZOFFSETFROM:-0500
TZOFFSETTO:-0400
TZNAME:EDT
DTSTART:20250309T070000
END:DAYLIGHT
BEGIN:STANDARD
TZOFFSETFROM:-0400
TZOFFSETTO:-0500
TZNAME:EST
DTSTART:20251102T060000
END:STANDARD
BEGIN:DAYLIGHT
TZOFFSETFROM:-0500
TZOFFSETTO:-0400
TZNAME:EDT
DTSTART:20260308T070000
END:DAYLIGHT
BEGIN:STANDARD
TZOFFSETFROM:-0400
TZOFFSETTO:-0500
TZNAME:EST
DTSTART:20261101T060000
END:STANDARD
END:VTIMEZONE
BEGIN:VEVENT
DTSTART;VALUE=DATE:20250731
DTEND;VALUE=DATE:20250801
DTSTAMP:20260420T000708
CREATED:20250117T024205Z
LAST-MODIFIED:20250419T021833Z
UID:10000190-1753920000-1754006399@excelnotes.com
SUMMARY:Hari Hol Almarhum Sultan Iskandar
DESCRIPTION:Hari Hol Almarhum Sultan Iskandar is observed annually in Johor\, Malaysia\, to commemorate the late Sultan Iskandar's passing.  \nTable of Contents\n\nWhen is Hari Hol Almarhum Sultan Iskandar?\nThe History of Hari Hol Almarhum Sultan Iskandar\nWhat Do People Do on This Day?\nMore about Sultan Iskandar\n\nWhen is Hari Hol Almarhum Sultan Iskandar?\nHari Hol Almarhum Sultan Iskandar is observed on the 6th day in the month of Safar in the Islamic calendar. \nThe following is the list of Hari Hol Almarhum Sultan Iskandar from 2021 to 2030. \n   \n\n                \n                \n                            \n                            \n                            \n                    \n        \n\n                                                        HolidayDateWeekday\n\n\n\n        \n            Hari Hol Almarhum Sultan IskandarSeptember 13\, 2021Monday        \n            \n            Hari Hol Almarhum Sultan IskandarSeptember 03\, 2022Saturday        \n            \n            Hari Hol Almarhum Sultan IskandarAugust 23\, 2023Wednesday        \n            \n            Hari Hol Almarhum Sultan IskandarAugust 12\, 2024Monday        \n            \n            Hari Hol Almarhum Sultan IskandarJuly 31\, 2025Thursday        \n            \n            Hari Hol Almarhum Sultan IskandarJuly 22\, 2026Wednesday        \n            \n            Hari Hol Almarhum Sultan IskandarJuly 11\, 2027Sunday        \n            \n            Hari Hol Almarhum Sultan IskandarJune 29\, 2028Thursday        \n            \n            Hari Hol Almarhum Sultan IskandarJune 19\, 2029Tuesday        \n            \n            Hari Hol Almarhum Sultan IskandarJune 08\, 2030Saturday        \n    \n    \n    \n    \n    \n\n\nThe History of Hari Hol Almarhum Sultan Iskandar\nHari Hol Almarhum Sultan Iskandar is held to honor and commemorate the life and legacy of the late Sultan Iskandar ibni Almarhum Sultan Ismail\, the 24th Sultan of Johor. \nThe holiday was established after the passing of Sultan Iskandar on January 22\, 2010. It is rooted in the Johor royal tradition of observing a memorial day to pay tribute to deceased monarchs. The state government declared this holiday to uphold Sultan Iskandar's memory and to recognize his reign's lasting impact on Johor and Malaysia. \nSultan Iskandar reigned as the Sultan of Johor from 1981 until his death in 2010. During his time\, he played a significant role in modernizing the state and ensuring the welfare of its people. \nHe also served as Malaysia's 8th Yang di-Pertuan Agong from 1984 to 1989\, gaining national and international prominence. \n   \nWhat Do People Do on This Day?\nOn Hari Hol Almarhum Sultan Iskandar\, people in Johor participate in solemn and respectful activities to honor the memory of Sultan Iskandar. \nMosques across Johor hold prayers for well-being and prayers for the deceased sessions to pray for the late Sultan's soul. Quranic recitations are performed in his honor\, reflecting the state's strong Islamic values \nCommunity members\, state officials and royal family representatives gather in mosques\, especially the Sultan Abu Bakar State Mosque\, for these prayers. \nThe late Sultan Iskandar is buried at the Makam Mahmoodiah royal mausoleum in Johor Bahru. On this day\, members of the Johor Royal Family\, state leaders\, and dignitaries visit the site to offer prayers and pay their respects. \nSchools and community organizations may host talks or programs about Sultan Iskandar's reign\, achievements and values to educate the public. \nCitizens are encouraged to reflect on the Sultan's leadership\, and informal gatherings among communities to share stories about Sultan Iskandar and his impact on their lives. \nSince Hari Hol is a public holiday in Johor\, government offices\, schools and most businesses close for the day. This allows residents to participate in the commemorative activities fully. \nSome citizens and organizations perform charitable acts\, such as donating to the needy or organizing welfare programs\, inspired by Sultan Iskandar's dedication to improving the lives of the people. \nMore about Sultan Iskandar\nSultan Iskandar was born on April 8\, 1932\, in Johor Bahru\, Johor\, Malaysia. He ascended to the throne on May 11\, 1981\, succeeding his father\, Sultan Ismail. \nHis reign was marked by a focus on promoting economic development in Johor\, and strengthening religious institutions and practices\, which gained him the high reputation to his people. \nSultan Iskandar became Malaysia's 8th Yang di-Pertuan Agong on April 26\, 1984\, serving until April 25\, 1989. During his tenure\, he played an active role in representing Malaysia internationally.  \nSultan Ibrahim\, the current Sultan of Johor\, is Sultan Iskandar's eldest son and successor. \nSultan Iskandar passed away on January 22\, 2010\, at the age of 77\, due to a heart attack\, and his death marked the end of a significant era in Johor's history.
URL:https://excelnotes.com/holiday/hari-hol-almarhum-sultan-iskandar/
CATEGORIES:Leader
ATTACH;FMTTYPE=image/jpeg:https://excelnotes.com/wp-content/uploads/2025/01/Hari-Hol-Almarhum-Sultan-Iskandar.jpg
END:VEVENT
END:VCALENDAR