BEGIN:VCALENDAR
VERSION:2.0
PRODID:-//ExcelNotes - ECPv6.15.20//NONSGML v1.0//EN
CALSCALE:GREGORIAN
METHOD:PUBLISH
X-WR-CALNAME:ExcelNotes
X-ORIGINAL-URL:https://excelnotes.com
X-WR-CALDESC:Events for ExcelNotes
REFRESH-INTERVAL;VALUE=DURATION:PT1H
X-Robots-Tag:noindex
X-PUBLISHED-TTL:PT1H
BEGIN:VTIMEZONE
TZID:America/New_York
BEGIN:DAYLIGHT
TZOFFSETFROM:-0500
TZOFFSETTO:-0400
TZNAME:EDT
DTSTART:20240310T070000
END:DAYLIGHT
BEGIN:STANDARD
TZOFFSETFROM:-0400
TZOFFSETTO:-0500
TZNAME:EST
DTSTART:20241103T060000
END:STANDARD
BEGIN:DAYLIGHT
TZOFFSETFROM:-0500
TZOFFSETTO:-0400
TZNAME:EDT
DTSTART:20250309T070000
END:DAYLIGHT
BEGIN:STANDARD
TZOFFSETFROM:-0400
TZOFFSETTO:-0500
TZNAME:EST
DTSTART:20251102T060000
END:STANDARD
BEGIN:DAYLIGHT
TZOFFSETFROM:-0500
TZOFFSETTO:-0400
TZNAME:EDT
DTSTART:20260308T070000
END:DAYLIGHT
BEGIN:STANDARD
TZOFFSETFROM:-0400
TZOFFSETTO:-0500
TZNAME:EST
DTSTART:20261101T060000
END:STANDARD
END:VTIMEZONE
BEGIN:VEVENT
DTSTART;VALUE=DATE:20250730
DTEND;VALUE=DATE:20250731
DTSTAMP:20260420T131721
CREATED:20250119T043055Z
LAST-MODIFIED:20250419T021838Z
UID:10000200-1753833600-1753919999@excelnotes.com
SUMMARY:Sultan of Pahang's Birthday
DESCRIPTION:The Sultan of Pahang's Birthday is a public holiday celebrated annually in the Malaysian state of Pahang to honor the reigning Sultan of Pahang\, who serves as the constitutional monarch and head of state. The day is marked by ceremonies\, cultural events and public displays of respect for the Sultan's contributions to the state. \nTable of Contents\n\nWhen is the Sultan of Pahang's Birthday?\nThe History of the Sultan of Pahang's Birthday?\nWhat Do People Do on This Day?\nMore about Pahang\n\nWhen is the Sultan of Pahang's Birthday?\nThe Sultan of Pahang's Birthday is observed on July 30 each year in the Malaysian state of Pahang. \nThe following is the list of the Sultan of Pahang's Birthday from 2020 to 2049. \n   \n\n                \n                \n                            \n                            \n                            \n                    \n        \n\n                                                        HolidayDateWeekday\n\n\n\n        \n            Sultan of Pahang's BirthdayJuly 30\, 2020Thursday        \n            \n            Sultan of Pahang's BirthdayJuly 30\, 2021Friday        \n            \n            Sultan of Pahang's BirthdayJuly 30\, 2022Saturday        \n            \n            Sultan of Pahang's BirthdayJuly 30\, 2023Sunday        \n            \n            Sultan of Pahang's BirthdayJuly 30\, 2024Tuesday        \n            \n            Sultan of Pahang's BirthdayJuly 30\, 2025Wednesday        \n            \n            Sultan of Pahang's BirthdayJuly 30\, 2026Thursday        \n            \n            Sultan of Pahang's BirthdayJuly 30\, 2027Friday        \n            \n            Sultan of Pahang's BirthdayJuly 30\, 2028Sunday        \n            \n            Sultan of Pahang's BirthdayJuly 30\, 2029Monday        \n            \n            Sultan of Pahang's BirthdayJuly 30\, 2030Tuesday        \n            \n            Sultan of Pahang's BirthdayJuly 30\, 2031Wednesday        \n            \n            Sultan of Pahang's BirthdayJuly 30\, 2032Friday        \n            \n            Sultan of Pahang's BirthdayJuly 30\, 2033Saturday        \n            \n            Sultan of Pahang's BirthdayJuly 30\, 2034Sunday        \n            \n            Sultan of Pahang's BirthdayJuly 30\, 2035Monday        \n            \n            Sultan of Pahang's BirthdayJuly 30\, 2036Wednesday        \n            \n            Sultan of Pahang's BirthdayJuly 30\, 2037Thursday        \n            \n            Sultan of Pahang's BirthdayJuly 30\, 2038Friday        \n            \n            Sultan of Pahang's BirthdayJuly 30\, 2039Saturday        \n            \n            Sultan of Pahang's BirthdayJuly 30\, 2040Monday        \n            \n            Sultan of Pahang's BirthdayJuly 30\, 2041Tuesday        \n            \n            Sultan of Pahang's BirthdayJuly 30\, 2042Wednesday        \n            \n            Sultan of Pahang's BirthdayJuly 30\, 2043Thursday        \n            \n            Sultan of Pahang's BirthdayJuly 30\, 2044Saturday        \n            \n            Sultan of Pahang's BirthdayJuly 30\, 2045Sunday        \n            \n            Sultan of Pahang's BirthdayJuly 30\, 2046Monday        \n            \n            Sultan of Pahang's BirthdayJuly 30\, 2047Tuesday        \n            \n            Sultan of Pahang's BirthdayJuly 30\, 2048Thursday        \n            \n            Sultan of Pahang's BirthdayJuly 30\, 2049Friday        \n    \n    \n    \n    \n    \n\n\nThe History of the Sultan of Pahang's Birthday\nThe Sultan of Pahang's Birthday's origins are closely tied to the establishment of the Pahang Sultanate and the broader historical significance of Malay monarchy traditions. \nThe Pahang Sultanate was established in 1470 by Sultan Muhammad Shah\, a descendant of the Melaka Sultanate\, who became the first Sultan of Pahang. Over the centuries\, the Pahang monarchy has evolved\, serving as a symbol of governance and cultural identity for the state. \nThe Sultan is the constitutional monarch and the head of Islam in Pahang\, holding significant ceremonial and symbolic responsibilities. The Sultan's Birthday became an occasion to recognize the ruler's contributions to the state's governance\, cultural preservation and Islamic leadership. \nThe tradition of honoring the Sultan's Birthday likely began during the early modern era as a way to celebrate the Sultan's leadership and contributions to the state. The observance became more formalized in the 20th century\, aligning with the development of Pahang as part of the Federated Malay States and later the Federation of Malaya (now Malaysia). \nThe Sultan of Pahang's Birthday was officially designated as a public holiday after Malaya's independence in 1957. The date was set to reflect the birth date of the reigning Sultan\, changing with each new monarch to honor their leadership. \nSultan Abu Bakar (1932–1974) was the first Sultan to be celebrated in the modern format of the holiday. Under Sultan Ahmad Shah's reign (1974–2019)\, the celebration grew in prominence\, incorporating larger state ceremonies\, cultural performances and public engagement. \nThe current Sultan of Pahang\, Al-Sultan Abdullah\, ascended the throne on January 15\, 2019\, following the abdication of his father\, Sultan Ahmad Shah. \n   \nWhat Do People Do on This Day?\nOn the Sultan of Pahang's Birthday\, residents of Pahang and visitors participate in various activities that celebrate the Sultan's leadership\, honor the monarchy\, and reflect the state's cultural and historical heritage.  \nA formal event held at the Sultan's official residence\, attended by government officials\, dignitaries\, and members of the royal family. \nA ceremonial parade featuring the state's armed forces and police units\, conducted in the Sultan's honor. \nMosques across Pahang hold special prayers to seek blessings for the Sultan's health\, long reign\, and the prosperity of the state. \nThe day often includes acts of charity\, such as food distribution\, monetary aid to the needy\, and support for local communities\, reflecting Islamic values. \nTraditional Malay dances\, music\, and martial arts performances are organized to showcase the rich heritage of Pahang. \nResidents gather in public spaces or community centers to celebrate the day\, often with communal feasts and traditional games. Families take advantage of the public holiday to spend time together\, enjoying outings\, traditional food\, and local attractions. \nMore about Pahang\nPahang is the largest state in Peninsular Malaysia and one of the oldest regions with a rich historical\, cultural and natural heritage. Known for its lush rainforests\, highlands and beautiful coastlines\, Pahang offers a diverse blend of nature\, history and modern development. \nPahang is situated in the central and eastern part of Peninsular Malaysia. Bordered by Kelantan to the north\, Terengganu to the northeast\, Perak to the west\, Selangor to the southwest\, Negeri Sembilan to the south\, and Johor to the southeast. The South China Sea forms its eastern coastline. \nThe state covers approximately 35\,965 square kilometers\, making it the largest state in Peninsular Malaysia. Kuantan is the state capital and largest city\, known for its vibrant economy and coastal attractions. \nPahang has been inhabited since prehistoric times\, with archaeological evidence of early human settlements. It was part of the ancient Hindu-Buddhist kingdoms like Langkasuka and Srivijaya. \nPahang became a vassal state of the Malacca Sultanate in the 15th century. In 1470\, a member of the Malacca royal family established the Pahang Sultanate\, which remains a significant institution today. \nThe British began exerting influence in Pahang in the late 19th century\, incorporating it into the Federated Malay States in 1895. During World War II\, Pahang was occupied by the Japanese from 1942 to 1945. \nPahang became part of the Federation of Malaya in 1957\, gaining independence from British rule\, and later Malaysia in 1963.
URL:https://excelnotes.com/holiday/sultan-of-pahangs-birthday/
CATEGORIES:Leader
ATTACH;FMTTYPE=image/jpeg:https://excelnotes.com/wp-content/uploads/2025/01/Sultan-of-Pahangs-Birthday.jpg
END:VEVENT
END:VCALENDAR