BEGIN:VCALENDAR
VERSION:2.0
PRODID:-//ExcelNotes - ECPv6.15.20//NONSGML v1.0//EN
CALSCALE:GREGORIAN
METHOD:PUBLISH
X-ORIGINAL-URL:https://excelnotes.com
X-WR-CALDESC:Events for ExcelNotes
REFRESH-INTERVAL;VALUE=DURATION:PT1H
X-Robots-Tag:noindex
X-PUBLISHED-TTL:PT1H
BEGIN:VTIMEZONE
TZID:America/New_York
BEGIN:DAYLIGHT
TZOFFSETFROM:-0500
TZOFFSETTO:-0400
TZNAME:EDT
DTSTART:20240310T070000
END:DAYLIGHT
BEGIN:STANDARD
TZOFFSETFROM:-0400
TZOFFSETTO:-0500
TZNAME:EST
DTSTART:20241103T060000
END:STANDARD
BEGIN:DAYLIGHT
TZOFFSETFROM:-0500
TZOFFSETTO:-0400
TZNAME:EDT
DTSTART:20250309T070000
END:DAYLIGHT
BEGIN:STANDARD
TZOFFSETFROM:-0400
TZOFFSETTO:-0500
TZNAME:EST
DTSTART:20251102T060000
END:STANDARD
BEGIN:DAYLIGHT
TZOFFSETFROM:-0500
TZOFFSETTO:-0400
TZNAME:EDT
DTSTART:20260308T070000
END:DAYLIGHT
BEGIN:STANDARD
TZOFFSETFROM:-0400
TZOFFSETTO:-0500
TZNAME:EST
DTSTART:20261101T060000
END:STANDARD
END:VTIMEZONE
BEGIN:VEVENT
DTSTART;VALUE=DATE:20250724
DTEND;VALUE=DATE:20250725
DTSTAMP:20260419T145152
CREATED:20250419T053837Z
LAST-MODIFIED:20250419T053837Z
UID:10000260-1753315200-1753401599@excelnotes.com
SUMMARY:Simon Bolivar's Birthday
DESCRIPTION:Simon Bolivar's Birthday a national holiday in Venezuela and widely recognized across Latin America. Born in 1783\, Bolívar is remembered as El Libertador ("The Liberator") for his crucial role in securing the independence of several South American countries from Spanish colonial rule. \nWhen is Simon Bolivar's Birthday?\nSimon Bolivar's Birthday in Venezuela is celebrated every year on July 24. \nThe following is the list of Simon Bolivar's Birthday from 2020 to 2049. \n   \n\n                \n                \n                            \n                            \n                            \n                    \n        \n\n                                                        HolidayDateWeekday\n\n\n\n        \n            Simon Bolivar's BirthdayJul 24\, 2020Friday        \n            \n            Simon Bolivar's BirthdayJul 24\, 2021Saturday        \n            \n            Simon Bolivar's BirthdayJul 24\, 2022Sunday        \n            \n            Simon Bolivar's BirthdayJul 24\, 2023Monday        \n            \n            Simon Bolivar's BirthdayJul 24\, 2024Wednesday        \n            \n            Simon Bolivar's BirthdayJul 24\, 2025Thursday        \n            \n            Simon Bolivar's BirthdayJul 24\, 2026Friday        \n            \n            Simon Bolivar's BirthdayJul 24\, 2027Saturday        \n            \n            Simon Bolivar's BirthdayJul 24\, 2028Monday        \n            \n            Simon Bolivar's BirthdayJul 24\, 2029Tuesday        \n            \n            Simon Bolivar's BirthdayJul 24\, 2030Wednesday        \n            \n            Simon Bolivar's BirthdayJul 24\, 2031Thursday        \n            \n            Simon Bolivar's BirthdayJul 24\, 2032Saturday        \n            \n            Simon Bolivar's BirthdayJul 24\, 2033Sunday        \n            \n            Simon Bolivar's BirthdayJul 24\, 2034Monday        \n            \n            Simon Bolivar's BirthdayJul 24\, 2035Tuesday        \n            \n            Simon Bolivar's BirthdayJul 24\, 2036Thursday        \n            \n            Simon Bolivar's BirthdayJul 24\, 2037Friday        \n            \n            Simon Bolivar's BirthdayJul 24\, 2038Saturday        \n            \n            Simon Bolivar's BirthdayJul 24\, 2039Sunday        \n            \n            Simon Bolivar's BirthdayJul 24\, 2040Tuesday        \n            \n            Simon Bolivar's BirthdayJul 24\, 2041Wednesday        \n            \n            Simon Bolivar's BirthdayJul 24\, 2042Thursday        \n            \n            Simon Bolivar's BirthdayJul 24\, 2043Friday        \n            \n            Simon Bolivar's BirthdayJul 24\, 2044Sunday        \n            \n            Simon Bolivar's BirthdayJul 24\, 2045Monday        \n            \n            Simon Bolivar's BirthdayJul 24\, 2046Tuesday        \n            \n            Simon Bolivar's BirthdayJul 24\, 2047Wednesday        \n            \n            Simon Bolivar's BirthdayJul 24\, 2048Friday        \n            \n            Simon Bolivar's BirthdayJul 24\, 2049Saturday        \n    \n    \n    \n    \n    \n\n\nThe History of Simon Bolivar's Birthday?\nSimon Bolivar was born into a wealthy Creole family of Basque descent. Orphaned by the age of 9\, he was placed under the guardianship of tutors\, including Simón Rodríguez\, who introduced him to Enlightenment ideals. \nIn his teenage years\, Bolívar was sent to Europe\, where he witnessed Napoleon's coronation and absorbed revolutionary philosophies\, particularly those of Rousseau\, Voltaire\, and Locke. \nBolívar's birthday is celebrated across multiple countries in South America\, particularly in Venezuela\, where it is a national holiday. His birth on July 24\, 1783\, is seen as the beginning of one of Latin America's most transformative lives\, eventually leading to: \n1. The end of Spanish colonial rule across much of northern South America;\n2. The formation of Gran Colombia\, a short-lived union of liberated territories. \nBolívar is remembered not only as a military leader but also as a visionary for Latin American unity and republican governance.
URL:https://excelnotes.com/holiday/simon-bolivars-birthday/
CATEGORIES:Leader
ATTACH;FMTTYPE=image/jpeg:https://excelnotes.com/wp-content/uploads/2025/04/Simon-Bolivars-Birthday.jpg
END:VEVENT
END:VCALENDAR