BEGIN:VCALENDAR
VERSION:2.0
PRODID:-//ExcelNotes - ECPv6.15.20//NONSGML v1.0//EN
CALSCALE:GREGORIAN
METHOD:PUBLISH
X-ORIGINAL-URL:https://excelnotes.com
X-WR-CALDESC:Events for ExcelNotes
REFRESH-INTERVAL;VALUE=DURATION:PT1H
X-Robots-Tag:noindex
X-PUBLISHED-TTL:PT1H
BEGIN:VTIMEZONE
TZID:America/New_York
BEGIN:DAYLIGHT
TZOFFSETFROM:-0500
TZOFFSETTO:-0400
TZNAME:EDT
DTSTART:20240310T070000
END:DAYLIGHT
BEGIN:STANDARD
TZOFFSETFROM:-0400
TZOFFSETTO:-0500
TZNAME:EST
DTSTART:20241103T060000
END:STANDARD
BEGIN:DAYLIGHT
TZOFFSETFROM:-0500
TZOFFSETTO:-0400
TZNAME:EDT
DTSTART:20250309T070000
END:DAYLIGHT
BEGIN:STANDARD
TZOFFSETFROM:-0400
TZOFFSETTO:-0500
TZNAME:EST
DTSTART:20251102T060000
END:STANDARD
BEGIN:DAYLIGHT
TZOFFSETFROM:-0500
TZOFFSETTO:-0400
TZNAME:EDT
DTSTART:20260308T070000
END:DAYLIGHT
BEGIN:STANDARD
TZOFFSETFROM:-0400
TZOFFSETTO:-0500
TZNAME:EST
DTSTART:20261101T060000
END:STANDARD
END:VTIMEZONE
BEGIN:VEVENT
DTSTART;VALUE=DATE:20250717
DTEND;VALUE=DATE:20250718
DTSTAMP:20260420T205544
CREATED:20250119T224003Z
LAST-MODIFIED:20250419T021852Z
UID:10000204-1752710400-1752796799@excelnotes.com
SUMMARY:Raja of Perlis' Birthday
DESCRIPTION:The Raja of Perlis' Birthday\, also known as Hari Keputeraan Raja Perlis\, is a significant annual celebration in the Malaysian state of Perlis. This public holiday honors the birthday of the reigning Raja of Perlis\, the constitutional monarch and head of state\, and reflects the respect and cultural importance of the monarchy in Perlis. \nTable of Contents\n\nWhen is the Raja of Perlis' Birthday?\nThe History of the Raja of Perlis' Birthday?\nWhat Do People Do on This Day?\nThe History of Perlis\n\nWhen is the Raja of Perlis' Birthday?\nThe Raja of Perlis' Birthday is celebrated on July 17 each year. \nThe following is the list of the Raja of Perlis' Birthday from 2020 to 2049. \n   \n\n                \n                \n                            \n                            \n                            \n                    \n        \n\n                                                        HolidayDateWeekday\n\n\n\n        \n            The Raja of Perlis' BirthdayJuly 17\, 2020Friday        \n            \n            The Raja of Perlis' BirthdayJuly 17\, 2021Saturday        \n            \n            The Raja of Perlis' BirthdayJuly 17\, 2022Sunday        \n            \n            The Raja of Perlis' BirthdayJuly 17\, 2023Monday        \n            \n            The Raja of Perlis' BirthdayJuly 17\, 2024Wednesday        \n            \n            The Raja of Perlis' BirthdayJuly 17\, 2025Thursday        \n            \n            The Raja of Perlis' BirthdayJuly 17\, 2026Friday        \n            \n            The Raja of Perlis' BirthdayJuly 17\, 2027Saturday        \n            \n            The Raja of Perlis' BirthdayJuly 17\, 2028Monday        \n            \n            The Raja of Perlis' BirthdayJuly 17\, 2029Tuesday        \n            \n            The Raja of Perlis' BirthdayJuly 17\, 2030Wednesday        \n            \n            The Raja of Perlis' BirthdayJuly 17\, 2031Thursday        \n            \n            The Raja of Perlis' BirthdayJuly 17\, 2032Saturday        \n            \n            The Raja of Perlis' BirthdayJuly 17\, 2033Sunday        \n            \n            The Raja of Perlis' BirthdayJuly 17\, 2034Monday        \n            \n            The Raja of Perlis' BirthdayJuly 17\, 2035Tuesday        \n            \n            The Raja of Perlis' BirthdayJuly 17\, 2036Thursday        \n            \n            The Raja of Perlis' BirthdayJuly 17\, 2037Friday        \n            \n            The Raja of Perlis' BirthdayJuly 17\, 2038Saturday        \n            \n            The Raja of Perlis' BirthdayJuly 17\, 2039Sunday        \n            \n            The Raja of Perlis' BirthdayJuly 17\, 2040Tuesday        \n            \n            The Raja of Perlis' BirthdayJuly 17\, 2041Wednesday        \n            \n            The Raja of Perlis' BirthdayJuly 17\, 2042Thursday        \n            \n            The Raja of Perlis' BirthdayJuly 17\, 2043Friday        \n            \n            The Raja of Perlis' BirthdayJuly 17\, 2044Sunday        \n            \n            The Raja of Perlis' BirthdayJuly 17\, 2045Monday        \n            \n            The Raja of Perlis' BirthdayJuly 17\, 2046Tuesday        \n            \n            The Raja of Perlis' BirthdayJuly 17\, 2047Wednesday        \n            \n            The Raja of Perlis' BirthdayJuly 17\, 2048Friday        \n            \n            The Raja of Perlis' BirthdayJuly 17\, 2049Saturday        \n    \n    \n    \n    \n    \n\n\nThe History of the Raja of Perlis' Birthday\nThe Raja of Perlis' Birthday is a significant annual celebration rooted in the history of the Perlis monarchy. It honors the leadership of the Raja\, who serves as the constitutional monarch and protector of Perlis' traditions and unity. \nThe Perlis monarchy was established in 1843 when the region was carved out of the Kingdom of Kedah by Siam (now Thailand). This marked the founding of an independent Perlis state. \nThe first Raja of Perlis\, Tuanku Syed Hussain Jamalullail\, was appointed by the Siamese government. He was a nobleman from the Jamalullail clan\, which continues to hold the throne today. \nThe Raja of Perlis was historically responsible for governing the state\, maintaining order and protecting Islamic traditions. Unlike the larger Malay states\, Perlis retained a smaller\, more localized monarchy\, which suited its size and population. \nThe birthday of the Raja was traditionally observed with feasts\, religious ceremonies\, and community events. \nDuring British colonial rule (1909–1957)\, the Raja continued to play a significant ceremonial and administrative role\, acting as a bridge between the colonial government and the local population. The Raja's Birthday became a formalized occasion to honor the monarchy and reinforce cultural and social unity. \nAfter Malaysia gained independence in 1957\, the Raja's Birthday was officially designated as a state holiday to recognize the monarchy's contributions to Perlis' governance and development. \n   \nWhat Do People Do on This Day?\nOn the Raja of Perlis' Birthday\, the people of Perlis observe a mix of formal ceremonies\, cultural activities\, and community celebrations to honor the Raja's leadership and contributions to the state. \nThe main event takes place at Istana Arau\, the royal palace\, where the Raja presides over the celebration. \nSpecial prayers for peace and well-being and tahlil recitations are held in mosques across Perlis to pray for the Raja's health and the state's prosperity. \nTraditional dances like Zapin and Joget\, along with Malay Gamelan music\, showcase Perlis' cultural heritage. Public exhibitions often highlight the history of the Perlis monarchy\, local traditions and the state's achievements. \nVillages and communities organize feasts where residents come together to celebrate\, and traditional dishes and various desserts are served. \nActs of charity\, such as food donations and support for underprivileged families\, are common\, reflecting the Raja's values of compassion and service. \nFamilies often use the public holiday to spend quality time together\, exploring local attractions\, parks\, or participating in festivities. \nThe History of Perlis\nThe history of Perlis\, the smallest state in Malaysia\, is located in the northernmost part of Peninsular Malaysia. Perlis has a unique identity shaped by its history as part of larger regional powers and its eventual establishment as a sovereign state. \nArchaeological evidence indicates that Perlis has been inhabited since prehistoric times\, with early communities living off agriculture and trade. The area was originally part of Kedah\, one of the oldest kingdoms in Southeast Asia\, and played a role in the maritime trade networks connecting the Indian Ocean and the South China Sea. \nPerlis was under the rule of various empires and powers over the centuries. In the 19th century\, Perlis was under the suzerainty of Siam (now Thailand) as part of the larger Kingdom of Kedah. \nIn 1821\, Siam (now Thailand) conquered Kedah\, including Perlis. After quelling local resistance\, Siam separated Perlis from Kedah in 1843\, creating it as an independent state. \nSyed Hussain Jamalullail\, a nobleman of Arab descent\, was appointed the first Raja of Perlis by the Siamese King\, marking the establishment of the Perlis monarchy. The Jamalullail dynasty continues to rule Perlis to this day. \nThe Anglo-Siamese Treaty of 1909 transferred Perlis and other northern states from Siamese to British control. During World War II\, Perlis was occupied by the Japanese\, who returned it to Siam as part of their alliance. \nAfter the war\, Perlis was returned to British administration\, and efforts began to rebuild its economy and governance. \nPerlis became part of the Federation of Malaya in 1957\, achieving independence from British rule. As a member of the federation\, Perlis contributed to the establishment of Malaysia in 1963. \nPerlis is governed as a constitutional monarchy\, with the Raja as the ceremonial head of state and a Chief Minister managing day-to-day governance.
URL:https://excelnotes.com/holiday/raja-of-perlis-birthday/
CATEGORIES:Leader
ATTACH;FMTTYPE=image/jpeg:https://excelnotes.com/wp-content/uploads/2025/01/Raja-of-Perlis-Birthday.jpg
END:VEVENT
END:VCALENDAR