BEGIN:VCALENDAR
VERSION:2.0
PRODID:-//ExcelNotes - ECPv6.15.20//NONSGML v1.0//EN
CALSCALE:GREGORIAN
METHOD:PUBLISH
X-ORIGINAL-URL:https://excelnotes.com
X-WR-CALDESC:Events for ExcelNotes
REFRESH-INTERVAL;VALUE=DURATION:PT1H
X-Robots-Tag:noindex
X-PUBLISHED-TTL:PT1H
BEGIN:VTIMEZONE
TZID:America/New_York
BEGIN:DAYLIGHT
TZOFFSETFROM:-0500
TZOFFSETTO:-0400
TZNAME:EDT
DTSTART:20240310T070000
END:DAYLIGHT
BEGIN:STANDARD
TZOFFSETFROM:-0400
TZOFFSETTO:-0500
TZNAME:EST
DTSTART:20241103T060000
END:STANDARD
BEGIN:DAYLIGHT
TZOFFSETFROM:-0500
TZOFFSETTO:-0400
TZNAME:EDT
DTSTART:20250309T070000
END:DAYLIGHT
BEGIN:STANDARD
TZOFFSETFROM:-0400
TZOFFSETTO:-0500
TZNAME:EST
DTSTART:20251102T060000
END:STANDARD
BEGIN:DAYLIGHT
TZOFFSETFROM:-0500
TZOFFSETTO:-0400
TZNAME:EDT
DTSTART:20260308T070000
END:DAYLIGHT
BEGIN:STANDARD
TZOFFSETFROM:-0400
TZOFFSETTO:-0500
TZNAME:EST
DTSTART:20261101T060000
END:STANDARD
END:VTIMEZONE
BEGIN:VEVENT
DTSTART;VALUE=DATE:20250712
DTEND;VALUE=DATE:20250713
DTSTAMP:20260419T145135
CREATED:20250119T155134Z
LAST-MODIFIED:20250419T021858Z
UID:10000201-1752278400-1752364799@excelnotes.com
SUMMARY:Penang Governor's Birthday
DESCRIPTION:The Penang Governor's Birthday\, also known as Hari Keputeraan Yang di-Pertua Negeri Pulau Pinang\, is an annual public holiday in the state of Penang\, Malaysia. This day celebrates the birthday of the Yang di-Pertua Negeri\, the Governor of Penang\, who is the ceremonial head of state. \nTable of Contents\n\nWhen is the Penang Governor's Birthday?\nThe History of the Penang Governor's Birthday?\nWhat Do People Do on This Day?\nThe History of Penang\n\nWhen is the Penang Governor's Birthday?\nThe Penang Governor's Birthday is observed every second Saturday in July. \nThe following is the list of the Penang Governor's Birthday from 2020 to 2049. \n   \n\n                \n                \n                            \n                            \n                            \n                    \n        \n\n                                                        HolidayDateWeekday\n\n\n\n        \n            Penang Governor's BirthdayJuly 11\, 2020Saturday        \n            \n            Penang Governor's BirthdayJuly 10\, 2021Saturday        \n            \n            Penang Governor's BirthdayJuly 09\, 2022Saturday        \n            \n            Penang Governor's BirthdayJuly 08\, 2023Saturday        \n            \n            Penang Governor's BirthdayJuly 13\, 2024Saturday        \n            \n            Penang Governor's BirthdayJuly 12\, 2025Saturday        \n            \n            Penang Governor's BirthdayJuly 11\, 2026Saturday        \n            \n            Penang Governor's BirthdayJuly 10\, 2027Saturday        \n            \n            Penang Governor's BirthdayJuly 08\, 2028Saturday        \n            \n            Penang Governor's BirthdayJuly 14\, 2029Saturday        \n            \n            Penang Governor's BirthdayJuly 13\, 2030Saturday        \n            \n            Penang Governor's BirthdayJuly 12\, 2031Saturday        \n            \n            Penang Governor's BirthdayJuly 10\, 2032Saturday        \n            \n            Penang Governor's BirthdayJuly 09\, 2033Saturday        \n            \n            Penang Governor's BirthdayJuly 08\, 2034Saturday        \n            \n            Penang Governor's BirthdayJuly 14\, 2035Saturday        \n            \n            Penang Governor's BirthdayJuly 12\, 2036Saturday        \n            \n            Penang Governor's BirthdayJuly 11\, 2037Saturday        \n            \n            Penang Governor's BirthdayJuly 10\, 2038Saturday        \n            \n            Penang Governor's BirthdayJuly 09\, 2039Saturday        \n            \n            Penang Governor's BirthdayJuly 14\, 2040Saturday        \n            \n            Penang Governor's BirthdayJuly 13\, 2041Saturday        \n            \n            Penang Governor's BirthdayJuly 12\, 2042Saturday        \n            \n            Penang Governor's BirthdayJuly 11\, 2043Saturday        \n            \n            Penang Governor's BirthdayJuly 09\, 2044Saturday        \n            \n            Penang Governor's BirthdayJuly 08\, 2045Saturday        \n            \n            Penang Governor's BirthdayJuly 14\, 2046Saturday        \n            \n            Penang Governor's BirthdayJuly 13\, 2047Saturday        \n            \n            Penang Governor's BirthdayJuly 11\, 2048Saturday        \n            \n            Penang Governor's BirthdayJuly 10\, 2049Saturday        \n    \n    \n    \n    \n    \n\n\nThe History of the Penang Governor's Birthday\nThe History of the Penang Governor's Birthday is rooted in the establishment of the role of the Governor following Penang's evolution from a colonial trading port to a modern state within Malaysia. \nPenang was established in 1786 by Captain Francis Light as a British trading port\, becoming the first British settlement in Southeast Asia. During the colonial period\, Penang was governed by British administrators who were appointed to oversee the region's trade\, security and development. \nFollowing the end of British rule\, Penang became a part of the Federation of Malaya in 1957 and later Malaysia in 1963. As a non-monarchical state\, Penang\, like Malacca\, Sabah\, and Sarawak\, was appointed a Yang di-Pertua Negeri (Governor) as its head of state. \nThe Penang Governor's Birthday became an official occasion to recognize the role and contributions of the Yang di-Pertua Negeri as the ceremonial leader.  \nThe celebration began with modest ceremonies\, including formal gatherings and the presentation of state awards. \nOver time\, the event expanded to include cultural performances\, exhibitions\, and public participation\, showcasing Penang's vibrant multicultural identity. The Governor's Birthday became an opportunity to reflect on Penang's progress and achievements. \n   \nWhat Do People Do on This Day?\nOn the Penang Governor's Birthday\, people in Penang observe a public holiday with a mix of formal ceremonies\, cultural events and community activities. \nThe main celebration takes place at Seri Mutiara\, the official residence of the Governor. \nSpecial Prayers are held in mosques to pray for the Governor's health\, long reign\, and the state's prosperity. \nPublic spaces\, government buildings\, and streets are decorated with Penang state flags and banners\, and festive lights to enhance the celebratory atmosphere. \nTraditional dances\, music and martial arts performances reflect Penang's multicultural heritage\, with influences from Malay\, Chinese\, Indian\, and other communities. \nFamilies and friends come together for small feasts\, picnics or outings to celebrate the public holiday. Neighborhoods may organize events like charity drives or communal meals. \nActs of charity\, such as food distribution or donations to the less fortunate\, are common to mark the occasion. \nBusinesses and attractions often offer discounts or host special events to celebrate the day. \nThe History of Penang\nThe history of Penang is a fascinating tale of trade\, cultural exchange and political evolution. Located strategically in the Straits of Malacca\, Penang has played a pivotal role as a global trading hub and modern economic powerhouse. \nEvidence of early human settlement in Penang dates back thousands of years\, with archaeological findings in Guar Kepah and other areas. The island was inhabited by indigenous peoples\, including the Malay communities. \nPenang was likely part of the Srivijaya Empire (7th – 13th centuries)\, a powerful maritime kingdom based in Sumatra. The island was known to traders from China\, India\, and the Middle East\, who stopped there on their way through the Straits of Malacca. \nIn 1786\, Captain Francis Light\, representing the British East India Company\, acquired Penang from the Sultan of Kedah. The settlement of George Town was established as the first British foothold in Southeast Asia. \nThe British encouraged immigration to support trade and agriculture\, resulting in a diverse population of Chinese\, Indians\, Malays and Eurasians. \nIn 1826\, Penang became part of the Straits Settlements\, along with Malacca and Singapore\, under British colonial administration. \nPenang fell to Japanese forces during World War II in December 1941 and remained under Japanese occupation until 1945. \nAfter World War II\, Penang was integrated into the Malayan Union (1946) and later the Federation of Malaya (1948). Penang's free port status was abolished in 1969\, affecting its economic significance. \nPenang became a state of Malaysia upon its formation in 1963. George Town\, the capital of Penang\, was designated a UNESCO World Heritage Site in 2008\, alongside Malacca.
URL:https://excelnotes.com/holiday/penang-governors-birthday/
CATEGORIES:Leader
ATTACH;FMTTYPE=image/jpeg:https://excelnotes.com/wp-content/uploads/2025/01/Penang-Governors-Birthday.jpg
END:VEVENT
END:VCALENDAR