BEGIN:VCALENDAR
VERSION:2.0
PRODID:-//ExcelNotes - ECPv6.15.20//NONSGML v1.0//EN
CALSCALE:GREGORIAN
METHOD:PUBLISH
X-WR-CALNAME:ExcelNotes
X-ORIGINAL-URL:https://excelnotes.com
X-WR-CALDESC:Events for ExcelNotes
REFRESH-INTERVAL;VALUE=DURATION:PT1H
X-Robots-Tag:noindex
X-PUBLISHED-TTL:PT1H
BEGIN:VTIMEZONE
TZID:America/New_York
BEGIN:DAYLIGHT
TZOFFSETFROM:-0500
TZOFFSETTO:-0400
TZNAME:EDT
DTSTART:20240310T070000
END:DAYLIGHT
BEGIN:STANDARD
TZOFFSETFROM:-0400
TZOFFSETTO:-0500
TZNAME:EST
DTSTART:20241103T060000
END:STANDARD
BEGIN:DAYLIGHT
TZOFFSETFROM:-0500
TZOFFSETTO:-0400
TZNAME:EDT
DTSTART:20250309T070000
END:DAYLIGHT
BEGIN:STANDARD
TZOFFSETFROM:-0400
TZOFFSETTO:-0500
TZNAME:EST
DTSTART:20251102T060000
END:STANDARD
BEGIN:DAYLIGHT
TZOFFSETFROM:-0500
TZOFFSETTO:-0400
TZNAME:EDT
DTSTART:20260308T070000
END:DAYLIGHT
BEGIN:STANDARD
TZOFFSETFROM:-0400
TZOFFSETTO:-0500
TZNAME:EST
DTSTART:20261101T060000
END:STANDARD
END:VTIMEZONE
BEGIN:VEVENT
DTSTART;VALUE=DATE:20250701
DTEND;VALUE=DATE:20250702
DTSTAMP:20260419T144359
CREATED:20250424T032535Z
LAST-MODIFIED:20250424T032535Z
UID:10000303-1751328000-1751414399@excelnotes.com
SUMMARY:Heir to the Throne's Birthday
DESCRIPTION:Heir to the Throne's Birthday in Tuvalu\, and it honors the birthday of the heir apparent to the British throne\, who also serves as the future ceremonial Head of State of Tuvalu\, a Commonwealth realm and constitutional monarchy. \nWhen is Heir to the Throne's Birthday?\nHeir to the Throne's Birthday is celebrated annually on July 1.  \nThe following is the list of Heir to the Throne's Birthday from 2020 to 2049. \n   \n\n                \n                \n                            \n                            \n                            \n                    \n        \n\n                                                        HolidayDateWeekday\n\n\n\n        \n            Heir to the Throne's BirthdayJul 01\, 2020Wednesday        \n            \n            Heir to the Throne's BirthdayJul 01\, 2021Thursday        \n            \n            Heir to the Throne's BirthdayJul 01\, 2022Friday        \n            \n            Heir to the Throne's BirthdayJul 01\, 2023Saturday        \n            \n            Heir to the Throne's BirthdayJul 01\, 2024Monday        \n            \n            Heir to the Throne's BirthdayJul 01\, 2025Tuesday        \n            \n            Heir to the Throne's BirthdayJul 01\, 2026Wednesday        \n            \n            Heir to the Throne's BirthdayJul 01\, 2027Thursday        \n            \n            Heir to the Throne's BirthdayJul 01\, 2028Saturday        \n            \n            Heir to the Throne's BirthdayJul 01\, 2029Sunday        \n            \n            Heir to the Throne's BirthdayJul 01\, 2030Monday        \n            \n            Heir to the Throne's BirthdayJul 01\, 2031Tuesday        \n            \n            Heir to the Throne's BirthdayJul 01\, 2032Thursday        \n            \n            Heir to the Throne's BirthdayJul 01\, 2033Friday        \n            \n            Heir to the Throne's BirthdayJul 01\, 2034Saturday        \n            \n            Heir to the Throne's BirthdayJul 01\, 2035Sunday        \n            \n            Heir to the Throne's BirthdayJul 01\, 2036Tuesday        \n            \n            Heir to the Throne's BirthdayJul 01\, 2037Wednesday        \n            \n            Heir to the Throne's BirthdayJul 01\, 2038Thursday        \n            \n            Heir to the Throne's BirthdayJul 01\, 2039Friday        \n            \n            Heir to the Throne's BirthdayJul 01\, 2040Sunday        \n            \n            Heir to the Throne's BirthdayJul 01\, 2041Monday        \n            \n            Heir to the Throne's BirthdayJul 01\, 2042Tuesday        \n            \n            Heir to the Throne's BirthdayJul 01\, 2043Wednesday        \n            \n            Heir to the Throne's BirthdayJul 01\, 2044Friday        \n            \n            Heir to the Throne's BirthdayJul 01\, 2045Saturday        \n            \n            Heir to the Throne's BirthdayJul 01\, 2046Sunday        \n            \n            Heir to the Throne's BirthdayJul 01\, 2047Monday        \n            \n            Heir to the Throne's BirthdayJul 01\, 2048Wednesday        \n            \n            Heir to the Throne's BirthdayJul 01\, 2049Thursday        \n    \n    \n    \n    \n    \n\n\nThe History of Heir to the Throne's Birthday\nThe Heir to the Throne's Birthday honors the birthday of the heir apparent to the British throne\, currently Prince William\, Prince of Wales\, who is also recognized as the future Head of State of Tuvalu. \nTuvalu became an independent constitutional monarchy on October 1\, 1978\, after separating peacefully from the United Kingdom. As a Commonwealth realm\, Tuvalu retained the British monarch as Head of State\, with a local Governor-General representing the Crown. \nTo maintain the tradition of loyalty to the monarchy\, Tuvalu established two royal birthdays as public holidays: the King's (or Queen's) Official Birthday\, and the Heir to the Throne's Birthday. \nAlthough Prince William's actual birthday is June 21 (1982)\, Tuvalu observes the holiday on July 1. This date was likely selected to space out public holidays\, allow for mid-year celebrations\, and align with local scheduling practices.
URL:https://excelnotes.com/holiday/heir-to-the-thrones-birthday/
CATEGORIES:People
ATTACH;FMTTYPE=image/jpeg:https://excelnotes.com/wp-content/uploads/2025/04/Heir-to-the-Thrones-Birthday.jpg
END:VEVENT
END:VCALENDAR