BEGIN:VCALENDAR
VERSION:2.0
PRODID:-//ExcelNotes - ECPv6.15.20//NONSGML v1.0//EN
CALSCALE:GREGORIAN
METHOD:PUBLISH
X-ORIGINAL-URL:https://excelnotes.com
X-WR-CALDESC:Events for ExcelNotes
REFRESH-INTERVAL;VALUE=DURATION:PT1H
X-Robots-Tag:noindex
X-PUBLISHED-TTL:PT1H
BEGIN:VTIMEZONE
TZID:America/New_York
BEGIN:DAYLIGHT
TZOFFSETFROM:-0500
TZOFFSETTO:-0400
TZNAME:EDT
DTSTART:20250309T070000
END:DAYLIGHT
BEGIN:STANDARD
TZOFFSETFROM:-0400
TZOFFSETTO:-0500
TZNAME:EST
DTSTART:20251102T060000
END:STANDARD
BEGIN:DAYLIGHT
TZOFFSETFROM:-0500
TZOFFSETTO:-0400
TZNAME:EDT
DTSTART:20260308T070000
END:DAYLIGHT
BEGIN:STANDARD
TZOFFSETFROM:-0400
TZOFFSETTO:-0500
TZNAME:EST
DTSTART:20261101T060000
END:STANDARD
BEGIN:DAYLIGHT
TZOFFSETFROM:-0500
TZOFFSETTO:-0400
TZNAME:EDT
DTSTART:20270314T070000
END:DAYLIGHT
BEGIN:STANDARD
TZOFFSETFROM:-0400
TZOFFSETTO:-0500
TZNAME:EST
DTSTART:20271107T060000
END:STANDARD
END:VTIMEZONE
BEGIN:VEVENT
DTSTART;VALUE=DATE:20260505
DTEND;VALUE=DATE:20260506
DTSTAMP:20260419T144131
CREATED:20250906T233713Z
LAST-MODIFIED:20250906T233713Z
UID:10000491-1777939200-1778025599@excelnotes.com
SUMMARY:Children's Day (South Korea)
DESCRIPTION:Children's Day in South Korea was created by Bang Jeong-hwan in 1923\, and declared a national holiday in 1975. Today\, it is marked by family celebrations\, gifts\, and cultural events\, symbolizing both joy and the importance of children's rights. \nWhen is Children's Day?\nChildren's Day in South Korea is celebrated every year on May 5.  \nThe following is the list of Children's Day from 2020 to 2049. \n   \n\n                \n                \n                            \n                            \n                            \n                    \n        \n\n                                                        HolidayDateWeekday\n\n\n\n        \n            Children's DayMay 05\, 2020Tuesday        \n            \n            Children's DayMay 05\, 2021Wednesday        \n            \n            Children's DayMay 05\, 2022Thursday        \n            \n            Children's DayMay 05\, 2023Friday        \n            \n            Children's DayMay 05\, 2024Sunday        \n            \n            Children's DayMay 05\, 2025Monday        \n            \n            Children's DayMay 05\, 2026Tuesday        \n            \n            Children's DayMay 05\, 2027Wednesday        \n            \n            Children's DayMay 05\, 2028Friday        \n            \n            Children's DayMay 05\, 2029Saturday        \n            \n            Children's DayMay 05\, 2030Sunday        \n            \n            Children's DayMay 05\, 2031Monday        \n            \n            Children's DayMay 05\, 2032Wednesday        \n            \n            Children's DayMay 05\, 2033Thursday        \n            \n            Children's DayMay 05\, 2034Friday        \n            \n            Children's DayMay 05\, 2035Saturday        \n            \n            Children's DayMay 05\, 2036Monday        \n            \n            Children's DayMay 05\, 2037Tuesday        \n            \n            Children's DayMay 05\, 2038Wednesday        \n            \n            Children's DayMay 05\, 2039Thursday        \n            \n            Children's DayMay 05\, 2040Saturday        \n            \n            Children's DayMay 05\, 2041Sunday        \n            \n            Children's DayMay 05\, 2042Monday        \n            \n            Children's DayMay 05\, 2043Tuesday        \n            \n            Children's DayMay 05\, 2044Thursday        \n            \n            Children's DayMay 05\, 2045Friday        \n            \n            Children's DayMay 05\, 2046Saturday        \n            \n            Children's DayMay 05\, 2047Sunday        \n            \n            Children's DayMay 05\, 2048Tuesday        \n            \n            Children's DayMay 05\, 2049Wednesday        \n            \n                    \n    \n    \n    \n    \n    \n\n\nThe History of Children's Day?\nChildren's Day was first proposed in the 1920s by Bang Jeong-hwan (방정환)\, a children's rights activist\, writer and educator.  \nAt that time\, Korea was under Japanese colonial rule (1910–1945)\, and Bang wanted to improve respect for children\, who were often treated as "miniature adults" rather than individuals with rights. \nIn 1923\, Bang and other members of the Saekdonghoe (Association of the Rainbow Colors)\, a youth movement\, declared May 1 as the first Children's Day in Korea. \nThe colonial authorities viewed the movement as potentially nationalist and subversive\, since it encouraged Koreans to see children as future leaders of an independent nation. \nAs a result\, by the 1930s\, public celebrations of Children's Day were banned under Japanese rule. After Korea's liberation in 1945\, Children's Day was revived. \nIn 1946\, the holiday was officially reintroduced\, this time on May 5 (instead of May 1)\, to avoid overlap with International Labour Day. \nIn 1975\, the South Korean government officially designated May 5 as a national holiday. \nChildren's Day is not just a fun holiday but also a reminder of children's dignity\, rights and role as the nation's future.
URL:https://excelnotes.com/holiday/childrens-day-south-korea/
CATEGORIES:People
ATTACH;FMTTYPE=image/jpeg:https://excelnotes.com/wp-content/uploads/2025/09/Childrens-Day-South-Korea.jpg
END:VEVENT
BEGIN:VEVENT
DTSTART;VALUE=DATE:20260505
DTEND;VALUE=DATE:20260506
DTSTAMP:20260419T144131
CREATED:20251015T043119Z
LAST-MODIFIED:20251015T043153Z
UID:10000721-1777939200-1778025599@excelnotes.com
SUMMARY:Children's Day (Japan)
DESCRIPTION:Children's Day in Japan is a joyful national holiday dedicated to celebrating the happiness\, health\, and growth of children\, and honoring their individuality and potential. \nWhen is Children's Day?\nChildren's Day in Japan is observed on May 05 each year. \nThe following is the list of Children's Day from 2020 to 2049. \n   \n\n                \n                \n                            \n                            \n                            \n                    \n        \n\n                                                        HolidayDateWeekday\n\n\n\n        \n            Children's DayMay 05\, 2020Tuesday        \n            \n            Children's DayMay 05\, 2021Wednesday        \n            \n            Children's DayMay 05\, 2022Thursday        \n            \n            Children's DayMay 05\, 2023Friday        \n            \n            Children's DayMay 05\, 2024Sunday        \n            \n            Children's DayMay 05\, 2025Monday        \n            \n            Children's DayMay 05\, 2026Tuesday        \n            \n            Children's DayMay 05\, 2027Wednesday        \n            \n            Children's DayMay 05\, 2028Friday        \n            \n            Children's DayMay 05\, 2029Saturday        \n            \n            Children's DayMay 05\, 2030Sunday        \n            \n            Children's DayMay 05\, 2031Monday        \n            \n            Children's DayMay 05\, 2032Wednesday        \n            \n            Children's DayMay 05\, 2033Thursday        \n            \n            Children's DayMay 05\, 2034Friday        \n            \n            Children's DayMay 05\, 2035Saturday        \n            \n            Children's DayMay 05\, 2036Monday        \n            \n            Children's DayMay 05\, 2037Tuesday        \n            \n            Children's DayMay 05\, 2038Wednesday        \n            \n            Children's DayMay 05\, 2039Thursday        \n            \n            Children's DayMay 05\, 2040Saturday        \n            \n            Children's DayMay 05\, 2041Sunday        \n            \n            Children's DayMay 05\, 2042Monday        \n            \n            Children's DayMay 05\, 2043Tuesday        \n            \n            Children's DayMay 05\, 2044Thursday        \n            \n            Children's DayMay 05\, 2045Friday        \n            \n            Children's DayMay 05\, 2046Saturday        \n            \n            Children's DayMay 05\, 2047Sunday        \n            \n            Children's DayMay 05\, 2048Tuesday        \n            \n            Children's DayMay 05\, 2049Wednesday        \n    \n    \n    \n    \n    \n\n\nThe History of Children's Day?\nChildren's Day has evolved from ancient traditions into one of Japan's most beloved national holidays. Its roots stretch back over a thousand years to the Nara Period (710–794)\, when Japan adopted Chinese seasonal festivals known as sekku. May 5 became known as Tango no Sekku\, the "Boys' Festival"\, while March 3 was celebrated as the "Girls' Festival". \nDuring the Edo Period (1603–1868)\, Tango no Sekku became an important samurai celebration\, honoring boys' growth\, strength and the hope that they would grow into brave\, successful men. Families would display samurai armor\, helmets\, and warrior dolls to symbolize courage and protection. Outside\, they raised carp-shaped streamers\, inspired by Chinese legend: a carp that swims upstream transforms into a dragon\, symbolizing perseverance and achievement. \nAfter World War II\, in 1948\, Japan's postwar government redefined the holiday under the new constitution as Children's Day\, making it a national holiday for all children\, regardless of gender. The change reflected democratic ideals of equality\, peace and appreciation for children's happiness and families' well-being. \nToday\, Children's Day marks the final day of Golden Week\, a time of family gatherings\, festivals\, and outdoor celebrations. Carp streamers\, samurai dolls and the traditional sweet kashiwa mochi remain enduring symbols of love\, hope\, and strength for future generations.
URL:https://excelnotes.com/holiday/childrens-day-japan/
CATEGORIES:People
ATTACH;FMTTYPE=image/jpeg:https://excelnotes.com/wp-content/uploads/2025/10/Childrens-Day-Japan.jpg
END:VEVENT
BEGIN:VEVENT
DTSTART;VALUE=DATE:20260510
DTEND;VALUE=DATE:20260512
DTSTAMP:20260419T144131
CREATED:20251003T031024Z
LAST-MODIFIED:20251003T031024Z
UID:10000620-1778371200-1778543999@excelnotes.com
SUMMARY:Mother's Day (Samoa)
DESCRIPTION:Mother's Day in Samoa is one of the country's most cherished celebrations\, honoring mothers through church services\, family feasts\, and cultural traditions that highlight their central role in Samoan society. \nWhen is Mother's Day?\nIn Samoa\, Mother's Day is celebrated on the second Sunday in May each year\, and the following Monday is also declared a national public holiday. \nThe following is the list of Mother's Day Holiday (Monday) from 2020 to 2049. \n   \n\n                \n                \n                            \n                            \n                            \n                    \n        \n\n                                                        HolidayDateWeekday\n\n\n\n        \n            Mother's DayMay 11\, 2020Monday        \n            \n            Mother's DayMay 10\, 2021Monday        \n            \n            Mother's DayMay 09\, 2022Monday        \n            \n            Mother's DayMay 15\, 2023Monday        \n            \n            Mother's DayMay 13\, 2024Monday        \n            \n            Mother's DayMay 12\, 2025Monday        \n            \n            Mother's DayMay 11\, 2026Monday        \n            \n            Mother's DayMay 10\, 2027Monday        \n            \n            Mother's DayMay 15\, 2028Monday        \n            \n            Mother's DayMay 14\, 2029Monday        \n            \n            Mother's DayMay 13\, 2030Monday        \n            \n            Mother's DayMay 12\, 2031Monday        \n            \n            Mother's DayMay 10\, 2032Monday        \n            \n            Mother's DayMay 16\, 2033Monday        \n            \n            Mother's DayMay 15\, 2034Monday        \n            \n            Mother's DayMay 14\, 2035Monday        \n            \n            Mother's DayMay 12\, 2036Monday        \n            \n            Mother's DayMay 11\, 2037Monday        \n            \n            Mother's DayMay 10\, 2038Monday        \n            \n            Mother's DayMay 16\, 2039Monday        \n            \n            Mother's DayMay 14\, 2040Monday        \n            \n            Mother's DayMay 13\, 2041Monday        \n            \n            Mother's DayMay 12\, 2042Monday        \n            \n            Mother's DayMay 11\, 2043Monday        \n            \n            Mother's DayMay 16\, 2044Monday        \n            \n            Mother's DayMay 15\, 2045Monday        \n            \n            Mother's DayMay 14\, 2046Monday        \n            \n            Mother's DayMay 13\, 2047Monday        \n            \n            Mother's DayMay 11\, 2048Monday        \n            \n            Mother's DayMay 10\, 2049Monday        \n    \n    \n    \n    \n    \n\n\nThe History of Mother's Day?\nThe modern idea of Mother's Day began in the early 20th century\, popularized in the United States by Anna Jarvis in 1908 and later adopted internationally. Christian churches\, especially in the Pacific\, were early promoters of the celebration\, tying it to religious services and family values. \nSamoa\, with its strong Christian foundation and emphasis on family and respect for parents\, embraced Mother's Day early in the 20th century through church influence. \nBy the mid-1900s\, it had become a well-established observance in Samoan communities\, marked with special church services\, family gatherings and feasting. \nRecognizing the importance of mothers in both family life and Samoan society\, the Government of Samoa declared Mother's Day a public holiday\, making it unique among Pacific nations. \nMother's Day is one of Samoa's most beloved holidays\, blending Christian devotion\, Samoan cultural traditions and modern gifting customs. It symbolizes the central role of women and mothers in Samoan social life\, and the extra public holiday highlights how deeply valued motherhood is in the nation.
URL:https://excelnotes.com/holiday/mothers-day-samoa/
CATEGORIES:People
ATTACH;FMTTYPE=image/jpeg:https://excelnotes.com/wp-content/uploads/2025/10/Mothers-Day-Samoa.jpg
END:VEVENT
END:VCALENDAR