BEGIN:VCALENDAR
VERSION:2.0
PRODID:-//ExcelNotes - ECPv6.15.20//NONSGML v1.0//EN
CALSCALE:GREGORIAN
METHOD:PUBLISH
X-WR-CALNAME:ExcelNotes
X-ORIGINAL-URL:https://excelnotes.com
X-WR-CALDESC:Events for ExcelNotes
REFRESH-INTERVAL;VALUE=DURATION:PT1H
X-Robots-Tag:noindex
X-PUBLISHED-TTL:PT1H
BEGIN:VTIMEZONE
TZID:America/New_York
BEGIN:DAYLIGHT
TZOFFSETFROM:-0500
TZOFFSETTO:-0400
TZNAME:EDT
DTSTART:20250309T070000
END:DAYLIGHT
BEGIN:STANDARD
TZOFFSETFROM:-0400
TZOFFSETTO:-0500
TZNAME:EST
DTSTART:20251102T060000
END:STANDARD
BEGIN:DAYLIGHT
TZOFFSETFROM:-0500
TZOFFSETTO:-0400
TZNAME:EDT
DTSTART:20260308T070000
END:DAYLIGHT
BEGIN:STANDARD
TZOFFSETFROM:-0400
TZOFFSETTO:-0500
TZNAME:EST
DTSTART:20261101T060000
END:STANDARD
BEGIN:DAYLIGHT
TZOFFSETFROM:-0500
TZOFFSETTO:-0400
TZNAME:EDT
DTSTART:20270314T070000
END:DAYLIGHT
BEGIN:STANDARD
TZOFFSETFROM:-0400
TZOFFSETTO:-0500
TZNAME:EST
DTSTART:20271107T060000
END:STANDARD
END:VTIMEZONE
BEGIN:VEVENT
DTSTART;VALUE=DATE:20260505
DTEND;VALUE=DATE:20260506
DTSTAMP:20260420T170112
CREATED:20250914T044443Z
LAST-MODIFIED:20250914T044443Z
UID:10000564-1777939200-1778025599@excelnotes.com
SUMMARY:Liberation Day (Netherlands)
DESCRIPTION:Liberation Day marks the end of WWII occupation in the Netherlands. It is celebrated every year with ceremonies\, festivals\, and the Freedom Flame\, reminding the nation of the importance of peace and democracy. \nWhen is Liberation Day?\nLiberation Day in Netherlands is celebrated every year on May 5. \nThe following is the list of Liberation Day from 2020 to 2049. \n   \n\n                \n                \n                            \n                            \n                            \n                    \n        \n\n                                                        HolidayDateWeekday\n\n\n\n        \n            King's BirthdayApr 27\, 2020Monday        \n            \n            King's BirthdayApr 27\, 2021Tuesday        \n            \n            King's BirthdayApr 27\, 2022Wednesday        \n            \n            King's BirthdayApr 27\, 2023Thursday        \n            \n            King's BirthdayApr 27\, 2024Saturday        \n            \n            King's BirthdayApr 27\, 2025Sunday        \n            \n            King's BirthdayApr 27\, 2026Monday        \n            \n            King's BirthdayApr 27\, 2027Tuesday        \n            \n            King's BirthdayApr 27\, 2028Thursday        \n            \n            King's BirthdayApr 27\, 2029Friday        \n            \n            King's BirthdayApr 27\, 2030Saturday        \n            \n            King's BirthdayApr 27\, 2031Sunday        \n            \n            King's BirthdayApr 27\, 2032Tuesday        \n            \n            King's BirthdayApr 27\, 2033Wednesday        \n            \n            King's BirthdayApr 27\, 2034Thursday        \n            \n            King's BirthdayApr 27\, 2035Friday        \n            \n            King's BirthdayApr 27\, 2036Sunday        \n            \n            King's BirthdayApr 27\, 2037Monday        \n            \n            King's BirthdayApr 27\, 2038Tuesday        \n            \n            King's BirthdayApr 27\, 2039Wednesday        \n            \n            King's BirthdayApr 27\, 2040Friday        \n            \n            King's BirthdayApr 27\, 2041Saturday        \n            \n            King's BirthdayApr 27\, 2042Sunday        \n            \n            King's BirthdayApr 27\, 2043Monday        \n            \n            King's BirthdayApr 27\, 2044Wednesday        \n            \n            King's BirthdayApr 27\, 2045Thursday        \n            \n            King's BirthdayApr 27\, 2046Friday        \n            \n            King's BirthdayApr 27\, 2047Saturday        \n            \n            King's BirthdayApr 27\, 2048Monday        \n            \n            King's BirthdayApr 27\, 2049Tuesday        \n    \n    \n    \n    \n    \n\n\nThe History of Liberation Day?\nOn May 10\, 1940\, Nazi Germany invaded the Netherlands. After just five days of fighting\, the Dutch army surrendered on May 15\, 1940\, following the devastating bombing of Rotterdam. \nThe occupation lasted for five years\, bringing harsh repression\, persecution of Jews and resistance fighters\, forced labor\, and the Hunger Winter (1944–1945)\, which caused mass starvation. \nIn early May 1945\, Allied forces advanced into the Netherlands.  \nOn May 4\, 1945\, German forces in the Netherlands\, Northwest Germany\, and Denmark surrendered to Field Marshal Bernard Montgomery in Lüneburg Heath\, Germany. \nOn May 5\, 1945\, at Wageningen\, German commander General Blaskowitz and Canadian General Charles Foulkes negotiated the final surrender of German forces in the Netherlands. \nThis marked the official liberation of the Netherlands. \nThe first Liberation Day celebrations were held on May 5\, 1945\, immediately after the surrender.  \nInitially\, each year emphasized remembrance of liberation and the gratitude toward Allied soldiers\, especially the Canadians\, who played a key role. \nIn 1946\, May 5 was declared an annual day of national celebration. \nIn 1960\, it was decided that official nationwide celebrations would be held once every five years (e.g.\, 1960\, 1965\, 1970). \nIn 1990\, the Dutch government declared Liberation Day a national holiday every year\, but it is only a mandatory day off work once every five years.
URL:https://excelnotes.com/holiday/liberation-day-netherlands/
CATEGORIES:Historical Holiday,War
ATTACH;FMTTYPE=image/jpeg:https://excelnotes.com/wp-content/uploads/2025/09/Liberation-Day-Netherlands.jpg
END:VEVENT
END:VCALENDAR