BEGIN:VCALENDAR
VERSION:2.0
PRODID:-//ExcelNotes - ECPv6.15.20//NONSGML v1.0//EN
CALSCALE:GREGORIAN
METHOD:PUBLISH
X-WR-CALNAME:ExcelNotes
X-ORIGINAL-URL:https://excelnotes.com
X-WR-CALDESC:Events for ExcelNotes
REFRESH-INTERVAL;VALUE=DURATION:PT1H
X-Robots-Tag:noindex
X-PUBLISHED-TTL:PT1H
BEGIN:VTIMEZONE
TZID:America/New_York
BEGIN:DAYLIGHT
TZOFFSETFROM:-0500
TZOFFSETTO:-0400
TZNAME:EDT
DTSTART:20250309T070000
END:DAYLIGHT
BEGIN:STANDARD
TZOFFSETFROM:-0400
TZOFFSETTO:-0500
TZNAME:EST
DTSTART:20251102T060000
END:STANDARD
BEGIN:DAYLIGHT
TZOFFSETFROM:-0500
TZOFFSETTO:-0400
TZNAME:EDT
DTSTART:20260308T070000
END:DAYLIGHT
BEGIN:STANDARD
TZOFFSETFROM:-0400
TZOFFSETTO:-0500
TZNAME:EST
DTSTART:20261101T060000
END:STANDARD
BEGIN:DAYLIGHT
TZOFFSETFROM:-0500
TZOFFSETTO:-0400
TZNAME:EDT
DTSTART:20270314T070000
END:DAYLIGHT
BEGIN:STANDARD
TZOFFSETFROM:-0400
TZOFFSETTO:-0500
TZNAME:EST
DTSTART:20271107T060000
END:STANDARD
END:VTIMEZONE
BEGIN:VEVENT
DTSTART;VALUE=DATE:20260425
DTEND;VALUE=DATE:20260426
DTSTAMP:20260419T145023
CREATED:20251004T151140Z
LAST-MODIFIED:20251004T151435Z
UID:10000641-1777075200-1777161599@excelnotes.com
SUMMARY:Liberation Day (Italy)
DESCRIPTION:Liberation Day in Italy commemorates the end of Nazi occupation and the fall of Mussolini's Fascist regime in 1945\, marking Italy's liberation during World War II. The day honors the Italian Resistance who fought for freedom and democracy. Across Italy\, parades\, concerts and ceremonies take place to celebrate peace\, unity and the nation's rebirth as a republic. \nWhen is Liberation Day?\nLiberation Day in Italy is celebrated on April 25 each year.  \nThe following is the list of Liberation Day from 2020 to 2049. \n   \n\n                \n                \n                            \n                            \n                            \n                    \n        \n\n                                                        HolidayDateWeekday\n\n\n\n        \n            Liberation DayApr 25\, 2020Saturday        \n            \n            Liberation DayApr 25\, 2021Sunday        \n            \n            Liberation DayApr 25\, 2022Monday        \n            \n            Liberation DayApr 25\, 2023Tuesday        \n            \n            Liberation DayApr 25\, 2024Thursday        \n            \n            Liberation DayApr 25\, 2025Friday        \n            \n            Liberation DayApr 25\, 2026Saturday        \n            \n            Liberation DayApr 25\, 2027Sunday        \n            \n            Liberation DayApr 25\, 2028Tuesday        \n            \n            Liberation DayApr 25\, 2029Wednesday        \n            \n            Liberation DayApr 25\, 2030Thursday        \n            \n            Liberation DayApr 25\, 2031Friday        \n            \n            Liberation DayApr 25\, 2032Sunday        \n            \n            Liberation DayApr 25\, 2033Monday        \n            \n            Liberation DayApr 25\, 2034Tuesday        \n            \n            Liberation DayApr 25\, 2035Wednesday        \n            \n            Liberation DayApr 25\, 2036Friday        \n            \n            Liberation DayApr 25\, 2037Saturday        \n            \n            Liberation DayApr 25\, 2038Sunday        \n            \n            Liberation DayApr 25\, 2039Monday        \n            \n            Liberation DayApr 25\, 2040Wednesday        \n            \n            Liberation DayApr 25\, 2041Thursday        \n            \n            Liberation DayApr 25\, 2042Friday        \n            \n            Liberation DayApr 25\, 2043Saturday        \n            \n            Liberation DayApr 25\, 2044Monday        \n            \n            Liberation DayApr 25\, 2045Tuesday        \n            \n            Liberation DayApr 25\, 2046Wednesday        \n            \n            Liberation DayApr 25\, 2047Thursday        \n            \n            Liberation DayApr 25\, 2048Saturday        \n            \n            Liberation DayApr 25\, 2049Sunday        \n    \n    \n    \n    \n    \n\n\nThe History of Liberation Day?\nDuring World War II\, Italy was originally aligned with Nazi Germany under Benito Mussolini's Fascist regime. In July 1943\, Mussolini was deposed and arrested\, and the new Italian government signed an armistice with the Allies on September 8\, 1943. \nHowever\, Germany quickly invaded northern and central Italy\, freeing Mussolini and setting up a puppet state—the Italian Social Republic—based in Salò\, northern Italy. From 1943 to 1945\, Italy was divided: the south under Allied control and the north under Nazi and Fascist forces. \nIn response to the occupation\, Italian citizens formed the Resistance\, a broad alliance of partisans from diverse political backgrounds: communists\, socialists\, Catholics\, liberals and monarchists. These groups carried out sabotage\, intelligence and guerrilla warfare against Nazi troops and Fascist militias. The National Liberation Committee (CLN) coordinated the resistance and served as a provisional political authority. \nOn April 25\, 1945\, the National Liberation Committee (CLN) in Milan called for a general uprising across northern Italy. Cities including Milan\, Turin\, and Genoa were liberated by partisans before Allied troops arrived.  \nWithin days\, Mussolini was captured and executed (April 28\, 1945). The liberation marked the end of Nazi occupation and the collapse of Fascism in Italy. \nIn 1946\, the Italian government declared April 25 a national holiday to commemorate liberation and honor those who fought for freedom. It became a lasting symbol of Italy's transition from dictatorship to democracy and its path toward becoming a republic.
URL:https://excelnotes.com/holiday/liberation-day-italy/
CATEGORIES:Historical Holiday
ATTACH;FMTTYPE=image/jpeg:https://excelnotes.com/wp-content/uploads/2025/10/Liberation-Day-Italy.jpg
END:VEVENT
BEGIN:VEVENT
DTSTART;VALUE=DATE:20260425
DTEND;VALUE=DATE:20260426
DTSTAMP:20260419T145023
CREATED:20251005T173849Z
LAST-MODIFIED:20251005T173849Z
UID:10000655-1777075200-1777161599@excelnotes.com
SUMMARY:Liberty Day (Portugal)
DESCRIPTION:Liberty Day in Portugal marks the anniversary of the Carnation Revolution of 1974\, which peacefully ended decades of dictatorship under the Estado Novo regime. It symbolizes freedom\, democracy\, and national renewal. On this day\, soldiers placed red carnations in their rifles\, and citizens flooded the streets to celebrate without violence.  \nWhen is Liberty Day?\nLiberty Day in Portugal is celebrated on April 25 every year.  \nThe following is the list of Liberty Day from 2020 to 2049. \n   \n\n                \n                \n                            \n                            \n                            \n                    \n        \n\n                                                        HolidayDateWeekday\n\n\n\n        \n            Liberty DayApr 25\, 2020Saturday        \n            \n            Liberty DayApr 25\, 2021Sunday        \n            \n            Liberty DayApr 25\, 2022Monday        \n            \n            Liberty DayApr 25\, 2023Tuesday        \n            \n            Liberty DayApr 25\, 2024Thursday        \n            \n            Liberty DayApr 25\, 2025Friday        \n            \n            Liberty DayApr 25\, 2026Saturday        \n            \n            Liberty DayApr 25\, 2027Sunday        \n            \n            Liberty DayApr 25\, 2028Tuesday        \n            \n            Liberty DayApr 25\, 2029Wednesday        \n            \n            Liberty DayApr 25\, 2030Thursday        \n            \n            Liberty DayApr 25\, 2031Friday        \n            \n            Liberty DayApr 25\, 2032Sunday        \n            \n            Liberty DayApr 25\, 2033Monday        \n            \n            Liberty DayApr 25\, 2034Tuesday        \n            \n            Liberty DayApr 25\, 2035Wednesday        \n            \n            Liberty DayApr 25\, 2036Friday        \n            \n            Liberty DayApr 25\, 2037Saturday        \n            \n            Liberty DayApr 25\, 2038Sunday        \n            \n            Liberty DayApr 25\, 2039Monday        \n            \n            Liberty DayApr 25\, 2040Wednesday        \n            \n            Liberty DayApr 25\, 2041Thursday        \n            \n            Liberty DayApr 25\, 2042Friday        \n            \n            Liberty DayApr 25\, 2043Saturday        \n            \n            Liberty DayApr 25\, 2044Monday        \n            \n            Liberty DayApr 25\, 2045Tuesday        \n            \n            Liberty DayApr 25\, 2046Wednesday        \n            \n            Liberty DayApr 25\, 2047Thursday        \n            \n            Liberty DayApr 25\, 2048Saturday        \n            \n            Liberty DayApr 25\, 2049Sunday        \n    \n    \n    \n    \n    \n\n\nThe History of Liberty Day?\nFrom 1933 to 1974\, Portugal was ruled by the Estado Novo (New State)\, an authoritarian regime established by António de Oliveira Salazar. The regime promoted nationalism\, censorship\, and political repression\, banning opposition parties and independent unions. Citizens were monitored by the secret police (PIDE)\, and dissent was often punished. \nOn April 25\, 1974\, a peaceful military coup organized by the Armed Forces Movement overthrew the Estado Novo regime. The revolution began in the early morning. Soldiers and tanks took control of key points in Lisbon\, including radio stations\, airports\, and government buildings\, facing minimal resistance. \nOrdinary citizens joined the soldiers in the streets\, offering them red carnations\, which they placed in their rifle barrels and on their uniforms\, giving the revolution its name "The Carnation Revolution". By the end of the day\, the dictatorship had collapsed\, Prime Minister Marcelo Caetano surrendered\, and political prisoners were freed. \nThe revolution marked the end of 48 years of dictatorship and initiated a transition toward democracy and decolonization. In 1975\, Portugal held its first free elections in half a century to elect the Constituent Assembly\, which drafted a new democratic constitution adopted in 1976. The revolution also led to the independence of Portugal's African colonies\, ending the long colonial wars. \nApril 25 was declared Liberty Day\, a national holiday honoring the revolution and the restoration of democratic freedoms. It commemorates the courage of the soldiers and civilians who ended the dictatorship without widespread violence. \nLiberty Day stands as one of Portugal's most meaningful national holidays\, a day when the nation remembers that even the most repressive systems can be overthrown through unity\, courage and peace.
URL:https://excelnotes.com/holiday/liberty-day-portugal/
CATEGORIES:Historical Holiday
ATTACH;FMTTYPE=image/jpeg:https://excelnotes.com/wp-content/uploads/2025/10/Liberty-Day-Portugal.jpg
END:VEVENT
END:VCALENDAR