BEGIN:VCALENDAR
VERSION:2.0
PRODID:-//ExcelNotes - ECPv6.15.20//NONSGML v1.0//EN
CALSCALE:GREGORIAN
METHOD:PUBLISH
X-ORIGINAL-URL:https://excelnotes.com
X-WR-CALDESC:Events for ExcelNotes
REFRESH-INTERVAL;VALUE=DURATION:PT1H
X-Robots-Tag:noindex
X-PUBLISHED-TTL:PT1H
BEGIN:VTIMEZONE
TZID:America/New_York
BEGIN:DAYLIGHT
TZOFFSETFROM:-0500
TZOFFSETTO:-0400
TZNAME:EDT
DTSTART:20250309T070000
END:DAYLIGHT
BEGIN:STANDARD
TZOFFSETFROM:-0400
TZOFFSETTO:-0500
TZNAME:EST
DTSTART:20251102T060000
END:STANDARD
BEGIN:DAYLIGHT
TZOFFSETFROM:-0500
TZOFFSETTO:-0400
TZNAME:EDT
DTSTART:20260308T070000
END:DAYLIGHT
BEGIN:STANDARD
TZOFFSETFROM:-0400
TZOFFSETTO:-0500
TZNAME:EST
DTSTART:20261101T060000
END:STANDARD
BEGIN:DAYLIGHT
TZOFFSETFROM:-0500
TZOFFSETTO:-0400
TZNAME:EDT
DTSTART:20270314T070000
END:DAYLIGHT
BEGIN:STANDARD
TZOFFSETFROM:-0400
TZOFFSETTO:-0500
TZNAME:EST
DTSTART:20271107T060000
END:STANDARD
END:VTIMEZONE
BEGIN:VEVENT
DTSTART;VALUE=DATE:20260409
DTEND;VALUE=DATE:20260410
DTSTAMP:20260419T145226
CREATED:20250913T230942Z
LAST-MODIFIED:20250913T230942Z
UID:10000548-1775692800-1775779199@excelnotes.com
SUMMARY:Araw ng Kagitingan
DESCRIPTION:Araw ng Kagitingan commemorates the Fall of Bataan in 1942 and honors the Filipino and American soldiers who fought in WWII and endured the Bataan Death March. Established officially in 1961\, it remains a day of remembrance for sacrifice\, heroism and resilience. \nWhen is Araw ng Kagitingan?\nAraw ng Kagitingan is celebrated on April 9 every year.  \nThe following is the list of Araw ng Kagitingan from 2020 to 2049. \n   \n\n                \n                \n                            \n                            \n                            \n                    \n        \n\n                                                        HolidayDateWeekday\n\n\n\n        \n            Araw ng KagitinganApr 09\, 2020Thursday        \n            \n            Araw ng KagitinganApr 09\, 2021Friday        \n            \n            Araw ng KagitinganApr 09\, 2022Saturday        \n            \n            Araw ng KagitinganApr 09\, 2023Sunday        \n            \n            Araw ng KagitinganApr 09\, 2024Tuesday        \n            \n            Araw ng KagitinganApr 09\, 2025Wednesday        \n            \n            Araw ng KagitinganApr 09\, 2026Thursday        \n            \n            Araw ng KagitinganApr 09\, 2027Friday        \n            \n            Araw ng KagitinganApr 09\, 2028Sunday        \n            \n            Araw ng KagitinganApr 09\, 2029Monday        \n            \n            Araw ng KagitinganApr 09\, 2030Tuesday        \n            \n            Araw ng KagitinganApr 09\, 2031Wednesday        \n            \n            Araw ng KagitinganApr 09\, 2032Friday        \n            \n            Araw ng KagitinganApr 09\, 2033Saturday        \n            \n            Araw ng KagitinganApr 09\, 2034Sunday        \n            \n            Araw ng KagitinganApr 09\, 2035Monday        \n            \n            Araw ng KagitinganApr 09\, 2036Wednesday        \n            \n            Araw ng KagitinganApr 09\, 2037Thursday        \n            \n            Araw ng KagitinganApr 09\, 2038Friday        \n            \n            Araw ng KagitinganApr 09\, 2039Saturday        \n            \n            Araw ng KagitinganApr 09\, 2040Monday        \n            \n            Araw ng KagitinganApr 09\, 2041Tuesday        \n            \n            Araw ng KagitinganApr 09\, 2042Wednesday        \n            \n            Araw ng KagitinganApr 09\, 2043Thursday        \n            \n            Araw ng KagitinganApr 09\, 2044Saturday        \n            \n            Araw ng KagitinganApr 09\, 2045Sunday        \n            \n            Araw ng KagitinganApr 09\, 2046Monday        \n            \n            Araw ng KagitinganApr 09\, 2047Tuesday        \n            \n            Araw ng KagitinganApr 09\, 2048Thursday        \n            \n            Araw ng KagitinganApr 09\, 2049Friday        \n    \n    \n    \n    \n    \n\n\nThe History of Araw ng Kagitingan?\nDuring World War II\, the Philippines (then a U.S. Commonwealth) was invaded by Japanese forces in December 1941\, shortly after the attack on Pearl Harbor. \nFilipino and American troops under the United States Armed Forces in the Far East (USAFFE) defended Bataan and Corregidor\, fighting despite being outnumbered and undersupplied. \nAfter months of resistance\, the defenders of Bataan could no longer hold out.  \nOn April 9\, 1942\, around 76\,000 soldiers (12\,000 Americans and 64\,000 Filipinos) surrendered to the Japanese. This surrender led to the Bataan Death March\, a forced 100-kilometer march from Bataan to prison camps in Capas\, Tarlac. During the march\, thousands died due to starvation\, exhaustion\, disease\, and brutal treatment by Japanese captors. \nThe defenders of Bataan and Corregidor became enduring symbols of bravery\, sacrifice\, and resilience. In 1942\, U.S. President Franklin D. Roosevelt praised the Filipino and American defenders for their courage\, calling them heroes of democracy. \nAfter the war\, the Philippines sought to officially honor the sacrifices of WWII soldiers. In 1961\, President Diosdado Macapagal declared April 9 as Bataan Day. \nIt was later renamed Araw ng Kagitingan (Day of Valor) to highlight the gallantry not just of those in Bataan but of all Filipino veterans who defended the country.
URL:https://excelnotes.com/holiday/araw-ng-kagitingan/
CATEGORIES:Historical Holiday,War
ATTACH;FMTTYPE=image/jpeg:https://excelnotes.com/wp-content/uploads/2025/09/Araw-ng-Kagitingan.jpg
END:VEVENT
END:VCALENDAR