BEGIN:VCALENDAR
VERSION:2.0
PRODID:-//ExcelNotes - ECPv6.15.20//NONSGML v1.0//EN
CALSCALE:GREGORIAN
METHOD:PUBLISH
X-WR-CALNAME:ExcelNotes
X-ORIGINAL-URL:https://excelnotes.com
X-WR-CALDESC:Events for ExcelNotes
REFRESH-INTERVAL;VALUE=DURATION:PT1H
X-Robots-Tag:noindex
X-PUBLISHED-TTL:PT1H
BEGIN:VTIMEZONE
TZID:America/New_York
BEGIN:DAYLIGHT
TZOFFSETFROM:-0500
TZOFFSETTO:-0400
TZNAME:EDT
DTSTART:20250309T070000
END:DAYLIGHT
BEGIN:STANDARD
TZOFFSETFROM:-0400
TZOFFSETTO:-0500
TZNAME:EST
DTSTART:20251102T060000
END:STANDARD
BEGIN:DAYLIGHT
TZOFFSETFROM:-0500
TZOFFSETTO:-0400
TZNAME:EDT
DTSTART:20260308T070000
END:DAYLIGHT
BEGIN:STANDARD
TZOFFSETFROM:-0400
TZOFFSETTO:-0500
TZNAME:EST
DTSTART:20261101T060000
END:STANDARD
BEGIN:DAYLIGHT
TZOFFSETFROM:-0500
TZOFFSETTO:-0400
TZNAME:EDT
DTSTART:20270314T070000
END:DAYLIGHT
BEGIN:STANDARD
TZOFFSETFROM:-0400
TZOFFSETTO:-0500
TZNAME:EST
DTSTART:20271107T060000
END:STANDARD
END:VTIMEZONE
BEGIN:VEVENT
DTSTART;VALUE=DATE:20260331
DTEND;VALUE=DATE:20260401
DTSTAMP:20260419T094500
CREATED:20250421T010654Z
LAST-MODIFIED:20250421T010654Z
UID:10000276-1774915200-1775001599@excelnotes.com
SUMMARY:Transfer Day (US Virgin Islands)
DESCRIPTION:Transfer Day in the U.S. Virgin Islands commemorates the transfer of the islands from Denmark to the United States in 1917\, marking a major historical turning point for the territory. \nWhen is Transfer Day?\nTransfer Day is observed every year on March 31. \nThe following is the list of Transfer Day from 2020 to 2049. \n   \n\n                \n                \n                            \n                            \n                            \n                    \n        \n\n                                                        HolidayDateWeekday\n\n\n\n        \n            Transfer DayMar 31\, 2020Tuesday        \n            \n            Transfer DayMar 31\, 2021Wednesday        \n            \n            Transfer DayMar 31\, 2022Thursday        \n            \n            Transfer DayMar 31\, 2023Friday        \n            \n            Transfer DayMar 31\, 2024Sunday        \n            \n            Transfer DayMar 31\, 2025Monday        \n            \n            Transfer DayMar 31\, 2026Tuesday        \n            \n            Transfer DayMar 31\, 2027Wednesday        \n            \n            Transfer DayMar 31\, 2028Friday        \n            \n            Transfer DayMar 31\, 2029Saturday        \n            \n            Transfer DayMar 31\, 2030Sunday        \n            \n            Transfer DayMar 31\, 2031Monday        \n            \n            Transfer DayMar 31\, 2032Wednesday        \n            \n            Transfer DayMar 31\, 2033Thursday        \n            \n            Transfer DayMar 31\, 2034Friday        \n            \n            Transfer DayMar 31\, 2035Saturday        \n            \n            Transfer DayMar 31\, 2036Monday        \n            \n            Transfer DayMar 31\, 2037Tuesday        \n            \n            Transfer DayMar 31\, 2038Wednesday        \n            \n            Transfer DayMar 31\, 2039Thursday        \n            \n            Transfer DayMar 31\, 2040Saturday        \n            \n            Transfer DayMar 31\, 2041Sunday        \n            \n            Transfer DayMar 31\, 2042Monday        \n            \n            Transfer DayMar 31\, 2043Tuesday        \n            \n            Transfer DayMar 31\, 2044Thursday        \n            \n            Transfer DayMar 31\, 2045Friday        \n            \n            Transfer DayMar 31\, 2046Saturday        \n            \n            Transfer DayMar 31\, 2047Sunday        \n            \n            Transfer DayMar 31\, 2048Tuesday        \n            \n            Transfer DayMar 31\, 2049Wednesday        \n    \n    \n    \n    \n    \n\n\nThe History of Transfer Day?\nDenmark colonized the islands beginning in the 17th century: St. Thomas (1671)\, St. John (1718)\, and later purchased St. Croix from France (1733). \nUnder Danish rule\, the islands became central to sugar production and the transatlantic slave trade. Slavery was abolished in 1848\, but the islands remained under Danish control\, with limited rights for the majority Black population. \nIn the early 1900s\, the U.S. government saw strategic value in the islands\, particularly to protect shipping lanes near the Panama Canal during World War I. \nA treaty was signed on August 4\, 1916\, in which the U.S. agreed to purchase the islands from Denmark for $25 million in gold. The formal Transfer Ceremony occurred on March 31\, 1917. \nInitially\, the islands were governed by the U.S. Navy until 1931. In 1954\, the U.S. Congress passed the Revised Organic Act\, giving the territory a civil government and greater autonomy. \nU.S. citizenship was granted to Virgin Islanders in 1927. Today\, the U.S. Virgin Islands remain an unincorporated territory\, with representation in Congress through a non-voting delegate. \nTransfer Day is a public holiday\, particularly celebrated on St. Thomas\, and it's a time for reflection on colonial history\, cultural identity\, and the ongoing conversation about self-determination and political status.
URL:https://excelnotes.com/holiday/transfer-day-us-virgin-islands/
CATEGORIES:Historical Holiday
ATTACH;FMTTYPE=image/jpeg:https://excelnotes.com/wp-content/uploads/2025/04/Transfer-Day-US-Virgin-Islands.jpg
END:VEVENT
END:VCALENDAR