BEGIN:VCALENDAR
VERSION:2.0
PRODID:-//ExcelNotes - ECPv6.15.20//NONSGML v1.0//EN
CALSCALE:GREGORIAN
METHOD:PUBLISH
X-ORIGINAL-URL:https://excelnotes.com
X-WR-CALDESC:Events for ExcelNotes
REFRESH-INTERVAL;VALUE=DURATION:PT1H
X-Robots-Tag:noindex
X-PUBLISHED-TTL:PT1H
BEGIN:VTIMEZONE
TZID:America/New_York
BEGIN:DAYLIGHT
TZOFFSETFROM:-0500
TZOFFSETTO:-0400
TZNAME:EDT
DTSTART:20250309T070000
END:DAYLIGHT
BEGIN:STANDARD
TZOFFSETFROM:-0400
TZOFFSETTO:-0500
TZNAME:EST
DTSTART:20251102T060000
END:STANDARD
BEGIN:DAYLIGHT
TZOFFSETFROM:-0500
TZOFFSETTO:-0400
TZNAME:EDT
DTSTART:20260308T070000
END:DAYLIGHT
BEGIN:STANDARD
TZOFFSETFROM:-0400
TZOFFSETTO:-0500
TZNAME:EST
DTSTART:20261101T060000
END:STANDARD
BEGIN:DAYLIGHT
TZOFFSETFROM:-0500
TZOFFSETTO:-0400
TZNAME:EDT
DTSTART:20270314T070000
END:DAYLIGHT
BEGIN:STANDARD
TZOFFSETFROM:-0400
TZOFFSETTO:-0500
TZNAME:EST
DTSTART:20271107T060000
END:STANDARD
END:VTIMEZONE
BEGIN:VEVENT
DTSTART;VALUE=DATE:20260320
DTEND;VALUE=DATE:20260321
DTSTAMP:20260420T031034
CREATED:20250703T054625Z
LAST-MODIFIED:20250703T062520Z
UID:10000354-1773964800-1774051199@excelnotes.com
SUMMARY:Independence Day in Tunisia
DESCRIPTION:Independence Day marks the day in 1956 when Tunisia officially gained independence from French colonial rule after 75 years as a protectorate. It is one of Tunisia's most important national holidays and a symbol of sovereignty and national unity. \nWhen is Independence Day?\nIndependence Day in Tunisia is celebrated annually on March 20.  \nThe following is the list of Independence Day from 2020 to 2049. \n   \n\n                \n                \n                            \n                            \n                            \n                    \n        \n\n                                                        HolidayDateWeekday\n\n\n\n        \n            Independence DayMar 20\, 2020Friday        \n            \n            Independence DayMar 20\, 2021Saturday        \n            \n            Independence DayMar 20\, 2022Sunday        \n            \n            Independence DayMar 20\, 2023Monday        \n            \n            Independence DayMar 20\, 2024Wednesday        \n            \n            Independence DayMar 20\, 2025Thursday        \n            \n            Independence DayMar 20\, 2026Friday        \n            \n            Independence DayMar 20\, 2027Saturday        \n            \n            Independence DayMar 20\, 2028Monday        \n            \n            Independence DayMar 20\, 2029Tuesday        \n            \n            Independence DayMar 20\, 2030Wednesday        \n            \n            Independence DayMar 20\, 2031Thursday        \n            \n            Independence DayMar 20\, 2032Saturday        \n            \n            Independence DayMar 20\, 2033Sunday        \n            \n            Independence DayMar 20\, 2034Monday        \n            \n            Independence DayMar 20\, 2035Tuesday        \n            \n            Independence DayMar 20\, 2036Thursday        \n            \n            Independence DayMar 20\, 2037Friday        \n            \n            Independence DayMar 20\, 2038Saturday        \n            \n            Independence DayMar 20\, 2039Sunday        \n            \n            Independence DayMar 20\, 2040Tuesday        \n            \n            Independence DayMar 20\, 2041Wednesday        \n            \n            Independence DayMar 20\, 2042Thursday        \n            \n            Independence DayMar 20\, 2043Friday        \n            \n            Independence DayMar 20\, 2044Sunday        \n            \n            Independence DayMar 20\, 2045Monday        \n            \n            Independence DayMar 20\, 2046Tuesday        \n            \n            Independence DayMar 20\, 2047Wednesday        \n            \n            Independence DayMar 20\, 2048Friday        \n            \n            Independence DayMar 20\, 2049Saturday        \n    \n    \n    \n    \n    \n\n\nThe History of Independence Day?\nTunisia became a French protectorate in 1881 through the Treaty of Bardo. Although the Husainid Beys remained as figureheads\, France held real political and military control. \nIn early 1900s\, Educated Tunisians began to call for reforms and greater autonomy. \nIn 1920\, the Destour Party was formed to push for constitutional rights. \nIn 1934\, Habib Bourguiba and other young activists broke away to form the Neo Destour Party\, which took a more assertive stance for complete independence. Bourguiba became the face of the anti-colonial movement\, advocating for freedom through both diplomacy and mass mobilization. \nWorld War II weakened European powers\, including France\, and bolstered independence movements across Africa and the Middle East. \nFrom 1952–1954\, a violent nationalist uprising occurred in Tunisia\, with crackdowns\, arrests and mounting international pressure. \nIn 1954\, France began formal negotiations with Tunisian leaders. After sustained efforts and compromises\, France agreed to grant Tunisia full independence. \nOn March 20\, 1956\, France officially recognized Tunisia's independence. The Husainid monarchy remained\, but the new Constituent Assembly formed a government led by Habib Bourguiba. \nIn 1957\, Tunisia abolished the monarchy and became a republic\, with Bourguiba becoming its first president.
URL:https://excelnotes.com/holiday/independence-day-tunisia/
CATEGORIES:Historical Holiday
ATTACH;FMTTYPE=image/jpeg:https://excelnotes.com/wp-content/uploads/2025/07/Independence-Day-in-Tunisia.jpg
END:VEVENT
END:VCALENDAR